BEGIN:VCALENDAR
VERSION:2.0
PRODID:-//Proelia - ECPv6.5.0//NONSGML v1.0//EN
CALSCALE:GREGORIAN
METHOD:PUBLISH
X-ORIGINAL-URL:https://ksproelia.pl
X-WR-CALDESC:Wydarzenia dla Proelia
REFRESH-INTERVAL;VALUE=DURATION:PT1H
X-Robots-Tag:noindex
X-PUBLISHED-TTL:PT1H
BEGIN:VTIMEZONE
TZID:Europe/Warsaw
BEGIN:DAYLIGHT
TZOFFSETFROM:+0100
TZOFFSETTO:+0200
TZNAME:CEST
DTSTART:20260329T010000
END:DAYLIGHT
BEGIN:STANDARD
TZOFFSETFROM:+0200
TZOFFSETTO:+0100
TZNAME:CET
DTSTART:20261025T010000
END:STANDARD
END:VTIMEZONE
BEGIN:VEVENT
DTSTART;TZID=Europe/Warsaw:20260303T180000
DTEND;TZID=Europe/Warsaw:20260303T210000
DTSTAMP:20260421T114344
CREATED:20251223T094719Z
LAST-MODIFIED:20251223T094719Z
UID:10001824-1772560800-1772571600@ksproelia.pl
SUMMARY:Spotkania klubu strzeleckiego
DESCRIPTION:
URL:https://ksproelia.pl/event/spotkania-klubu-strzeleckiego-3-2-2-2-2/2026-03-03/
LOCATION:Strzelnica FSO\, ul. Jagiellońska 88/10\, Warszawa\, 00-992\, Poland
END:VEVENT
BEGIN:VEVENT
DTSTART;TZID=Europe/Warsaw:20260305T180000
DTEND;TZID=Europe/Warsaw:20260305T210000
DTSTAMP:20260421T114344
CREATED:20250618T091531Z
LAST-MODIFIED:20250618T091710Z
UID:10001882-1772733600-1772744400@ksproelia.pl
SUMMARY:Spotkania klubu strzeleckiego
DESCRIPTION:
URL:https://ksproelia.pl/event/spotkania-klubu-strzeleckiego-3-2-3/2026-03-05/
LOCATION:Strzelnica FSO\, ul. Jagiellońska 88/10\, Warszawa\, 00-992\, Poland
END:VEVENT
BEGIN:VEVENT
DTSTART;TZID=Europe/Warsaw:20260310T180000
DTEND;TZID=Europe/Warsaw:20260310T210000
DTSTAMP:20260421T114344
CREATED:20251223T094719Z
LAST-MODIFIED:20251223T094719Z
UID:10001825-1773165600-1773176400@ksproelia.pl
SUMMARY:Spotkania klubu strzeleckiego
DESCRIPTION:
URL:https://ksproelia.pl/event/spotkania-klubu-strzeleckiego-3-2-2-2-2/2026-03-10/
LOCATION:Strzelnica FSO\, ul. Jagiellońska 88/10\, Warszawa\, 00-992\, Poland
END:VEVENT
BEGIN:VEVENT
DTSTART;TZID=Europe/Warsaw:20260312T180000
DTEND;TZID=Europe/Warsaw:20260312T210000
DTSTAMP:20260421T114344
CREATED:20250618T091531Z
LAST-MODIFIED:20250618T091710Z
UID:10001883-1773338400-1773349200@ksproelia.pl
SUMMARY:Spotkania klubu strzeleckiego
DESCRIPTION:
URL:https://ksproelia.pl/event/spotkania-klubu-strzeleckiego-3-2-3/2026-03-12/
LOCATION:Strzelnica FSO\, ul. Jagiellońska 88/10\, Warszawa\, 00-992\, Poland
END:VEVENT
BEGIN:VEVENT
DTSTART;VALUE=DATE:20260314
DTEND;VALUE=DATE:20260316
DTSTAMP:20260421T114344
CREATED:20260228T061546Z
LAST-MODIFIED:20260228T061546Z
UID:10002232-1773446400-1773619199@ksproelia.pl
SUMMARY:Kurs Prowadzącego Strzelanie
DESCRIPTION:
URL:https://ksproelia.pl/event/kurs-prowadzacego-strzelanie-5/
LOCATION:Strzelnica FSO\, ul. Jagiellońska 88/10\, Warszawa\, 00-992\, Poland
END:VEVENT
BEGIN:VEVENT
DTSTART;TZID=Europe/Warsaw:20260317T180000
DTEND;TZID=Europe/Warsaw:20260317T210000
DTSTAMP:20260421T114344
CREATED:20251223T094719Z
LAST-MODIFIED:20251223T094719Z
UID:10001826-1773770400-1773781200@ksproelia.pl
SUMMARY:Spotkania klubu strzeleckiego
DESCRIPTION:
URL:https://ksproelia.pl/event/spotkania-klubu-strzeleckiego-3-2-2-2-2/2026-03-17/
LOCATION:Strzelnica FSO\, ul. Jagiellońska 88/10\, Warszawa\, 00-992\, Poland
END:VEVENT
BEGIN:VEVENT
DTSTART;TZID=Europe/Warsaw:20260319T180000
DTEND;TZID=Europe/Warsaw:20260319T210000
DTSTAMP:20260421T114344
CREATED:20250618T091531Z
LAST-MODIFIED:20250618T091710Z
UID:10001884-1773943200-1773954000@ksproelia.pl
SUMMARY:Spotkania klubu strzeleckiego
DESCRIPTION:
URL:https://ksproelia.pl/event/spotkania-klubu-strzeleckiego-3-2-3/2026-03-19/
LOCATION:Strzelnica FSO\, ul. Jagiellońska 88/10\, Warszawa\, 00-992\, Poland
END:VEVENT
BEGIN:VEVENT
DTSTART;TZID=Europe/Warsaw:20260324T180000
DTEND;TZID=Europe/Warsaw:20260324T210000
DTSTAMP:20260421T114344
CREATED:20251223T094719Z
LAST-MODIFIED:20251223T094719Z
UID:10001827-1774375200-1774386000@ksproelia.pl
SUMMARY:Spotkania klubu strzeleckiego
DESCRIPTION:
URL:https://ksproelia.pl/event/spotkania-klubu-strzeleckiego-3-2-2-2-2/2026-03-24/
LOCATION:Strzelnica FSO\, ul. Jagiellońska 88/10\, Warszawa\, 00-992\, Poland
END:VEVENT
BEGIN:VEVENT
DTSTART;TZID=Europe/Warsaw:20260326T180000
DTEND;TZID=Europe/Warsaw:20260326T210000
DTSTAMP:20260421T114344
CREATED:20250618T091531Z
LAST-MODIFIED:20250618T091710Z
UID:10001885-1774548000-1774558800@ksproelia.pl
SUMMARY:Spotkania klubu strzeleckiego
DESCRIPTION:
URL:https://ksproelia.pl/event/spotkania-klubu-strzeleckiego-3-2-3/2026-03-26/
LOCATION:Strzelnica FSO\, ul. Jagiellońska 88/10\, Warszawa\, 00-992\, Poland
END:VEVENT
BEGIN:VEVENT
DTSTART;TZID=Europe/Warsaw:20260329T100000
DTEND;TZID=Europe/Warsaw:20260329T160000
DTSTAMP:20260421T114344
CREATED:20260107T180649Z
LAST-MODIFIED:20260413T125442Z
UID:10002204-1774778400-1774800000@ksproelia.pl
SUMMARY:Zawody Otwarte KS PROELIA
DESCRIPTION:Zapisy od godz. 10:00 do godz. 15:00\nZawody od godz. 11:00 do godz. 16:00.
URL:https://ksproelia.pl/event/zawody-otwarte-ks-proelia-33/2026-03-29/
LOCATION:Strzelnica FSO\, ul. Jagiellońska 88/10\, Warszawa\, 00-992\, Poland
CATEGORIES:Zawody strzeleckie
END:VEVENT
BEGIN:VEVENT
DTSTART;TZID=Europe/Warsaw:20260331T180000
DTEND;TZID=Europe/Warsaw:20260331T210000
DTSTAMP:20260421T114344
CREATED:20251223T094719Z
LAST-MODIFIED:20251223T094719Z
UID:10001828-1774980000-1774990800@ksproelia.pl
SUMMARY:Spotkania klubu strzeleckiego
DESCRIPTION:
URL:https://ksproelia.pl/event/spotkania-klubu-strzeleckiego-3-2-2-2-2/2026-03-31/
LOCATION:Strzelnica FSO\, ul. Jagiellońska 88/10\, Warszawa\, 00-992\, Poland
END:VEVENT
END:VCALENDAR