BEGIN:VCALENDAR
VERSION:2.0
PRODID:-//Proelia - ECPv6.5.0//NONSGML v1.0//EN
CALSCALE:GREGORIAN
METHOD:PUBLISH
X-ORIGINAL-URL:https://ksproelia.pl
X-WR-CALDESC:Wydarzenia dla Proelia
REFRESH-INTERVAL;VALUE=DURATION:PT1H
X-Robots-Tag:noindex
X-PUBLISHED-TTL:PT1H
BEGIN:VTIMEZONE
TZID:Europe/Warsaw
BEGIN:DAYLIGHT
TZOFFSETFROM:+0100
TZOFFSETTO:+0200
TZNAME:CEST
DTSTART:20290325T010000
END:DAYLIGHT
BEGIN:STANDARD
TZOFFSETFROM:+0200
TZOFFSETTO:+0100
TZNAME:CET
DTSTART:20291028T010000
END:STANDARD
END:VTIMEZONE
BEGIN:VEVENT
DTSTART;TZID=Europe/Warsaw:20290208T180000
DTEND;TZID=Europe/Warsaw:20290208T210000
DTSTAMP:20260420T101455
CREATED:20250618T091531Z
LAST-MODIFIED:20250618T091710Z
UID:10002035-1865268000-1865278800@ksproelia.pl
SUMMARY:Spotkania klubu strzeleckiego
DESCRIPTION:
URL:https://ksproelia.pl/event/spotkania-klubu-strzeleckiego-3-2-3/2029-02-08/
LOCATION:Strzelnica FSO\, ul. Jagiellońska 88/10\, Warszawa\, 00-992\, Poland
END:VEVENT
BEGIN:VEVENT
DTSTART;TZID=Europe/Warsaw:20290215T180000
DTEND;TZID=Europe/Warsaw:20290215T210000
DTSTAMP:20260420T101455
CREATED:20250618T091531Z
LAST-MODIFIED:20250618T091710Z
UID:10002036-1865872800-1865883600@ksproelia.pl
SUMMARY:Spotkania klubu strzeleckiego
DESCRIPTION:
URL:https://ksproelia.pl/event/spotkania-klubu-strzeleckiego-3-2-3/2029-02-15/
LOCATION:Strzelnica FSO\, ul. Jagiellońska 88/10\, Warszawa\, 00-992\, Poland
END:VEVENT
BEGIN:VEVENT
DTSTART;TZID=Europe/Warsaw:20290222T180000
DTEND;TZID=Europe/Warsaw:20290222T210000
DTSTAMP:20260420T101455
CREATED:20250618T091531Z
LAST-MODIFIED:20250618T091710Z
UID:10002037-1866477600-1866488400@ksproelia.pl
SUMMARY:Spotkania klubu strzeleckiego
DESCRIPTION:
URL:https://ksproelia.pl/event/spotkania-klubu-strzeleckiego-3-2-3/2029-02-22/
LOCATION:Strzelnica FSO\, ul. Jagiellońska 88/10\, Warszawa\, 00-992\, Poland
END:VEVENT
BEGIN:VEVENT
DTSTART;TZID=Europe/Warsaw:20290301T180000
DTEND;TZID=Europe/Warsaw:20290301T210000
DTSTAMP:20260420T101455
CREATED:20250618T091531Z
LAST-MODIFIED:20250618T091710Z
UID:10002038-1867082400-1867093200@ksproelia.pl
SUMMARY:Spotkania klubu strzeleckiego
DESCRIPTION:
URL:https://ksproelia.pl/event/spotkania-klubu-strzeleckiego-3-2-3/2029-03-01/
LOCATION:Strzelnica FSO\, ul. Jagiellońska 88/10\, Warszawa\, 00-992\, Poland
END:VEVENT
BEGIN:VEVENT
DTSTART;TZID=Europe/Warsaw:20290308T180000
DTEND;TZID=Europe/Warsaw:20290308T210000
DTSTAMP:20260420T101455
CREATED:20250618T091531Z
LAST-MODIFIED:20250618T091710Z
UID:10002039-1867687200-1867698000@ksproelia.pl
SUMMARY:Spotkania klubu strzeleckiego
DESCRIPTION:
URL:https://ksproelia.pl/event/spotkania-klubu-strzeleckiego-3-2-3/2029-03-08/
LOCATION:Strzelnica FSO\, ul. Jagiellońska 88/10\, Warszawa\, 00-992\, Poland
END:VEVENT
BEGIN:VEVENT
DTSTART;TZID=Europe/Warsaw:20290315T180000
DTEND;TZID=Europe/Warsaw:20290315T210000
DTSTAMP:20260420T101455
CREATED:20250618T091531Z
LAST-MODIFIED:20250618T091710Z
UID:10002040-1868292000-1868302800@ksproelia.pl
SUMMARY:Spotkania klubu strzeleckiego
DESCRIPTION:
URL:https://ksproelia.pl/event/spotkania-klubu-strzeleckiego-3-2-3/2029-03-15/
LOCATION:Strzelnica FSO\, ul. Jagiellońska 88/10\, Warszawa\, 00-992\, Poland
END:VEVENT
BEGIN:VEVENT
DTSTART;TZID=Europe/Warsaw:20290322T180000
DTEND;TZID=Europe/Warsaw:20290322T210000
DTSTAMP:20260420T101455
CREATED:20250618T091531Z
LAST-MODIFIED:20250618T091710Z
UID:10002041-1868896800-1868907600@ksproelia.pl
SUMMARY:Spotkania klubu strzeleckiego
DESCRIPTION:
URL:https://ksproelia.pl/event/spotkania-klubu-strzeleckiego-3-2-3/2029-03-22/
LOCATION:Strzelnica FSO\, ul. Jagiellońska 88/10\, Warszawa\, 00-992\, Poland
END:VEVENT
BEGIN:VEVENT
DTSTART;TZID=Europe/Warsaw:20290329T180000
DTEND;TZID=Europe/Warsaw:20290329T210000
DTSTAMP:20260420T101455
CREATED:20250618T091531Z
LAST-MODIFIED:20250618T091710Z
UID:10002042-1869501600-1869512400@ksproelia.pl
SUMMARY:Spotkania klubu strzeleckiego
DESCRIPTION:
URL:https://ksproelia.pl/event/spotkania-klubu-strzeleckiego-3-2-3/2029-03-29/
LOCATION:Strzelnica FSO\, ul. Jagiellońska 88/10\, Warszawa\, 00-992\, Poland
END:VEVENT
BEGIN:VEVENT
DTSTART;TZID=Europe/Warsaw:20290405T180000
DTEND;TZID=Europe/Warsaw:20290405T210000
DTSTAMP:20260420T101455
CREATED:20250618T091531Z
LAST-MODIFIED:20250618T091710Z
UID:10002043-1870106400-1870117200@ksproelia.pl
SUMMARY:Spotkania klubu strzeleckiego
DESCRIPTION:
URL:https://ksproelia.pl/event/spotkania-klubu-strzeleckiego-3-2-3/2029-04-05/
LOCATION:Strzelnica FSO\, ul. Jagiellońska 88/10\, Warszawa\, 00-992\, Poland
END:VEVENT
BEGIN:VEVENT
DTSTART;TZID=Europe/Warsaw:20290412T180000
DTEND;TZID=Europe/Warsaw:20290412T210000
DTSTAMP:20260420T101455
CREATED:20250618T091531Z
LAST-MODIFIED:20250618T091710Z
UID:10002044-1870711200-1870722000@ksproelia.pl
SUMMARY:Spotkania klubu strzeleckiego
DESCRIPTION:
URL:https://ksproelia.pl/event/spotkania-klubu-strzeleckiego-3-2-3/2029-04-12/
LOCATION:Strzelnica FSO\, ul. Jagiellońska 88/10\, Warszawa\, 00-992\, Poland
END:VEVENT
BEGIN:VEVENT
DTSTART;TZID=Europe/Warsaw:20290419T180000
DTEND;TZID=Europe/Warsaw:20290419T210000
DTSTAMP:20260420T101455
CREATED:20250618T091531Z
LAST-MODIFIED:20250618T091710Z
UID:10002045-1871316000-1871326800@ksproelia.pl
SUMMARY:Spotkania klubu strzeleckiego
DESCRIPTION:
URL:https://ksproelia.pl/event/spotkania-klubu-strzeleckiego-3-2-3/2029-04-19/
LOCATION:Strzelnica FSO\, ul. Jagiellońska 88/10\, Warszawa\, 00-992\, Poland
END:VEVENT
BEGIN:VEVENT
DTSTART;TZID=Europe/Warsaw:20290426T180000
DTEND;TZID=Europe/Warsaw:20290426T210000
DTSTAMP:20260420T101455
CREATED:20250618T091531Z
LAST-MODIFIED:20250618T091710Z
UID:10002046-1871920800-1871931600@ksproelia.pl
SUMMARY:Spotkania klubu strzeleckiego
DESCRIPTION:
URL:https://ksproelia.pl/event/spotkania-klubu-strzeleckiego-3-2-3/2029-04-26/
LOCATION:Strzelnica FSO\, ul. Jagiellońska 88/10\, Warszawa\, 00-992\, Poland
END:VEVENT
BEGIN:VEVENT
DTSTART;TZID=Europe/Warsaw:20290503T180000
DTEND;TZID=Europe/Warsaw:20290503T210000
DTSTAMP:20260420T101455
CREATED:20250618T091531Z
LAST-MODIFIED:20250618T091710Z
UID:10002047-1872525600-1872536400@ksproelia.pl
SUMMARY:Spotkania klubu strzeleckiego
DESCRIPTION:
URL:https://ksproelia.pl/event/spotkania-klubu-strzeleckiego-3-2-3/2029-05-03/
LOCATION:Strzelnica FSO\, ul. Jagiellońska 88/10\, Warszawa\, 00-992\, Poland
END:VEVENT
BEGIN:VEVENT
DTSTART;TZID=Europe/Warsaw:20290510T180000
DTEND;TZID=Europe/Warsaw:20290510T210000
DTSTAMP:20260420T101455
CREATED:20250618T091531Z
LAST-MODIFIED:20250618T091710Z
UID:10002048-1873130400-1873141200@ksproelia.pl
SUMMARY:Spotkania klubu strzeleckiego
DESCRIPTION:
URL:https://ksproelia.pl/event/spotkania-klubu-strzeleckiego-3-2-3/2029-05-10/
LOCATION:Strzelnica FSO\, ul. Jagiellońska 88/10\, Warszawa\, 00-992\, Poland
END:VEVENT
BEGIN:VEVENT
DTSTART;TZID=Europe/Warsaw:20290517T180000
DTEND;TZID=Europe/Warsaw:20290517T210000
DTSTAMP:20260420T101455
CREATED:20250618T091531Z
LAST-MODIFIED:20250618T091710Z
UID:10002049-1873735200-1873746000@ksproelia.pl
SUMMARY:Spotkania klubu strzeleckiego
DESCRIPTION:
URL:https://ksproelia.pl/event/spotkania-klubu-strzeleckiego-3-2-3/2029-05-17/
LOCATION:Strzelnica FSO\, ul. Jagiellońska 88/10\, Warszawa\, 00-992\, Poland
END:VEVENT
BEGIN:VEVENT
DTSTART;TZID=Europe/Warsaw:20290524T180000
DTEND;TZID=Europe/Warsaw:20290524T210000
DTSTAMP:20260420T101455
CREATED:20250618T091531Z
LAST-MODIFIED:20250618T091710Z
UID:10002050-1874340000-1874350800@ksproelia.pl
SUMMARY:Spotkania klubu strzeleckiego
DESCRIPTION:
URL:https://ksproelia.pl/event/spotkania-klubu-strzeleckiego-3-2-3/2029-05-24/
LOCATION:Strzelnica FSO\, ul. Jagiellońska 88/10\, Warszawa\, 00-992\, Poland
END:VEVENT
BEGIN:VEVENT
DTSTART;TZID=Europe/Warsaw:20290531T180000
DTEND;TZID=Europe/Warsaw:20290531T210000
DTSTAMP:20260420T101455
CREATED:20250618T091531Z
LAST-MODIFIED:20250618T091710Z
UID:10002051-1874944800-1874955600@ksproelia.pl
SUMMARY:Spotkania klubu strzeleckiego
DESCRIPTION:
URL:https://ksproelia.pl/event/spotkania-klubu-strzeleckiego-3-2-3/2029-05-31/
LOCATION:Strzelnica FSO\, ul. Jagiellońska 88/10\, Warszawa\, 00-992\, Poland
END:VEVENT
BEGIN:VEVENT
DTSTART;TZID=Europe/Warsaw:20290607T180000
DTEND;TZID=Europe/Warsaw:20290607T210000
DTSTAMP:20260420T101455
CREATED:20250618T091531Z
LAST-MODIFIED:20250618T091710Z
UID:10002052-1875549600-1875560400@ksproelia.pl
SUMMARY:Spotkania klubu strzeleckiego
DESCRIPTION:
URL:https://ksproelia.pl/event/spotkania-klubu-strzeleckiego-3-2-3/2029-06-07/
LOCATION:Strzelnica FSO\, ul. Jagiellońska 88/10\, Warszawa\, 00-992\, Poland
END:VEVENT
BEGIN:VEVENT
DTSTART;TZID=Europe/Warsaw:20290614T180000
DTEND;TZID=Europe/Warsaw:20290614T210000
DTSTAMP:20260420T101455
CREATED:20250618T091531Z
LAST-MODIFIED:20250618T091710Z
UID:10002053-1876154400-1876165200@ksproelia.pl
SUMMARY:Spotkania klubu strzeleckiego
DESCRIPTION:
URL:https://ksproelia.pl/event/spotkania-klubu-strzeleckiego-3-2-3/2029-06-14/
LOCATION:Strzelnica FSO\, ul. Jagiellońska 88/10\, Warszawa\, 00-992\, Poland
END:VEVENT
BEGIN:VEVENT
DTSTART;TZID=Europe/Warsaw:20290621T180000
DTEND;TZID=Europe/Warsaw:20290621T210000
DTSTAMP:20260420T101455
CREATED:20250618T091531Z
LAST-MODIFIED:20250618T091710Z
UID:10002054-1876759200-1876770000@ksproelia.pl
SUMMARY:Spotkania klubu strzeleckiego
DESCRIPTION:
URL:https://ksproelia.pl/event/spotkania-klubu-strzeleckiego-3-2-3/2029-06-21/
LOCATION:Strzelnica FSO\, ul. Jagiellońska 88/10\, Warszawa\, 00-992\, Poland
END:VEVENT
BEGIN:VEVENT
DTSTART;TZID=Europe/Warsaw:20290628T180000
DTEND;TZID=Europe/Warsaw:20290628T210000
DTSTAMP:20260420T101455
CREATED:20250618T091531Z
LAST-MODIFIED:20250618T091710Z
UID:10002055-1877364000-1877374800@ksproelia.pl
SUMMARY:Spotkania klubu strzeleckiego
DESCRIPTION:
URL:https://ksproelia.pl/event/spotkania-klubu-strzeleckiego-3-2-3/2029-06-28/
LOCATION:Strzelnica FSO\, ul. Jagiellońska 88/10\, Warszawa\, 00-992\, Poland
END:VEVENT
BEGIN:VEVENT
DTSTART;TZID=Europe/Warsaw:20290705T180000
DTEND;TZID=Europe/Warsaw:20290705T210000
DTSTAMP:20260420T101455
CREATED:20250618T091531Z
LAST-MODIFIED:20250618T091710Z
UID:10002056-1877968800-1877979600@ksproelia.pl
SUMMARY:Spotkania klubu strzeleckiego
DESCRIPTION:
URL:https://ksproelia.pl/event/spotkania-klubu-strzeleckiego-3-2-3/2029-07-05/
LOCATION:Strzelnica FSO\, ul. Jagiellońska 88/10\, Warszawa\, 00-992\, Poland
END:VEVENT
BEGIN:VEVENT
DTSTART;TZID=Europe/Warsaw:20290712T180000
DTEND;TZID=Europe/Warsaw:20290712T210000
DTSTAMP:20260420T101455
CREATED:20250618T091531Z
LAST-MODIFIED:20250618T091710Z
UID:10002057-1878573600-1878584400@ksproelia.pl
SUMMARY:Spotkania klubu strzeleckiego
DESCRIPTION:
URL:https://ksproelia.pl/event/spotkania-klubu-strzeleckiego-3-2-3/2029-07-12/
LOCATION:Strzelnica FSO\, ul. Jagiellońska 88/10\, Warszawa\, 00-992\, Poland
END:VEVENT
BEGIN:VEVENT
DTSTART;TZID=Europe/Warsaw:20290719T180000
DTEND;TZID=Europe/Warsaw:20290719T210000
DTSTAMP:20260420T101455
CREATED:20250618T091531Z
LAST-MODIFIED:20250618T091710Z
UID:10002058-1879178400-1879189200@ksproelia.pl
SUMMARY:Spotkania klubu strzeleckiego
DESCRIPTION:
URL:https://ksproelia.pl/event/spotkania-klubu-strzeleckiego-3-2-3/2029-07-19/
LOCATION:Strzelnica FSO\, ul. Jagiellońska 88/10\, Warszawa\, 00-992\, Poland
END:VEVENT
BEGIN:VEVENT
DTSTART;TZID=Europe/Warsaw:20290726T180000
DTEND;TZID=Europe/Warsaw:20290726T210000
DTSTAMP:20260420T101455
CREATED:20250618T091531Z
LAST-MODIFIED:20250618T091710Z
UID:10002059-1879783200-1879794000@ksproelia.pl
SUMMARY:Spotkania klubu strzeleckiego
DESCRIPTION:
URL:https://ksproelia.pl/event/spotkania-klubu-strzeleckiego-3-2-3/2029-07-26/
LOCATION:Strzelnica FSO\, ul. Jagiellońska 88/10\, Warszawa\, 00-992\, Poland
END:VEVENT
BEGIN:VEVENT
DTSTART;TZID=Europe/Warsaw:20290802T180000
DTEND;TZID=Europe/Warsaw:20290802T210000
DTSTAMP:20260420T101455
CREATED:20250618T091531Z
LAST-MODIFIED:20250618T091710Z
UID:10002060-1880388000-1880398800@ksproelia.pl
SUMMARY:Spotkania klubu strzeleckiego
DESCRIPTION:
URL:https://ksproelia.pl/event/spotkania-klubu-strzeleckiego-3-2-3/2029-08-02/
LOCATION:Strzelnica FSO\, ul. Jagiellońska 88/10\, Warszawa\, 00-992\, Poland
END:VEVENT
BEGIN:VEVENT
DTSTART;TZID=Europe/Warsaw:20290809T180000
DTEND;TZID=Europe/Warsaw:20290809T210000
DTSTAMP:20260420T101455
CREATED:20250618T091531Z
LAST-MODIFIED:20250618T091710Z
UID:10002061-1880992800-1881003600@ksproelia.pl
SUMMARY:Spotkania klubu strzeleckiego
DESCRIPTION:
URL:https://ksproelia.pl/event/spotkania-klubu-strzeleckiego-3-2-3/2029-08-09/
LOCATION:Strzelnica FSO\, ul. Jagiellońska 88/10\, Warszawa\, 00-992\, Poland
END:VEVENT
BEGIN:VEVENT
DTSTART;TZID=Europe/Warsaw:20290816T180000
DTEND;TZID=Europe/Warsaw:20290816T210000
DTSTAMP:20260420T101455
CREATED:20250618T091531Z
LAST-MODIFIED:20250618T091710Z
UID:10002062-1881597600-1881608400@ksproelia.pl
SUMMARY:Spotkania klubu strzeleckiego
DESCRIPTION:
URL:https://ksproelia.pl/event/spotkania-klubu-strzeleckiego-3-2-3/2029-08-16/
LOCATION:Strzelnica FSO\, ul. Jagiellońska 88/10\, Warszawa\, 00-992\, Poland
END:VEVENT
BEGIN:VEVENT
DTSTART;TZID=Europe/Warsaw:20290823T180000
DTEND;TZID=Europe/Warsaw:20290823T210000
DTSTAMP:20260420T101455
CREATED:20250618T091531Z
LAST-MODIFIED:20250618T091710Z
UID:10002063-1882202400-1882213200@ksproelia.pl
SUMMARY:Spotkania klubu strzeleckiego
DESCRIPTION:
URL:https://ksproelia.pl/event/spotkania-klubu-strzeleckiego-3-2-3/2029-08-23/
LOCATION:Strzelnica FSO\, ul. Jagiellońska 88/10\, Warszawa\, 00-992\, Poland
END:VEVENT
BEGIN:VEVENT
DTSTART;TZID=Europe/Warsaw:20290830T180000
DTEND;TZID=Europe/Warsaw:20290830T210000
DTSTAMP:20260420T101455
CREATED:20250618T091531Z
LAST-MODIFIED:20250618T091710Z
UID:10002064-1882807200-1882818000@ksproelia.pl
SUMMARY:Spotkania klubu strzeleckiego
DESCRIPTION:
URL:https://ksproelia.pl/event/spotkania-klubu-strzeleckiego-3-2-3/2029-08-30/
LOCATION:Strzelnica FSO\, ul. Jagiellońska 88/10\, Warszawa\, 00-992\, Poland
END:VEVENT
END:VCALENDAR