BEGIN:VCALENDAR
VERSION:2.0
PRODID:-//Proelia - ECPv6.5.0//NONSGML v1.0//EN
CALSCALE:GREGORIAN
METHOD:PUBLISH
X-ORIGINAL-URL:https://ksproelia.pl
X-WR-CALDESC:Wydarzenia dla Proelia
REFRESH-INTERVAL;VALUE=DURATION:PT1H
X-Robots-Tag:noindex
X-PUBLISHED-TTL:PT1H
BEGIN:VTIMEZONE
TZID:Europe/Warsaw
BEGIN:DAYLIGHT
TZOFFSETFROM:+0100
TZOFFSETTO:+0200
TZNAME:CEST
DTSTART:20290325T010000
END:DAYLIGHT
BEGIN:STANDARD
TZOFFSETFROM:+0200
TZOFFSETTO:+0100
TZNAME:CET
DTSTART:20291028T010000
END:STANDARD
BEGIN:DAYLIGHT
TZOFFSETFROM:+0100
TZOFFSETTO:+0200
TZNAME:CEST
DTSTART:20300331T010000
END:DAYLIGHT
BEGIN:STANDARD
TZOFFSETFROM:+0200
TZOFFSETTO:+0100
TZNAME:CET
DTSTART:20301027T010000
END:STANDARD
END:VTIMEZONE
BEGIN:VEVENT
DTSTART;TZID=Europe/Warsaw:20291025T180000
DTEND;TZID=Europe/Warsaw:20291025T210000
DTSTAMP:20260422T124359
CREATED:20250618T091531Z
LAST-MODIFIED:20250618T091710Z
UID:10002072-1887645600-1887656400@ksproelia.pl
SUMMARY:Spotkania klubu strzeleckiego
DESCRIPTION:
URL:https://ksproelia.pl/event/spotkania-klubu-strzeleckiego-3-2-3/2029-10-25/
LOCATION:Strzelnica FSO\, ul. Jagiellońska 88/10\, Warszawa\, 00-992\, Poland
END:VEVENT
BEGIN:VEVENT
DTSTART;TZID=Europe/Warsaw:20291101T180000
DTEND;TZID=Europe/Warsaw:20291101T210000
DTSTAMP:20260422T124359
CREATED:20250618T091531Z
LAST-MODIFIED:20250618T091710Z
UID:10002073-1888250400-1888261200@ksproelia.pl
SUMMARY:Spotkania klubu strzeleckiego
DESCRIPTION:
URL:https://ksproelia.pl/event/spotkania-klubu-strzeleckiego-3-2-3/2029-11-01/
LOCATION:Strzelnica FSO\, ul. Jagiellońska 88/10\, Warszawa\, 00-992\, Poland
END:VEVENT
BEGIN:VEVENT
DTSTART;TZID=Europe/Warsaw:20291108T180000
DTEND;TZID=Europe/Warsaw:20291108T210000
DTSTAMP:20260422T124359
CREATED:20250618T091531Z
LAST-MODIFIED:20250618T091710Z
UID:10002074-1888855200-1888866000@ksproelia.pl
SUMMARY:Spotkania klubu strzeleckiego
DESCRIPTION:
URL:https://ksproelia.pl/event/spotkania-klubu-strzeleckiego-3-2-3/2029-11-08/
LOCATION:Strzelnica FSO\, ul. Jagiellońska 88/10\, Warszawa\, 00-992\, Poland
END:VEVENT
BEGIN:VEVENT
DTSTART;TZID=Europe/Warsaw:20291115T180000
DTEND;TZID=Europe/Warsaw:20291115T210000
DTSTAMP:20260422T124359
CREATED:20250618T091531Z
LAST-MODIFIED:20250618T091710Z
UID:10002075-1889460000-1889470800@ksproelia.pl
SUMMARY:Spotkania klubu strzeleckiego
DESCRIPTION:
URL:https://ksproelia.pl/event/spotkania-klubu-strzeleckiego-3-2-3/2029-11-15/
LOCATION:Strzelnica FSO\, ul. Jagiellońska 88/10\, Warszawa\, 00-992\, Poland
END:VEVENT
BEGIN:VEVENT
DTSTART;TZID=Europe/Warsaw:20291122T180000
DTEND;TZID=Europe/Warsaw:20291122T210000
DTSTAMP:20260422T124359
CREATED:20250618T091531Z
LAST-MODIFIED:20250618T091710Z
UID:10002076-1890064800-1890075600@ksproelia.pl
SUMMARY:Spotkania klubu strzeleckiego
DESCRIPTION:
URL:https://ksproelia.pl/event/spotkania-klubu-strzeleckiego-3-2-3/2029-11-22/
LOCATION:Strzelnica FSO\, ul. Jagiellońska 88/10\, Warszawa\, 00-992\, Poland
END:VEVENT
BEGIN:VEVENT
DTSTART;TZID=Europe/Warsaw:20291129T180000
DTEND;TZID=Europe/Warsaw:20291129T210000
DTSTAMP:20260422T124359
CREATED:20250618T091531Z
LAST-MODIFIED:20250618T091710Z
UID:10002077-1890669600-1890680400@ksproelia.pl
SUMMARY:Spotkania klubu strzeleckiego
DESCRIPTION:
URL:https://ksproelia.pl/event/spotkania-klubu-strzeleckiego-3-2-3/2029-11-29/
LOCATION:Strzelnica FSO\, ul. Jagiellońska 88/10\, Warszawa\, 00-992\, Poland
END:VEVENT
BEGIN:VEVENT
DTSTART;TZID=Europe/Warsaw:20291206T180000
DTEND;TZID=Europe/Warsaw:20291206T210000
DTSTAMP:20260422T124359
CREATED:20250618T091531Z
LAST-MODIFIED:20250618T091710Z
UID:10002078-1891274400-1891285200@ksproelia.pl
SUMMARY:Spotkania klubu strzeleckiego
DESCRIPTION:
URL:https://ksproelia.pl/event/spotkania-klubu-strzeleckiego-3-2-3/2029-12-06/
LOCATION:Strzelnica FSO\, ul. Jagiellońska 88/10\, Warszawa\, 00-992\, Poland
END:VEVENT
BEGIN:VEVENT
DTSTART;TZID=Europe/Warsaw:20291213T180000
DTEND;TZID=Europe/Warsaw:20291213T210000
DTSTAMP:20260422T124359
CREATED:20250618T091531Z
LAST-MODIFIED:20250618T091710Z
UID:10002079-1891879200-1891890000@ksproelia.pl
SUMMARY:Spotkania klubu strzeleckiego
DESCRIPTION:
URL:https://ksproelia.pl/event/spotkania-klubu-strzeleckiego-3-2-3/2029-12-13/
LOCATION:Strzelnica FSO\, ul. Jagiellońska 88/10\, Warszawa\, 00-992\, Poland
END:VEVENT
BEGIN:VEVENT
DTSTART;TZID=Europe/Warsaw:20291220T180000
DTEND;TZID=Europe/Warsaw:20291220T210000
DTSTAMP:20260422T124359
CREATED:20250618T091531Z
LAST-MODIFIED:20250618T091710Z
UID:10002080-1892484000-1892494800@ksproelia.pl
SUMMARY:Spotkania klubu strzeleckiego
DESCRIPTION:
URL:https://ksproelia.pl/event/spotkania-klubu-strzeleckiego-3-2-3/2029-12-20/
LOCATION:Strzelnica FSO\, ul. Jagiellońska 88/10\, Warszawa\, 00-992\, Poland
END:VEVENT
BEGIN:VEVENT
DTSTART;TZID=Europe/Warsaw:20291227T180000
DTEND;TZID=Europe/Warsaw:20291227T210000
DTSTAMP:20260422T124359
CREATED:20250618T091531Z
LAST-MODIFIED:20250618T091710Z
UID:10002081-1893088800-1893099600@ksproelia.pl
SUMMARY:Spotkania klubu strzeleckiego
DESCRIPTION:
URL:https://ksproelia.pl/event/spotkania-klubu-strzeleckiego-3-2-3/2029-12-27/
LOCATION:Strzelnica FSO\, ul. Jagiellońska 88/10\, Warszawa\, 00-992\, Poland
END:VEVENT
BEGIN:VEVENT
DTSTART;TZID=Europe/Warsaw:20300103T180000
DTEND;TZID=Europe/Warsaw:20300103T210000
DTSTAMP:20260422T124359
CREATED:20250618T091531Z
LAST-MODIFIED:20250618T091710Z
UID:10002082-1893693600-1893704400@ksproelia.pl
SUMMARY:Spotkania klubu strzeleckiego
DESCRIPTION:
URL:https://ksproelia.pl/event/spotkania-klubu-strzeleckiego-3-2-3/2030-01-03/
LOCATION:Strzelnica FSO\, ul. Jagiellońska 88/10\, Warszawa\, 00-992\, Poland
END:VEVENT
BEGIN:VEVENT
DTSTART;TZID=Europe/Warsaw:20300110T180000
DTEND;TZID=Europe/Warsaw:20300110T210000
DTSTAMP:20260422T124359
CREATED:20250618T091531Z
LAST-MODIFIED:20250618T091710Z
UID:10002083-1894298400-1894309200@ksproelia.pl
SUMMARY:Spotkania klubu strzeleckiego
DESCRIPTION:
URL:https://ksproelia.pl/event/spotkania-klubu-strzeleckiego-3-2-3/2030-01-10/
LOCATION:Strzelnica FSO\, ul. Jagiellońska 88/10\, Warszawa\, 00-992\, Poland
END:VEVENT
BEGIN:VEVENT
DTSTART;TZID=Europe/Warsaw:20300117T180000
DTEND;TZID=Europe/Warsaw:20300117T210000
DTSTAMP:20260422T124359
CREATED:20250618T091531Z
LAST-MODIFIED:20250618T091710Z
UID:10002084-1894903200-1894914000@ksproelia.pl
SUMMARY:Spotkania klubu strzeleckiego
DESCRIPTION:
URL:https://ksproelia.pl/event/spotkania-klubu-strzeleckiego-3-2-3/2030-01-17/
LOCATION:Strzelnica FSO\, ul. Jagiellońska 88/10\, Warszawa\, 00-992\, Poland
END:VEVENT
BEGIN:VEVENT
DTSTART;TZID=Europe/Warsaw:20300124T180000
DTEND;TZID=Europe/Warsaw:20300124T210000
DTSTAMP:20260422T124359
CREATED:20250618T091531Z
LAST-MODIFIED:20250618T091710Z
UID:10002085-1895508000-1895518800@ksproelia.pl
SUMMARY:Spotkania klubu strzeleckiego
DESCRIPTION:
URL:https://ksproelia.pl/event/spotkania-klubu-strzeleckiego-3-2-3/2030-01-24/
LOCATION:Strzelnica FSO\, ul. Jagiellońska 88/10\, Warszawa\, 00-992\, Poland
END:VEVENT
BEGIN:VEVENT
DTSTART;TZID=Europe/Warsaw:20300131T180000
DTEND;TZID=Europe/Warsaw:20300131T210000
DTSTAMP:20260422T124359
CREATED:20250618T091531Z
LAST-MODIFIED:20250618T091710Z
UID:10002086-1896112800-1896123600@ksproelia.pl
SUMMARY:Spotkania klubu strzeleckiego
DESCRIPTION:
URL:https://ksproelia.pl/event/spotkania-klubu-strzeleckiego-3-2-3/2030-01-31/
LOCATION:Strzelnica FSO\, ul. Jagiellońska 88/10\, Warszawa\, 00-992\, Poland
END:VEVENT
BEGIN:VEVENT
DTSTART;TZID=Europe/Warsaw:20300207T180000
DTEND;TZID=Europe/Warsaw:20300207T210000
DTSTAMP:20260422T124359
CREATED:20250618T091531Z
LAST-MODIFIED:20250618T091710Z
UID:10002087-1896717600-1896728400@ksproelia.pl
SUMMARY:Spotkania klubu strzeleckiego
DESCRIPTION:
URL:https://ksproelia.pl/event/spotkania-klubu-strzeleckiego-3-2-3/2030-02-07/
LOCATION:Strzelnica FSO\, ul. Jagiellońska 88/10\, Warszawa\, 00-992\, Poland
END:VEVENT
BEGIN:VEVENT
DTSTART;TZID=Europe/Warsaw:20300214T180000
DTEND;TZID=Europe/Warsaw:20300214T210000
DTSTAMP:20260422T124359
CREATED:20250618T091531Z
LAST-MODIFIED:20250618T091710Z
UID:10002088-1897322400-1897333200@ksproelia.pl
SUMMARY:Spotkania klubu strzeleckiego
DESCRIPTION:
URL:https://ksproelia.pl/event/spotkania-klubu-strzeleckiego-3-2-3/2030-02-14/
LOCATION:Strzelnica FSO\, ul. Jagiellońska 88/10\, Warszawa\, 00-992\, Poland
END:VEVENT
BEGIN:VEVENT
DTSTART;TZID=Europe/Warsaw:20300221T180000
DTEND;TZID=Europe/Warsaw:20300221T210000
DTSTAMP:20260422T124359
CREATED:20250618T091531Z
LAST-MODIFIED:20250618T091710Z
UID:10002089-1897927200-1897938000@ksproelia.pl
SUMMARY:Spotkania klubu strzeleckiego
DESCRIPTION:
URL:https://ksproelia.pl/event/spotkania-klubu-strzeleckiego-3-2-3/2030-02-21/
LOCATION:Strzelnica FSO\, ul. Jagiellońska 88/10\, Warszawa\, 00-992\, Poland
END:VEVENT
BEGIN:VEVENT
DTSTART;TZID=Europe/Warsaw:20300228T180000
DTEND;TZID=Europe/Warsaw:20300228T210000
DTSTAMP:20260422T124359
CREATED:20250618T091531Z
LAST-MODIFIED:20250618T091710Z
UID:10002090-1898532000-1898542800@ksproelia.pl
SUMMARY:Spotkania klubu strzeleckiego
DESCRIPTION:
URL:https://ksproelia.pl/event/spotkania-klubu-strzeleckiego-3-2-3/2030-02-28/
LOCATION:Strzelnica FSO\, ul. Jagiellońska 88/10\, Warszawa\, 00-992\, Poland
END:VEVENT
BEGIN:VEVENT
DTSTART;TZID=Europe/Warsaw:20300307T180000
DTEND;TZID=Europe/Warsaw:20300307T210000
DTSTAMP:20260422T124359
CREATED:20250618T091531Z
LAST-MODIFIED:20250618T091710Z
UID:10002091-1899136800-1899147600@ksproelia.pl
SUMMARY:Spotkania klubu strzeleckiego
DESCRIPTION:
URL:https://ksproelia.pl/event/spotkania-klubu-strzeleckiego-3-2-3/2030-03-07/
LOCATION:Strzelnica FSO\, ul. Jagiellońska 88/10\, Warszawa\, 00-992\, Poland
END:VEVENT
BEGIN:VEVENT
DTSTART;TZID=Europe/Warsaw:20300314T180000
DTEND;TZID=Europe/Warsaw:20300314T210000
DTSTAMP:20260422T124359
CREATED:20250618T091531Z
LAST-MODIFIED:20250618T091710Z
UID:10002092-1899741600-1899752400@ksproelia.pl
SUMMARY:Spotkania klubu strzeleckiego
DESCRIPTION:
URL:https://ksproelia.pl/event/spotkania-klubu-strzeleckiego-3-2-3/2030-03-14/
LOCATION:Strzelnica FSO\, ul. Jagiellońska 88/10\, Warszawa\, 00-992\, Poland
END:VEVENT
BEGIN:VEVENT
DTSTART;TZID=Europe/Warsaw:20300321T180000
DTEND;TZID=Europe/Warsaw:20300321T210000
DTSTAMP:20260422T124359
CREATED:20250618T091531Z
LAST-MODIFIED:20250618T091710Z
UID:10002093-1900346400-1900357200@ksproelia.pl
SUMMARY:Spotkania klubu strzeleckiego
DESCRIPTION:
URL:https://ksproelia.pl/event/spotkania-klubu-strzeleckiego-3-2-3/2030-03-21/
LOCATION:Strzelnica FSO\, ul. Jagiellońska 88/10\, Warszawa\, 00-992\, Poland
END:VEVENT
BEGIN:VEVENT
DTSTART;TZID=Europe/Warsaw:20300328T180000
DTEND;TZID=Europe/Warsaw:20300328T210000
DTSTAMP:20260422T124359
CREATED:20250618T091531Z
LAST-MODIFIED:20250618T091710Z
UID:10002094-1900951200-1900962000@ksproelia.pl
SUMMARY:Spotkania klubu strzeleckiego
DESCRIPTION:
URL:https://ksproelia.pl/event/spotkania-klubu-strzeleckiego-3-2-3/2030-03-28/
LOCATION:Strzelnica FSO\, ul. Jagiellońska 88/10\, Warszawa\, 00-992\, Poland
END:VEVENT
BEGIN:VEVENT
DTSTART;TZID=Europe/Warsaw:20300404T180000
DTEND;TZID=Europe/Warsaw:20300404T210000
DTSTAMP:20260422T124359
CREATED:20250618T091531Z
LAST-MODIFIED:20250618T091710Z
UID:10002095-1901556000-1901566800@ksproelia.pl
SUMMARY:Spotkania klubu strzeleckiego
DESCRIPTION:
URL:https://ksproelia.pl/event/spotkania-klubu-strzeleckiego-3-2-3/2030-04-04/
LOCATION:Strzelnica FSO\, ul. Jagiellońska 88/10\, Warszawa\, 00-992\, Poland
END:VEVENT
BEGIN:VEVENT
DTSTART;TZID=Europe/Warsaw:20300411T180000
DTEND;TZID=Europe/Warsaw:20300411T210000
DTSTAMP:20260422T124359
CREATED:20250618T091531Z
LAST-MODIFIED:20250618T091710Z
UID:10002096-1902160800-1902171600@ksproelia.pl
SUMMARY:Spotkania klubu strzeleckiego
DESCRIPTION:
URL:https://ksproelia.pl/event/spotkania-klubu-strzeleckiego-3-2-3/2030-04-11/
LOCATION:Strzelnica FSO\, ul. Jagiellońska 88/10\, Warszawa\, 00-992\, Poland
END:VEVENT
BEGIN:VEVENT
DTSTART;TZID=Europe/Warsaw:20300418T180000
DTEND;TZID=Europe/Warsaw:20300418T210000
DTSTAMP:20260422T124359
CREATED:20250618T091531Z
LAST-MODIFIED:20250618T091710Z
UID:10002097-1902765600-1902776400@ksproelia.pl
SUMMARY:Spotkania klubu strzeleckiego
DESCRIPTION:
URL:https://ksproelia.pl/event/spotkania-klubu-strzeleckiego-3-2-3/2030-04-18/
LOCATION:Strzelnica FSO\, ul. Jagiellońska 88/10\, Warszawa\, 00-992\, Poland
END:VEVENT
BEGIN:VEVENT
DTSTART;TZID=Europe/Warsaw:20300425T180000
DTEND;TZID=Europe/Warsaw:20300425T210000
DTSTAMP:20260422T124359
CREATED:20250618T091531Z
LAST-MODIFIED:20250618T091710Z
UID:10002098-1903370400-1903381200@ksproelia.pl
SUMMARY:Spotkania klubu strzeleckiego
DESCRIPTION:
URL:https://ksproelia.pl/event/spotkania-klubu-strzeleckiego-3-2-3/2030-04-25/
LOCATION:Strzelnica FSO\, ul. Jagiellońska 88/10\, Warszawa\, 00-992\, Poland
END:VEVENT
BEGIN:VEVENT
DTSTART;TZID=Europe/Warsaw:20300502T180000
DTEND;TZID=Europe/Warsaw:20300502T210000
DTSTAMP:20260422T124359
CREATED:20250618T091531Z
LAST-MODIFIED:20250618T091710Z
UID:10002099-1903975200-1903986000@ksproelia.pl
SUMMARY:Spotkania klubu strzeleckiego
DESCRIPTION:
URL:https://ksproelia.pl/event/spotkania-klubu-strzeleckiego-3-2-3/2030-05-02/
LOCATION:Strzelnica FSO\, ul. Jagiellońska 88/10\, Warszawa\, 00-992\, Poland
END:VEVENT
BEGIN:VEVENT
DTSTART;TZID=Europe/Warsaw:20300509T180000
DTEND;TZID=Europe/Warsaw:20300509T210000
DTSTAMP:20260422T124359
CREATED:20250618T091531Z
LAST-MODIFIED:20250618T091710Z
UID:10002100-1904580000-1904590800@ksproelia.pl
SUMMARY:Spotkania klubu strzeleckiego
DESCRIPTION:
URL:https://ksproelia.pl/event/spotkania-klubu-strzeleckiego-3-2-3/2030-05-09/
LOCATION:Strzelnica FSO\, ul. Jagiellońska 88/10\, Warszawa\, 00-992\, Poland
END:VEVENT
BEGIN:VEVENT
DTSTART;TZID=Europe/Warsaw:20300516T180000
DTEND;TZID=Europe/Warsaw:20300516T210000
DTSTAMP:20260422T124359
CREATED:20250618T091531Z
LAST-MODIFIED:20250618T091710Z
UID:10002101-1905184800-1905195600@ksproelia.pl
SUMMARY:Spotkania klubu strzeleckiego
DESCRIPTION:
URL:https://ksproelia.pl/event/spotkania-klubu-strzeleckiego-3-2-3/2030-05-16/
LOCATION:Strzelnica FSO\, ul. Jagiellońska 88/10\, Warszawa\, 00-992\, Poland
END:VEVENT
END:VCALENDAR