BEGIN:VCALENDAR
VERSION:2.0
PRODID:-//Proelia - ECPv6.5.0//NONSGML v1.0//EN
CALSCALE:GREGORIAN
METHOD:PUBLISH
X-ORIGINAL-URL:https://ksproelia.pl
X-WR-CALDESC:Wydarzenia dla Proelia
REFRESH-INTERVAL;VALUE=DURATION:PT1H
X-Robots-Tag:noindex
X-PUBLISHED-TTL:PT1H
BEGIN:VTIMEZONE
TZID:Europe/Warsaw
BEGIN:DAYLIGHT
TZOFFSETFROM:+0100
TZOFFSETTO:+0200
TZNAME:CEST
DTSTART:20270328T010000
END:DAYLIGHT
BEGIN:STANDARD
TZOFFSETFROM:+0200
TZOFFSETTO:+0100
TZNAME:CET
DTSTART:20271031T010000
END:STANDARD
END:VTIMEZONE
BEGIN:VEVENT
DTSTART;TZID=Europe/Warsaw:20270114T180000
DTEND;TZID=Europe/Warsaw:20270114T210000
DTSTAMP:20260419T195701
CREATED:20250618T091531Z
LAST-MODIFIED:20250618T091710Z
UID:10001927-1799949600-1799960400@ksproelia.pl
SUMMARY:Spotkania klubu strzeleckiego
DESCRIPTION:
URL:https://ksproelia.pl/event/spotkania-klubu-strzeleckiego-3-2-3/2027-01-14/
LOCATION:Strzelnica FSO\, ul. Jagiellońska 88/10\, Warszawa\, 00-992\, Poland
END:VEVENT
BEGIN:VEVENT
DTSTART;TZID=Europe/Warsaw:20270121T180000
DTEND;TZID=Europe/Warsaw:20270121T210000
DTSTAMP:20260419T195701
CREATED:20250618T091531Z
LAST-MODIFIED:20250618T091710Z
UID:10001928-1800554400-1800565200@ksproelia.pl
SUMMARY:Spotkania klubu strzeleckiego
DESCRIPTION:
URL:https://ksproelia.pl/event/spotkania-klubu-strzeleckiego-3-2-3/2027-01-21/
LOCATION:Strzelnica FSO\, ul. Jagiellońska 88/10\, Warszawa\, 00-992\, Poland
END:VEVENT
BEGIN:VEVENT
DTSTART;TZID=Europe/Warsaw:20270128T180000
DTEND;TZID=Europe/Warsaw:20270128T210000
DTSTAMP:20260419T195701
CREATED:20250618T091531Z
LAST-MODIFIED:20250618T091710Z
UID:10001929-1801159200-1801170000@ksproelia.pl
SUMMARY:Spotkania klubu strzeleckiego
DESCRIPTION:
URL:https://ksproelia.pl/event/spotkania-klubu-strzeleckiego-3-2-3/2027-01-28/
LOCATION:Strzelnica FSO\, ul. Jagiellońska 88/10\, Warszawa\, 00-992\, Poland
END:VEVENT
BEGIN:VEVENT
DTSTART;TZID=Europe/Warsaw:20270204T180000
DTEND;TZID=Europe/Warsaw:20270204T210000
DTSTAMP:20260419T195701
CREATED:20250618T091531Z
LAST-MODIFIED:20250618T091710Z
UID:10001930-1801764000-1801774800@ksproelia.pl
SUMMARY:Spotkania klubu strzeleckiego
DESCRIPTION:
URL:https://ksproelia.pl/event/spotkania-klubu-strzeleckiego-3-2-3/2027-02-04/
LOCATION:Strzelnica FSO\, ul. Jagiellońska 88/10\, Warszawa\, 00-992\, Poland
END:VEVENT
BEGIN:VEVENT
DTSTART;TZID=Europe/Warsaw:20270211T180000
DTEND;TZID=Europe/Warsaw:20270211T210000
DTSTAMP:20260419T195701
CREATED:20250618T091531Z
LAST-MODIFIED:20250618T091710Z
UID:10001931-1802368800-1802379600@ksproelia.pl
SUMMARY:Spotkania klubu strzeleckiego
DESCRIPTION:
URL:https://ksproelia.pl/event/spotkania-klubu-strzeleckiego-3-2-3/2027-02-11/
LOCATION:Strzelnica FSO\, ul. Jagiellońska 88/10\, Warszawa\, 00-992\, Poland
END:VEVENT
BEGIN:VEVENT
DTSTART;TZID=Europe/Warsaw:20270218T180000
DTEND;TZID=Europe/Warsaw:20270218T210000
DTSTAMP:20260419T195701
CREATED:20250618T091531Z
LAST-MODIFIED:20250618T091710Z
UID:10001932-1802973600-1802984400@ksproelia.pl
SUMMARY:Spotkania klubu strzeleckiego
DESCRIPTION:
URL:https://ksproelia.pl/event/spotkania-klubu-strzeleckiego-3-2-3/2027-02-18/
LOCATION:Strzelnica FSO\, ul. Jagiellońska 88/10\, Warszawa\, 00-992\, Poland
END:VEVENT
BEGIN:VEVENT
DTSTART;TZID=Europe/Warsaw:20270225T180000
DTEND;TZID=Europe/Warsaw:20270225T210000
DTSTAMP:20260419T195701
CREATED:20250618T091531Z
LAST-MODIFIED:20250618T091710Z
UID:10001933-1803578400-1803589200@ksproelia.pl
SUMMARY:Spotkania klubu strzeleckiego
DESCRIPTION:
URL:https://ksproelia.pl/event/spotkania-klubu-strzeleckiego-3-2-3/2027-02-25/
LOCATION:Strzelnica FSO\, ul. Jagiellońska 88/10\, Warszawa\, 00-992\, Poland
END:VEVENT
BEGIN:VEVENT
DTSTART;TZID=Europe/Warsaw:20270304T180000
DTEND;TZID=Europe/Warsaw:20270304T210000
DTSTAMP:20260419T195701
CREATED:20250618T091531Z
LAST-MODIFIED:20250618T091710Z
UID:10001934-1804183200-1804194000@ksproelia.pl
SUMMARY:Spotkania klubu strzeleckiego
DESCRIPTION:
URL:https://ksproelia.pl/event/spotkania-klubu-strzeleckiego-3-2-3/2027-03-04/
LOCATION:Strzelnica FSO\, ul. Jagiellońska 88/10\, Warszawa\, 00-992\, Poland
END:VEVENT
BEGIN:VEVENT
DTSTART;TZID=Europe/Warsaw:20270311T180000
DTEND;TZID=Europe/Warsaw:20270311T210000
DTSTAMP:20260419T195701
CREATED:20250618T091531Z
LAST-MODIFIED:20250618T091710Z
UID:10001935-1804788000-1804798800@ksproelia.pl
SUMMARY:Spotkania klubu strzeleckiego
DESCRIPTION:
URL:https://ksproelia.pl/event/spotkania-klubu-strzeleckiego-3-2-3/2027-03-11/
LOCATION:Strzelnica FSO\, ul. Jagiellońska 88/10\, Warszawa\, 00-992\, Poland
END:VEVENT
BEGIN:VEVENT
DTSTART;TZID=Europe/Warsaw:20270318T180000
DTEND;TZID=Europe/Warsaw:20270318T210000
DTSTAMP:20260419T195701
CREATED:20250618T091531Z
LAST-MODIFIED:20250618T091710Z
UID:10001936-1805392800-1805403600@ksproelia.pl
SUMMARY:Spotkania klubu strzeleckiego
DESCRIPTION:
URL:https://ksproelia.pl/event/spotkania-klubu-strzeleckiego-3-2-3/2027-03-18/
LOCATION:Strzelnica FSO\, ul. Jagiellońska 88/10\, Warszawa\, 00-992\, Poland
END:VEVENT
BEGIN:VEVENT
DTSTART;TZID=Europe/Warsaw:20270325T180000
DTEND;TZID=Europe/Warsaw:20270325T210000
DTSTAMP:20260419T195701
CREATED:20250618T091531Z
LAST-MODIFIED:20250618T091710Z
UID:10001937-1805997600-1806008400@ksproelia.pl
SUMMARY:Spotkania klubu strzeleckiego
DESCRIPTION:
URL:https://ksproelia.pl/event/spotkania-klubu-strzeleckiego-3-2-3/2027-03-25/
LOCATION:Strzelnica FSO\, ul. Jagiellońska 88/10\, Warszawa\, 00-992\, Poland
END:VEVENT
BEGIN:VEVENT
DTSTART;TZID=Europe/Warsaw:20270401T180000
DTEND;TZID=Europe/Warsaw:20270401T210000
DTSTAMP:20260419T195701
CREATED:20250618T091531Z
LAST-MODIFIED:20250618T091710Z
UID:10001938-1806602400-1806613200@ksproelia.pl
SUMMARY:Spotkania klubu strzeleckiego
DESCRIPTION:
URL:https://ksproelia.pl/event/spotkania-klubu-strzeleckiego-3-2-3/2027-04-01/
LOCATION:Strzelnica FSO\, ul. Jagiellońska 88/10\, Warszawa\, 00-992\, Poland
END:VEVENT
BEGIN:VEVENT
DTSTART;TZID=Europe/Warsaw:20270408T180000
DTEND;TZID=Europe/Warsaw:20270408T210000
DTSTAMP:20260419T195701
CREATED:20250618T091531Z
LAST-MODIFIED:20250618T091710Z
UID:10001939-1807207200-1807218000@ksproelia.pl
SUMMARY:Spotkania klubu strzeleckiego
DESCRIPTION:
URL:https://ksproelia.pl/event/spotkania-klubu-strzeleckiego-3-2-3/2027-04-08/
LOCATION:Strzelnica FSO\, ul. Jagiellońska 88/10\, Warszawa\, 00-992\, Poland
END:VEVENT
BEGIN:VEVENT
DTSTART;TZID=Europe/Warsaw:20270415T180000
DTEND;TZID=Europe/Warsaw:20270415T210000
DTSTAMP:20260419T195701
CREATED:20250618T091531Z
LAST-MODIFIED:20250618T091710Z
UID:10001940-1807812000-1807822800@ksproelia.pl
SUMMARY:Spotkania klubu strzeleckiego
DESCRIPTION:
URL:https://ksproelia.pl/event/spotkania-klubu-strzeleckiego-3-2-3/2027-04-15/
LOCATION:Strzelnica FSO\, ul. Jagiellońska 88/10\, Warszawa\, 00-992\, Poland
END:VEVENT
BEGIN:VEVENT
DTSTART;TZID=Europe/Warsaw:20270422T180000
DTEND;TZID=Europe/Warsaw:20270422T210000
DTSTAMP:20260419T195701
CREATED:20250618T091531Z
LAST-MODIFIED:20250618T091710Z
UID:10001941-1808416800-1808427600@ksproelia.pl
SUMMARY:Spotkania klubu strzeleckiego
DESCRIPTION:
URL:https://ksproelia.pl/event/spotkania-klubu-strzeleckiego-3-2-3/2027-04-22/
LOCATION:Strzelnica FSO\, ul. Jagiellońska 88/10\, Warszawa\, 00-992\, Poland
END:VEVENT
BEGIN:VEVENT
DTSTART;TZID=Europe/Warsaw:20270429T180000
DTEND;TZID=Europe/Warsaw:20270429T210000
DTSTAMP:20260419T195701
CREATED:20250618T091531Z
LAST-MODIFIED:20250618T091710Z
UID:10001942-1809021600-1809032400@ksproelia.pl
SUMMARY:Spotkania klubu strzeleckiego
DESCRIPTION:
URL:https://ksproelia.pl/event/spotkania-klubu-strzeleckiego-3-2-3/2027-04-29/
LOCATION:Strzelnica FSO\, ul. Jagiellońska 88/10\, Warszawa\, 00-992\, Poland
END:VEVENT
BEGIN:VEVENT
DTSTART;TZID=Europe/Warsaw:20270506T180000
DTEND;TZID=Europe/Warsaw:20270506T210000
DTSTAMP:20260419T195701
CREATED:20250618T091531Z
LAST-MODIFIED:20250618T091710Z
UID:10001943-1809626400-1809637200@ksproelia.pl
SUMMARY:Spotkania klubu strzeleckiego
DESCRIPTION:
URL:https://ksproelia.pl/event/spotkania-klubu-strzeleckiego-3-2-3/2027-05-06/
LOCATION:Strzelnica FSO\, ul. Jagiellońska 88/10\, Warszawa\, 00-992\, Poland
END:VEVENT
BEGIN:VEVENT
DTSTART;TZID=Europe/Warsaw:20270513T180000
DTEND;TZID=Europe/Warsaw:20270513T210000
DTSTAMP:20260419T195701
CREATED:20250618T091531Z
LAST-MODIFIED:20250618T091710Z
UID:10001944-1810231200-1810242000@ksproelia.pl
SUMMARY:Spotkania klubu strzeleckiego
DESCRIPTION:
URL:https://ksproelia.pl/event/spotkania-klubu-strzeleckiego-3-2-3/2027-05-13/
LOCATION:Strzelnica FSO\, ul. Jagiellońska 88/10\, Warszawa\, 00-992\, Poland
END:VEVENT
BEGIN:VEVENT
DTSTART;TZID=Europe/Warsaw:20270520T180000
DTEND;TZID=Europe/Warsaw:20270520T210000
DTSTAMP:20260419T195701
CREATED:20250618T091531Z
LAST-MODIFIED:20250618T091710Z
UID:10001945-1810836000-1810846800@ksproelia.pl
SUMMARY:Spotkania klubu strzeleckiego
DESCRIPTION:
URL:https://ksproelia.pl/event/spotkania-klubu-strzeleckiego-3-2-3/2027-05-20/
LOCATION:Strzelnica FSO\, ul. Jagiellońska 88/10\, Warszawa\, 00-992\, Poland
END:VEVENT
BEGIN:VEVENT
DTSTART;TZID=Europe/Warsaw:20270527T180000
DTEND;TZID=Europe/Warsaw:20270527T210000
DTSTAMP:20260419T195701
CREATED:20250618T091531Z
LAST-MODIFIED:20250618T091710Z
UID:10001946-1811440800-1811451600@ksproelia.pl
SUMMARY:Spotkania klubu strzeleckiego
DESCRIPTION:
URL:https://ksproelia.pl/event/spotkania-klubu-strzeleckiego-3-2-3/2027-05-27/
LOCATION:Strzelnica FSO\, ul. Jagiellońska 88/10\, Warszawa\, 00-992\, Poland
END:VEVENT
BEGIN:VEVENT
DTSTART;TZID=Europe/Warsaw:20270603T180000
DTEND;TZID=Europe/Warsaw:20270603T210000
DTSTAMP:20260419T195701
CREATED:20250618T091531Z
LAST-MODIFIED:20250618T091710Z
UID:10001947-1812045600-1812056400@ksproelia.pl
SUMMARY:Spotkania klubu strzeleckiego
DESCRIPTION:
URL:https://ksproelia.pl/event/spotkania-klubu-strzeleckiego-3-2-3/2027-06-03/
LOCATION:Strzelnica FSO\, ul. Jagiellońska 88/10\, Warszawa\, 00-992\, Poland
END:VEVENT
BEGIN:VEVENT
DTSTART;TZID=Europe/Warsaw:20270610T180000
DTEND;TZID=Europe/Warsaw:20270610T210000
DTSTAMP:20260419T195701
CREATED:20250618T091531Z
LAST-MODIFIED:20250618T091710Z
UID:10001948-1812650400-1812661200@ksproelia.pl
SUMMARY:Spotkania klubu strzeleckiego
DESCRIPTION:
URL:https://ksproelia.pl/event/spotkania-klubu-strzeleckiego-3-2-3/2027-06-10/
LOCATION:Strzelnica FSO\, ul. Jagiellońska 88/10\, Warszawa\, 00-992\, Poland
END:VEVENT
BEGIN:VEVENT
DTSTART;TZID=Europe/Warsaw:20270617T180000
DTEND;TZID=Europe/Warsaw:20270617T210000
DTSTAMP:20260419T195701
CREATED:20250618T091531Z
LAST-MODIFIED:20250618T091710Z
UID:10001949-1813255200-1813266000@ksproelia.pl
SUMMARY:Spotkania klubu strzeleckiego
DESCRIPTION:
URL:https://ksproelia.pl/event/spotkania-klubu-strzeleckiego-3-2-3/2027-06-17/
LOCATION:Strzelnica FSO\, ul. Jagiellońska 88/10\, Warszawa\, 00-992\, Poland
END:VEVENT
BEGIN:VEVENT
DTSTART;TZID=Europe/Warsaw:20270624T180000
DTEND;TZID=Europe/Warsaw:20270624T210000
DTSTAMP:20260419T195701
CREATED:20250618T091531Z
LAST-MODIFIED:20250618T091710Z
UID:10001950-1813860000-1813870800@ksproelia.pl
SUMMARY:Spotkania klubu strzeleckiego
DESCRIPTION:
URL:https://ksproelia.pl/event/spotkania-klubu-strzeleckiego-3-2-3/2027-06-24/
LOCATION:Strzelnica FSO\, ul. Jagiellońska 88/10\, Warszawa\, 00-992\, Poland
END:VEVENT
BEGIN:VEVENT
DTSTART;TZID=Europe/Warsaw:20270701T180000
DTEND;TZID=Europe/Warsaw:20270701T210000
DTSTAMP:20260419T195701
CREATED:20250618T091531Z
LAST-MODIFIED:20250618T091710Z
UID:10001951-1814464800-1814475600@ksproelia.pl
SUMMARY:Spotkania klubu strzeleckiego
DESCRIPTION:
URL:https://ksproelia.pl/event/spotkania-klubu-strzeleckiego-3-2-3/2027-07-01/
LOCATION:Strzelnica FSO\, ul. Jagiellońska 88/10\, Warszawa\, 00-992\, Poland
END:VEVENT
BEGIN:VEVENT
DTSTART;TZID=Europe/Warsaw:20270708T180000
DTEND;TZID=Europe/Warsaw:20270708T210000
DTSTAMP:20260419T195701
CREATED:20250618T091531Z
LAST-MODIFIED:20250618T091710Z
UID:10001952-1815069600-1815080400@ksproelia.pl
SUMMARY:Spotkania klubu strzeleckiego
DESCRIPTION:
URL:https://ksproelia.pl/event/spotkania-klubu-strzeleckiego-3-2-3/2027-07-08/
LOCATION:Strzelnica FSO\, ul. Jagiellońska 88/10\, Warszawa\, 00-992\, Poland
END:VEVENT
BEGIN:VEVENT
DTSTART;TZID=Europe/Warsaw:20270715T180000
DTEND;TZID=Europe/Warsaw:20270715T210000
DTSTAMP:20260419T195701
CREATED:20250618T091531Z
LAST-MODIFIED:20250618T091710Z
UID:10001953-1815674400-1815685200@ksproelia.pl
SUMMARY:Spotkania klubu strzeleckiego
DESCRIPTION:
URL:https://ksproelia.pl/event/spotkania-klubu-strzeleckiego-3-2-3/2027-07-15/
LOCATION:Strzelnica FSO\, ul. Jagiellońska 88/10\, Warszawa\, 00-992\, Poland
END:VEVENT
BEGIN:VEVENT
DTSTART;TZID=Europe/Warsaw:20270722T180000
DTEND;TZID=Europe/Warsaw:20270722T210000
DTSTAMP:20260419T195701
CREATED:20250618T091531Z
LAST-MODIFIED:20250618T091710Z
UID:10001954-1816279200-1816290000@ksproelia.pl
SUMMARY:Spotkania klubu strzeleckiego
DESCRIPTION:
URL:https://ksproelia.pl/event/spotkania-klubu-strzeleckiego-3-2-3/2027-07-22/
LOCATION:Strzelnica FSO\, ul. Jagiellońska 88/10\, Warszawa\, 00-992\, Poland
END:VEVENT
BEGIN:VEVENT
DTSTART;TZID=Europe/Warsaw:20270729T180000
DTEND;TZID=Europe/Warsaw:20270729T210000
DTSTAMP:20260419T195701
CREATED:20250618T091531Z
LAST-MODIFIED:20250618T091710Z
UID:10001955-1816884000-1816894800@ksproelia.pl
SUMMARY:Spotkania klubu strzeleckiego
DESCRIPTION:
URL:https://ksproelia.pl/event/spotkania-klubu-strzeleckiego-3-2-3/2027-07-29/
LOCATION:Strzelnica FSO\, ul. Jagiellońska 88/10\, Warszawa\, 00-992\, Poland
END:VEVENT
BEGIN:VEVENT
DTSTART;TZID=Europe/Warsaw:20270805T180000
DTEND;TZID=Europe/Warsaw:20270805T210000
DTSTAMP:20260419T195701
CREATED:20250618T091531Z
LAST-MODIFIED:20250618T091710Z
UID:10001956-1817488800-1817499600@ksproelia.pl
SUMMARY:Spotkania klubu strzeleckiego
DESCRIPTION:
URL:https://ksproelia.pl/event/spotkania-klubu-strzeleckiego-3-2-3/2027-08-05/
LOCATION:Strzelnica FSO\, ul. Jagiellońska 88/10\, Warszawa\, 00-992\, Poland
END:VEVENT
END:VCALENDAR