BEGIN:VCALENDAR
VERSION:2.0
PRODID:-//Proelia - ECPv6.5.0//NONSGML v1.0//EN
CALSCALE:GREGORIAN
METHOD:PUBLISH
X-ORIGINAL-URL:https://ksproelia.pl
X-WR-CALDESC:Wydarzenia dla Proelia
REFRESH-INTERVAL;VALUE=DURATION:PT1H
X-Robots-Tag:noindex
X-PUBLISHED-TTL:PT1H
BEGIN:VTIMEZONE
TZID:Europe/Warsaw
BEGIN:DAYLIGHT
TZOFFSETFROM:+0100
TZOFFSETTO:+0200
TZNAME:CEST
DTSTART:20270328T010000
END:DAYLIGHT
BEGIN:STANDARD
TZOFFSETFROM:+0200
TZOFFSETTO:+0100
TZNAME:CET
DTSTART:20271031T010000
END:STANDARD
BEGIN:DAYLIGHT
TZOFFSETFROM:+0100
TZOFFSETTO:+0200
TZNAME:CEST
DTSTART:20280326T010000
END:DAYLIGHT
BEGIN:STANDARD
TZOFFSETFROM:+0200
TZOFFSETTO:+0100
TZNAME:CET
DTSTART:20281029T010000
END:STANDARD
END:VTIMEZONE
BEGIN:VEVENT
DTSTART;TZID=Europe/Warsaw:20270923T180000
DTEND;TZID=Europe/Warsaw:20270923T210000
DTSTAMP:20260420T004257
CREATED:20250618T091531Z
LAST-MODIFIED:20250618T091710Z
UID:10001963-1821722400-1821733200@ksproelia.pl
SUMMARY:Spotkania klubu strzeleckiego
DESCRIPTION:
URL:https://ksproelia.pl/event/spotkania-klubu-strzeleckiego-3-2-3/2027-09-23/
LOCATION:Strzelnica FSO\, ul. Jagiellońska 88/10\, Warszawa\, 00-992\, Poland
END:VEVENT
BEGIN:VEVENT
DTSTART;TZID=Europe/Warsaw:20270930T180000
DTEND;TZID=Europe/Warsaw:20270930T210000
DTSTAMP:20260420T004257
CREATED:20250618T091531Z
LAST-MODIFIED:20250618T091710Z
UID:10001964-1822327200-1822338000@ksproelia.pl
SUMMARY:Spotkania klubu strzeleckiego
DESCRIPTION:
URL:https://ksproelia.pl/event/spotkania-klubu-strzeleckiego-3-2-3/2027-09-30/
LOCATION:Strzelnica FSO\, ul. Jagiellońska 88/10\, Warszawa\, 00-992\, Poland
END:VEVENT
BEGIN:VEVENT
DTSTART;TZID=Europe/Warsaw:20271007T180000
DTEND;TZID=Europe/Warsaw:20271007T210000
DTSTAMP:20260420T004257
CREATED:20250618T091531Z
LAST-MODIFIED:20250618T091710Z
UID:10001965-1822932000-1822942800@ksproelia.pl
SUMMARY:Spotkania klubu strzeleckiego
DESCRIPTION:
URL:https://ksproelia.pl/event/spotkania-klubu-strzeleckiego-3-2-3/2027-10-07/
LOCATION:Strzelnica FSO\, ul. Jagiellońska 88/10\, Warszawa\, 00-992\, Poland
END:VEVENT
BEGIN:VEVENT
DTSTART;TZID=Europe/Warsaw:20271014T180000
DTEND;TZID=Europe/Warsaw:20271014T210000
DTSTAMP:20260420T004257
CREATED:20250618T091531Z
LAST-MODIFIED:20250618T091710Z
UID:10001966-1823536800-1823547600@ksproelia.pl
SUMMARY:Spotkania klubu strzeleckiego
DESCRIPTION:
URL:https://ksproelia.pl/event/spotkania-klubu-strzeleckiego-3-2-3/2027-10-14/
LOCATION:Strzelnica FSO\, ul. Jagiellońska 88/10\, Warszawa\, 00-992\, Poland
END:VEVENT
BEGIN:VEVENT
DTSTART;TZID=Europe/Warsaw:20271021T180000
DTEND;TZID=Europe/Warsaw:20271021T210000
DTSTAMP:20260420T004257
CREATED:20250618T091531Z
LAST-MODIFIED:20250618T091710Z
UID:10001967-1824141600-1824152400@ksproelia.pl
SUMMARY:Spotkania klubu strzeleckiego
DESCRIPTION:
URL:https://ksproelia.pl/event/spotkania-klubu-strzeleckiego-3-2-3/2027-10-21/
LOCATION:Strzelnica FSO\, ul. Jagiellońska 88/10\, Warszawa\, 00-992\, Poland
END:VEVENT
BEGIN:VEVENT
DTSTART;TZID=Europe/Warsaw:20271028T180000
DTEND;TZID=Europe/Warsaw:20271028T210000
DTSTAMP:20260420T004257
CREATED:20250618T091531Z
LAST-MODIFIED:20250618T091710Z
UID:10001968-1824746400-1824757200@ksproelia.pl
SUMMARY:Spotkania klubu strzeleckiego
DESCRIPTION:
URL:https://ksproelia.pl/event/spotkania-klubu-strzeleckiego-3-2-3/2027-10-28/
LOCATION:Strzelnica FSO\, ul. Jagiellońska 88/10\, Warszawa\, 00-992\, Poland
END:VEVENT
BEGIN:VEVENT
DTSTART;TZID=Europe/Warsaw:20271104T180000
DTEND;TZID=Europe/Warsaw:20271104T210000
DTSTAMP:20260420T004257
CREATED:20250618T091531Z
LAST-MODIFIED:20250618T091710Z
UID:10001969-1825351200-1825362000@ksproelia.pl
SUMMARY:Spotkania klubu strzeleckiego
DESCRIPTION:
URL:https://ksproelia.pl/event/spotkania-klubu-strzeleckiego-3-2-3/2027-11-04/
LOCATION:Strzelnica FSO\, ul. Jagiellońska 88/10\, Warszawa\, 00-992\, Poland
END:VEVENT
BEGIN:VEVENT
DTSTART;TZID=Europe/Warsaw:20271111T180000
DTEND;TZID=Europe/Warsaw:20271111T210000
DTSTAMP:20260420T004257
CREATED:20250618T091531Z
LAST-MODIFIED:20250618T091710Z
UID:10001970-1825956000-1825966800@ksproelia.pl
SUMMARY:Spotkania klubu strzeleckiego
DESCRIPTION:
URL:https://ksproelia.pl/event/spotkania-klubu-strzeleckiego-3-2-3/2027-11-11/
LOCATION:Strzelnica FSO\, ul. Jagiellońska 88/10\, Warszawa\, 00-992\, Poland
END:VEVENT
BEGIN:VEVENT
DTSTART;TZID=Europe/Warsaw:20271118T180000
DTEND;TZID=Europe/Warsaw:20271118T210000
DTSTAMP:20260420T004257
CREATED:20250618T091531Z
LAST-MODIFIED:20250618T091710Z
UID:10001971-1826560800-1826571600@ksproelia.pl
SUMMARY:Spotkania klubu strzeleckiego
DESCRIPTION:
URL:https://ksproelia.pl/event/spotkania-klubu-strzeleckiego-3-2-3/2027-11-18/
LOCATION:Strzelnica FSO\, ul. Jagiellońska 88/10\, Warszawa\, 00-992\, Poland
END:VEVENT
BEGIN:VEVENT
DTSTART;TZID=Europe/Warsaw:20271125T180000
DTEND;TZID=Europe/Warsaw:20271125T210000
DTSTAMP:20260420T004257
CREATED:20250618T091531Z
LAST-MODIFIED:20250618T091710Z
UID:10001972-1827165600-1827176400@ksproelia.pl
SUMMARY:Spotkania klubu strzeleckiego
DESCRIPTION:
URL:https://ksproelia.pl/event/spotkania-klubu-strzeleckiego-3-2-3/2027-11-25/
LOCATION:Strzelnica FSO\, ul. Jagiellońska 88/10\, Warszawa\, 00-992\, Poland
END:VEVENT
BEGIN:VEVENT
DTSTART;TZID=Europe/Warsaw:20271202T180000
DTEND;TZID=Europe/Warsaw:20271202T210000
DTSTAMP:20260420T004257
CREATED:20250618T091531Z
LAST-MODIFIED:20250618T091710Z
UID:10001973-1827770400-1827781200@ksproelia.pl
SUMMARY:Spotkania klubu strzeleckiego
DESCRIPTION:
URL:https://ksproelia.pl/event/spotkania-klubu-strzeleckiego-3-2-3/2027-12-02/
LOCATION:Strzelnica FSO\, ul. Jagiellońska 88/10\, Warszawa\, 00-992\, Poland
END:VEVENT
BEGIN:VEVENT
DTSTART;TZID=Europe/Warsaw:20271209T180000
DTEND;TZID=Europe/Warsaw:20271209T210000
DTSTAMP:20260420T004257
CREATED:20250618T091531Z
LAST-MODIFIED:20250618T091710Z
UID:10001974-1828375200-1828386000@ksproelia.pl
SUMMARY:Spotkania klubu strzeleckiego
DESCRIPTION:
URL:https://ksproelia.pl/event/spotkania-klubu-strzeleckiego-3-2-3/2027-12-09/
LOCATION:Strzelnica FSO\, ul. Jagiellońska 88/10\, Warszawa\, 00-992\, Poland
END:VEVENT
BEGIN:VEVENT
DTSTART;TZID=Europe/Warsaw:20271216T180000
DTEND;TZID=Europe/Warsaw:20271216T210000
DTSTAMP:20260420T004257
CREATED:20250618T091531Z
LAST-MODIFIED:20250618T091710Z
UID:10001975-1828980000-1828990800@ksproelia.pl
SUMMARY:Spotkania klubu strzeleckiego
DESCRIPTION:
URL:https://ksproelia.pl/event/spotkania-klubu-strzeleckiego-3-2-3/2027-12-16/
LOCATION:Strzelnica FSO\, ul. Jagiellońska 88/10\, Warszawa\, 00-992\, Poland
END:VEVENT
BEGIN:VEVENT
DTSTART;TZID=Europe/Warsaw:20271223T180000
DTEND;TZID=Europe/Warsaw:20271223T210000
DTSTAMP:20260420T004257
CREATED:20250618T091531Z
LAST-MODIFIED:20250618T091710Z
UID:10001976-1829584800-1829595600@ksproelia.pl
SUMMARY:Spotkania klubu strzeleckiego
DESCRIPTION:
URL:https://ksproelia.pl/event/spotkania-klubu-strzeleckiego-3-2-3/2027-12-23/
LOCATION:Strzelnica FSO\, ul. Jagiellońska 88/10\, Warszawa\, 00-992\, Poland
END:VEVENT
BEGIN:VEVENT
DTSTART;TZID=Europe/Warsaw:20271230T180000
DTEND;TZID=Europe/Warsaw:20271230T210000
DTSTAMP:20260420T004257
CREATED:20250618T091531Z
LAST-MODIFIED:20250618T091710Z
UID:10001977-1830189600-1830200400@ksproelia.pl
SUMMARY:Spotkania klubu strzeleckiego
DESCRIPTION:
URL:https://ksproelia.pl/event/spotkania-klubu-strzeleckiego-3-2-3/2027-12-30/
LOCATION:Strzelnica FSO\, ul. Jagiellońska 88/10\, Warszawa\, 00-992\, Poland
END:VEVENT
BEGIN:VEVENT
DTSTART;TZID=Europe/Warsaw:20280106T180000
DTEND;TZID=Europe/Warsaw:20280106T210000
DTSTAMP:20260420T004257
CREATED:20250618T091531Z
LAST-MODIFIED:20250618T091710Z
UID:10001978-1830794400-1830805200@ksproelia.pl
SUMMARY:Spotkania klubu strzeleckiego
DESCRIPTION:
URL:https://ksproelia.pl/event/spotkania-klubu-strzeleckiego-3-2-3/2028-01-06/
LOCATION:Strzelnica FSO\, ul. Jagiellońska 88/10\, Warszawa\, 00-992\, Poland
END:VEVENT
BEGIN:VEVENT
DTSTART;TZID=Europe/Warsaw:20280113T180000
DTEND;TZID=Europe/Warsaw:20280113T210000
DTSTAMP:20260420T004257
CREATED:20250618T091531Z
LAST-MODIFIED:20250618T091710Z
UID:10001979-1831399200-1831410000@ksproelia.pl
SUMMARY:Spotkania klubu strzeleckiego
DESCRIPTION:
URL:https://ksproelia.pl/event/spotkania-klubu-strzeleckiego-3-2-3/2028-01-13/
LOCATION:Strzelnica FSO\, ul. Jagiellońska 88/10\, Warszawa\, 00-992\, Poland
END:VEVENT
BEGIN:VEVENT
DTSTART;TZID=Europe/Warsaw:20280120T180000
DTEND;TZID=Europe/Warsaw:20280120T210000
DTSTAMP:20260420T004257
CREATED:20250618T091531Z
LAST-MODIFIED:20250618T091710Z
UID:10001980-1832004000-1832014800@ksproelia.pl
SUMMARY:Spotkania klubu strzeleckiego
DESCRIPTION:
URL:https://ksproelia.pl/event/spotkania-klubu-strzeleckiego-3-2-3/2028-01-20/
LOCATION:Strzelnica FSO\, ul. Jagiellońska 88/10\, Warszawa\, 00-992\, Poland
END:VEVENT
BEGIN:VEVENT
DTSTART;TZID=Europe/Warsaw:20280127T180000
DTEND;TZID=Europe/Warsaw:20280127T210000
DTSTAMP:20260420T004257
CREATED:20250618T091531Z
LAST-MODIFIED:20250618T091710Z
UID:10001981-1832608800-1832619600@ksproelia.pl
SUMMARY:Spotkania klubu strzeleckiego
DESCRIPTION:
URL:https://ksproelia.pl/event/spotkania-klubu-strzeleckiego-3-2-3/2028-01-27/
LOCATION:Strzelnica FSO\, ul. Jagiellońska 88/10\, Warszawa\, 00-992\, Poland
END:VEVENT
BEGIN:VEVENT
DTSTART;TZID=Europe/Warsaw:20280203T180000
DTEND;TZID=Europe/Warsaw:20280203T210000
DTSTAMP:20260420T004257
CREATED:20250618T091531Z
LAST-MODIFIED:20250618T091710Z
UID:10001982-1833213600-1833224400@ksproelia.pl
SUMMARY:Spotkania klubu strzeleckiego
DESCRIPTION:
URL:https://ksproelia.pl/event/spotkania-klubu-strzeleckiego-3-2-3/2028-02-03/
LOCATION:Strzelnica FSO\, ul. Jagiellońska 88/10\, Warszawa\, 00-992\, Poland
END:VEVENT
BEGIN:VEVENT
DTSTART;TZID=Europe/Warsaw:20280210T180000
DTEND;TZID=Europe/Warsaw:20280210T210000
DTSTAMP:20260420T004257
CREATED:20250618T091531Z
LAST-MODIFIED:20250618T091710Z
UID:10001983-1833818400-1833829200@ksproelia.pl
SUMMARY:Spotkania klubu strzeleckiego
DESCRIPTION:
URL:https://ksproelia.pl/event/spotkania-klubu-strzeleckiego-3-2-3/2028-02-10/
LOCATION:Strzelnica FSO\, ul. Jagiellońska 88/10\, Warszawa\, 00-992\, Poland
END:VEVENT
BEGIN:VEVENT
DTSTART;TZID=Europe/Warsaw:20280217T180000
DTEND;TZID=Europe/Warsaw:20280217T210000
DTSTAMP:20260420T004257
CREATED:20250618T091531Z
LAST-MODIFIED:20250618T091710Z
UID:10001984-1834423200-1834434000@ksproelia.pl
SUMMARY:Spotkania klubu strzeleckiego
DESCRIPTION:
URL:https://ksproelia.pl/event/spotkania-klubu-strzeleckiego-3-2-3/2028-02-17/
LOCATION:Strzelnica FSO\, ul. Jagiellońska 88/10\, Warszawa\, 00-992\, Poland
END:VEVENT
BEGIN:VEVENT
DTSTART;TZID=Europe/Warsaw:20280224T180000
DTEND;TZID=Europe/Warsaw:20280224T210000
DTSTAMP:20260420T004257
CREATED:20250618T091531Z
LAST-MODIFIED:20250618T091710Z
UID:10001985-1835028000-1835038800@ksproelia.pl
SUMMARY:Spotkania klubu strzeleckiego
DESCRIPTION:
URL:https://ksproelia.pl/event/spotkania-klubu-strzeleckiego-3-2-3/2028-02-24/
LOCATION:Strzelnica FSO\, ul. Jagiellońska 88/10\, Warszawa\, 00-992\, Poland
END:VEVENT
BEGIN:VEVENT
DTSTART;TZID=Europe/Warsaw:20280302T180000
DTEND;TZID=Europe/Warsaw:20280302T210000
DTSTAMP:20260420T004257
CREATED:20250618T091531Z
LAST-MODIFIED:20250618T091710Z
UID:10001986-1835632800-1835643600@ksproelia.pl
SUMMARY:Spotkania klubu strzeleckiego
DESCRIPTION:
URL:https://ksproelia.pl/event/spotkania-klubu-strzeleckiego-3-2-3/2028-03-02/
LOCATION:Strzelnica FSO\, ul. Jagiellońska 88/10\, Warszawa\, 00-992\, Poland
END:VEVENT
BEGIN:VEVENT
DTSTART;TZID=Europe/Warsaw:20280309T180000
DTEND;TZID=Europe/Warsaw:20280309T210000
DTSTAMP:20260420T004257
CREATED:20250618T091531Z
LAST-MODIFIED:20250618T091710Z
UID:10001987-1836237600-1836248400@ksproelia.pl
SUMMARY:Spotkania klubu strzeleckiego
DESCRIPTION:
URL:https://ksproelia.pl/event/spotkania-klubu-strzeleckiego-3-2-3/2028-03-09/
LOCATION:Strzelnica FSO\, ul. Jagiellońska 88/10\, Warszawa\, 00-992\, Poland
END:VEVENT
BEGIN:VEVENT
DTSTART;TZID=Europe/Warsaw:20280316T180000
DTEND;TZID=Europe/Warsaw:20280316T210000
DTSTAMP:20260420T004257
CREATED:20250618T091531Z
LAST-MODIFIED:20250618T091710Z
UID:10001988-1836842400-1836853200@ksproelia.pl
SUMMARY:Spotkania klubu strzeleckiego
DESCRIPTION:
URL:https://ksproelia.pl/event/spotkania-klubu-strzeleckiego-3-2-3/2028-03-16/
LOCATION:Strzelnica FSO\, ul. Jagiellońska 88/10\, Warszawa\, 00-992\, Poland
END:VEVENT
BEGIN:VEVENT
DTSTART;TZID=Europe/Warsaw:20280323T180000
DTEND;TZID=Europe/Warsaw:20280323T210000
DTSTAMP:20260420T004257
CREATED:20250618T091531Z
LAST-MODIFIED:20250618T091710Z
UID:10001989-1837447200-1837458000@ksproelia.pl
SUMMARY:Spotkania klubu strzeleckiego
DESCRIPTION:
URL:https://ksproelia.pl/event/spotkania-klubu-strzeleckiego-3-2-3/2028-03-23/
LOCATION:Strzelnica FSO\, ul. Jagiellońska 88/10\, Warszawa\, 00-992\, Poland
END:VEVENT
BEGIN:VEVENT
DTSTART;TZID=Europe/Warsaw:20280330T180000
DTEND;TZID=Europe/Warsaw:20280330T210000
DTSTAMP:20260420T004257
CREATED:20250618T091531Z
LAST-MODIFIED:20250618T091710Z
UID:10001990-1838052000-1838062800@ksproelia.pl
SUMMARY:Spotkania klubu strzeleckiego
DESCRIPTION:
URL:https://ksproelia.pl/event/spotkania-klubu-strzeleckiego-3-2-3/2028-03-30/
LOCATION:Strzelnica FSO\, ul. Jagiellońska 88/10\, Warszawa\, 00-992\, Poland
END:VEVENT
BEGIN:VEVENT
DTSTART;TZID=Europe/Warsaw:20280406T180000
DTEND;TZID=Europe/Warsaw:20280406T210000
DTSTAMP:20260420T004257
CREATED:20250618T091531Z
LAST-MODIFIED:20250618T091710Z
UID:10001991-1838656800-1838667600@ksproelia.pl
SUMMARY:Spotkania klubu strzeleckiego
DESCRIPTION:
URL:https://ksproelia.pl/event/spotkania-klubu-strzeleckiego-3-2-3/2028-04-06/
LOCATION:Strzelnica FSO\, ul. Jagiellońska 88/10\, Warszawa\, 00-992\, Poland
END:VEVENT
BEGIN:VEVENT
DTSTART;TZID=Europe/Warsaw:20280413T180000
DTEND;TZID=Europe/Warsaw:20280413T210000
DTSTAMP:20260420T004257
CREATED:20250618T091531Z
LAST-MODIFIED:20250618T091710Z
UID:10001992-1839261600-1839272400@ksproelia.pl
SUMMARY:Spotkania klubu strzeleckiego
DESCRIPTION:
URL:https://ksproelia.pl/event/spotkania-klubu-strzeleckiego-3-2-3/2028-04-13/
LOCATION:Strzelnica FSO\, ul. Jagiellońska 88/10\, Warszawa\, 00-992\, Poland
END:VEVENT
END:VCALENDAR