BEGIN:VCALENDAR
VERSION:2.0
PRODID:-//Proelia - ECPv6.5.0//NONSGML v1.0//EN
CALSCALE:GREGORIAN
METHOD:PUBLISH
X-ORIGINAL-URL:https://ksproelia.pl
X-WR-CALDESC:Wydarzenia dla Proelia
REFRESH-INTERVAL;VALUE=DURATION:PT1H
X-Robots-Tag:noindex
X-PUBLISHED-TTL:PT1H
BEGIN:VTIMEZONE
TZID:Europe/Warsaw
BEGIN:DAYLIGHT
TZOFFSETFROM:+0100
TZOFFSETTO:+0200
TZNAME:CEST
DTSTART:20250330T010000
END:DAYLIGHT
BEGIN:STANDARD
TZOFFSETFROM:+0200
TZOFFSETTO:+0100
TZNAME:CET
DTSTART:20251026T010000
END:STANDARD
END:VTIMEZONE
BEGIN:VEVENT
DTSTART;TZID=Europe/Warsaw:20250429T180000
DTEND;TZID=Europe/Warsaw:20250429T210000
DTSTAMP:20260420T085650
CREATED:20250113T111248Z
LAST-MODIFIED:20250113T111248Z
UID:10001704-1745949600-1745960400@ksproelia.pl
SUMMARY:Spotkania klubu strzeleckiego
DESCRIPTION:
URL:https://ksproelia.pl/event/spotkania-klubu-strzeleckiego-3/2025-04-29/
LOCATION:Strzelnica FSO\, ul. Jagiellońska 88/10\, Warszawa\, 00-992\, Poland
END:VEVENT
BEGIN:VEVENT
DTSTART;TZID=Europe/Warsaw:20250427T110000
DTEND;TZID=Europe/Warsaw:20250427T160000
DTSTAMP:20260420T085650
CREATED:20250103T132940Z
LAST-MODIFIED:20250103T132940Z
UID:10000504-1745751600-1745769600@ksproelia.pl
SUMMARY:Zawody Otwarte KS PROELIA
DESCRIPTION:
URL:https://ksproelia.pl/event/zawody-otwarte-ks-proelia-26/2025-04-27/
LOCATION:Strzelnica FSO\, ul. Jagiellońska 88/10\, Warszawa\, 00-992\, Poland
CATEGORIES:Zawody strzeleckie
END:VEVENT
BEGIN:VEVENT
DTSTART;VALUE=DATE:20250426
DTEND;VALUE=DATE:20250427
DTSTAMP:20260420T085650
CREATED:20240309T104454Z
LAST-MODIFIED:20250103T140049Z
UID:10000541-1745625600-1745711999@ksproelia.pl
SUMMARY:Egzamin na Patent
DESCRIPTION:
URL:https://ksproelia.pl/event/egzamin-na-patent-2025/2025-04-26/
LOCATION:Strzelnica FSO\, ul. Jagiellońska 88/10\, Warszawa\, 00-992\, Poland
CATEGORIES:Egzaminy na patent strzelecki
END:VEVENT
BEGIN:VEVENT
DTSTART;TZID=Europe/Warsaw:20250424T180000
DTEND;TZID=Europe/Warsaw:20250424T210000
DTSTAMP:20260420T085650
CREATED:20250113T111248Z
LAST-MODIFIED:20250113T111248Z
UID:10001703-1745517600-1745528400@ksproelia.pl
SUMMARY:Spotkania klubu strzeleckiego
DESCRIPTION:
URL:https://ksproelia.pl/event/spotkania-klubu-strzeleckiego-3/2025-04-24/
LOCATION:Strzelnica FSO\, ul. Jagiellońska 88/10\, Warszawa\, 00-992\, Poland
END:VEVENT
BEGIN:VEVENT
DTSTART;TZID=Europe/Warsaw:20250422T180000
DTEND;TZID=Europe/Warsaw:20250422T210000
DTSTAMP:20260420T085650
CREATED:20250113T111248Z
LAST-MODIFIED:20250113T111248Z
UID:10001702-1745344800-1745355600@ksproelia.pl
SUMMARY:Spotkania klubu strzeleckiego
DESCRIPTION:
URL:https://ksproelia.pl/event/spotkania-klubu-strzeleckiego-3/2025-04-22/
LOCATION:Strzelnica FSO\, ul. Jagiellońska 88/10\, Warszawa\, 00-992\, Poland
END:VEVENT
BEGIN:VEVENT
DTSTART;TZID=Europe/Warsaw:20250417T180000
DTEND;TZID=Europe/Warsaw:20250417T210000
DTSTAMP:20260420T085650
CREATED:20250113T111248Z
LAST-MODIFIED:20250113T111248Z
UID:10001701-1744912800-1744923600@ksproelia.pl
SUMMARY:Spotkania klubu strzeleckiego
DESCRIPTION:
URL:https://ksproelia.pl/event/spotkania-klubu-strzeleckiego-3/2025-04-17/
LOCATION:Strzelnica FSO\, ul. Jagiellońska 88/10\, Warszawa\, 00-992\, Poland
END:VEVENT
BEGIN:VEVENT
DTSTART;TZID=Europe/Warsaw:20250415T180000
DTEND;TZID=Europe/Warsaw:20250415T210000
DTSTAMP:20260420T085650
CREATED:20250113T111248Z
LAST-MODIFIED:20250113T111248Z
UID:10001700-1744740000-1744750800@ksproelia.pl
SUMMARY:Spotkania klubu strzeleckiego
DESCRIPTION:
URL:https://ksproelia.pl/event/spotkania-klubu-strzeleckiego-3/2025-04-15/
LOCATION:Strzelnica FSO\, ul. Jagiellońska 88/10\, Warszawa\, 00-992\, Poland
END:VEVENT
BEGIN:VEVENT
DTSTART;TZID=Europe/Warsaw:20250413T110000
DTEND;TZID=Europe/Warsaw:20250413T160000
DTSTAMP:20260420T085650
CREATED:20250404T050251Z
LAST-MODIFIED:20250404T050251Z
UID:10000503-1744542000-1744560000@ksproelia.pl
SUMMARY:Zawody Otwarte KS PROELIA
DESCRIPTION:
URL:https://ksproelia.pl/event/zawody-otwarte-ks-proelia-26-2/
LOCATION:Strzelnica FSO\, ul. Jagiellońska 88/10\, Warszawa\, 00-992\, Poland
CATEGORIES:Zawody strzeleckie
END:VEVENT
BEGIN:VEVENT
DTSTART;TZID=Europe/Warsaw:20250410T180000
DTEND;TZID=Europe/Warsaw:20250410T210000
DTSTAMP:20260420T085650
CREATED:20250113T111248Z
LAST-MODIFIED:20250113T111248Z
UID:10001699-1744308000-1744318800@ksproelia.pl
SUMMARY:Spotkania klubu strzeleckiego
DESCRIPTION:
URL:https://ksproelia.pl/event/spotkania-klubu-strzeleckiego-3/2025-04-10/
LOCATION:Strzelnica FSO\, ul. Jagiellońska 88/10\, Warszawa\, 00-992\, Poland
END:VEVENT
BEGIN:VEVENT
DTSTART;TZID=Europe/Warsaw:20250408T180000
DTEND;TZID=Europe/Warsaw:20250408T210000
DTSTAMP:20260420T085650
CREATED:20250113T111248Z
LAST-MODIFIED:20250113T111248Z
UID:10001698-1744135200-1744146000@ksproelia.pl
SUMMARY:Spotkania klubu strzeleckiego
DESCRIPTION:
URL:https://ksproelia.pl/event/spotkania-klubu-strzeleckiego-3/2025-04-08/
LOCATION:Strzelnica FSO\, ul. Jagiellońska 88/10\, Warszawa\, 00-992\, Poland
END:VEVENT
BEGIN:VEVENT
DTSTART;TZID=Europe/Warsaw:20250403T180000
DTEND;TZID=Europe/Warsaw:20250403T210000
DTSTAMP:20260420T085650
CREATED:20250113T111248Z
LAST-MODIFIED:20250113T111248Z
UID:10001697-1743703200-1743714000@ksproelia.pl
SUMMARY:Spotkania klubu strzeleckiego
DESCRIPTION:
URL:https://ksproelia.pl/event/spotkania-klubu-strzeleckiego-3/2025-04-03/
LOCATION:Strzelnica FSO\, ul. Jagiellońska 88/10\, Warszawa\, 00-992\, Poland
END:VEVENT
BEGIN:VEVENT
DTSTART;TZID=Europe/Warsaw:20250401T180000
DTEND;TZID=Europe/Warsaw:20250401T210000
DTSTAMP:20260420T085650
CREATED:20250113T111248Z
LAST-MODIFIED:20250113T111248Z
UID:10001696-1743530400-1743541200@ksproelia.pl
SUMMARY:Spotkania klubu strzeleckiego
DESCRIPTION:
URL:https://ksproelia.pl/event/spotkania-klubu-strzeleckiego-3/2025-04-01/
LOCATION:Strzelnica FSO\, ul. Jagiellońska 88/10\, Warszawa\, 00-992\, Poland
END:VEVENT
BEGIN:VEVENT
DTSTART;TZID=Europe/Warsaw:20250330T100000
DTEND;TZID=Europe/Warsaw:20250330T150000
DTSTAMP:20260420T085650
CREATED:20240309T122956Z
LAST-MODIFIED:20250103T134016Z
UID:10000534-1743328800-1743346800@ksproelia.pl
SUMMARY:Zawody Strzeleckie o Puchar Prezesa KS PROELIA
DESCRIPTION:
URL:https://ksproelia.pl/event/zawody-strzeleckie-o-puchar-prezesa-ks-proelia-4/2025-03-30/
LOCATION:Strzelnica FSO\, ul. Jagiellońska 88/10\, Warszawa\, 00-992\, Poland
CATEGORIES:Zawody strzeleckie
END:VEVENT
BEGIN:VEVENT
DTSTART;VALUE=DATE:20250329
DTEND;VALUE=DATE:20250330
DTSTAMP:20260420T085650
CREATED:20240309T104454Z
LAST-MODIFIED:20250103T140049Z
UID:10000540-1743206400-1743292799@ksproelia.pl
SUMMARY:Egzamin na Patent
DESCRIPTION:
URL:https://ksproelia.pl/event/egzamin-na-patent-2025/2025-03-29/
LOCATION:Strzelnica FSO\, ul. Jagiellońska 88/10\, Warszawa\, 00-992\, Poland
CATEGORIES:Egzaminy na patent strzelecki
END:VEVENT
BEGIN:VEVENT
DTSTART;TZID=Europe/Warsaw:20250327T180000
DTEND;TZID=Europe/Warsaw:20250327T210000
DTSTAMP:20260420T085650
CREATED:20250113T111248Z
LAST-MODIFIED:20250113T111248Z
UID:10001695-1743098400-1743109200@ksproelia.pl
SUMMARY:Spotkania klubu strzeleckiego
DESCRIPTION:
URL:https://ksproelia.pl/event/spotkania-klubu-strzeleckiego-3/2025-03-27/
LOCATION:Strzelnica FSO\, ul. Jagiellońska 88/10\, Warszawa\, 00-992\, Poland
END:VEVENT
BEGIN:VEVENT
DTSTART;TZID=Europe/Warsaw:20250325T180000
DTEND;TZID=Europe/Warsaw:20250325T210000
DTSTAMP:20260420T085650
CREATED:20250113T111248Z
LAST-MODIFIED:20250113T111248Z
UID:10001694-1742925600-1742936400@ksproelia.pl
SUMMARY:Spotkania klubu strzeleckiego
DESCRIPTION:
URL:https://ksproelia.pl/event/spotkania-klubu-strzeleckiego-3/2025-03-25/
LOCATION:Strzelnica FSO\, ul. Jagiellońska 88/10\, Warszawa\, 00-992\, Poland
END:VEVENT
BEGIN:VEVENT
DTSTART;TZID=Europe/Warsaw:20250320T180000
DTEND;TZID=Europe/Warsaw:20250320T210000
DTSTAMP:20260420T085650
CREATED:20250113T111248Z
LAST-MODIFIED:20250113T111248Z
UID:10001693-1742493600-1742504400@ksproelia.pl
SUMMARY:Spotkania klubu strzeleckiego
DESCRIPTION:
URL:https://ksproelia.pl/event/spotkania-klubu-strzeleckiego-3/2025-03-20/
LOCATION:Strzelnica FSO\, ul. Jagiellońska 88/10\, Warszawa\, 00-992\, Poland
END:VEVENT
BEGIN:VEVENT
DTSTART;TZID=Europe/Warsaw:20250318T180000
DTEND;TZID=Europe/Warsaw:20250318T210000
DTSTAMP:20260420T085650
CREATED:20250113T111248Z
LAST-MODIFIED:20250113T111248Z
UID:10001692-1742320800-1742331600@ksproelia.pl
SUMMARY:Spotkania klubu strzeleckiego
DESCRIPTION:
URL:https://ksproelia.pl/event/spotkania-klubu-strzeleckiego-3/2025-03-18/
LOCATION:Strzelnica FSO\, ul. Jagiellońska 88/10\, Warszawa\, 00-992\, Poland
END:VEVENT
BEGIN:VEVENT
DTSTART;VALUE=DATE:20250315
DTEND;VALUE=DATE:20250317
DTSTAMP:20260420T085650
CREATED:20250224T203947Z
LAST-MODIFIED:20250224T204054Z
UID:10001775-1741996800-1742169599@ksproelia.pl
SUMMARY:Kurs Prowadzącego Strzelanie
DESCRIPTION:
URL:https://ksproelia.pl/event/kurs-prowadzacego-strzelanie/
LOCATION:Strzelnica FSO\, ul. Jagiellońska 88/10\, Warszawa\, 00-992\, Poland
END:VEVENT
BEGIN:VEVENT
DTSTART;TZID=Europe/Warsaw:20250313T180000
DTEND;TZID=Europe/Warsaw:20250313T210000
DTSTAMP:20260420T085650
CREATED:20250113T111248Z
LAST-MODIFIED:20250113T111248Z
UID:10001691-1741888800-1741899600@ksproelia.pl
SUMMARY:Spotkania klubu strzeleckiego
DESCRIPTION:
URL:https://ksproelia.pl/event/spotkania-klubu-strzeleckiego-3/2025-03-13/
LOCATION:Strzelnica FSO\, ul. Jagiellońska 88/10\, Warszawa\, 00-992\, Poland
END:VEVENT
BEGIN:VEVENT
DTSTART;TZID=Europe/Warsaw:20250311T180000
DTEND;TZID=Europe/Warsaw:20250311T210000
DTSTAMP:20260420T085650
CREATED:20250113T111248Z
LAST-MODIFIED:20250113T111248Z
UID:10001690-1741716000-1741726800@ksproelia.pl
SUMMARY:Spotkania klubu strzeleckiego
DESCRIPTION:
URL:https://ksproelia.pl/event/spotkania-klubu-strzeleckiego-3/2025-03-11/
LOCATION:Strzelnica FSO\, ul. Jagiellońska 88/10\, Warszawa\, 00-992\, Poland
END:VEVENT
BEGIN:VEVENT
DTSTART;TZID=Europe/Warsaw:20250309T110000
DTEND;TZID=Europe/Warsaw:20250309T160000
DTSTAMP:20260420T085650
CREATED:20250103T132636Z
LAST-MODIFIED:20250103T132636Z
UID:10000497-1741518000-1741536000@ksproelia.pl
SUMMARY:Zawody Otwarte KS PROELIA
DESCRIPTION:
URL:https://ksproelia.pl/event/zawody-otwarte-ks-proelia-25/2025-03-09/
LOCATION:Strzelnica FSO\, ul. Jagiellońska 88/10\, Warszawa\, 00-992\, Poland
CATEGORIES:Zawody strzeleckie
END:VEVENT
BEGIN:VEVENT
DTSTART;TZID=Europe/Warsaw:20250306T180000
DTEND;TZID=Europe/Warsaw:20250306T210000
DTSTAMP:20260420T085650
CREATED:20250113T111248Z
LAST-MODIFIED:20250113T111248Z
UID:10001689-1741284000-1741294800@ksproelia.pl
SUMMARY:Spotkania klubu strzeleckiego
DESCRIPTION:
URL:https://ksproelia.pl/event/spotkania-klubu-strzeleckiego-3/2025-03-06/
LOCATION:Strzelnica FSO\, ul. Jagiellońska 88/10\, Warszawa\, 00-992\, Poland
END:VEVENT
BEGIN:VEVENT
DTSTART;TZID=Europe/Warsaw:20250304T180000
DTEND;TZID=Europe/Warsaw:20250304T210000
DTSTAMP:20260420T085650
CREATED:20250113T111248Z
LAST-MODIFIED:20250113T111248Z
UID:10001688-1741111200-1741122000@ksproelia.pl
SUMMARY:Spotkania klubu strzeleckiego
DESCRIPTION:
URL:https://ksproelia.pl/event/spotkania-klubu-strzeleckiego-3/2025-03-04/
LOCATION:Strzelnica FSO\, ul. Jagiellońska 88/10\, Warszawa\, 00-992\, Poland
END:VEVENT
BEGIN:VEVENT
DTSTART;TZID=Europe/Warsaw:20250227T180000
DTEND;TZID=Europe/Warsaw:20250227T210000
DTSTAMP:20260420T085650
CREATED:20250113T111248Z
LAST-MODIFIED:20250113T111248Z
UID:10001687-1740679200-1740690000@ksproelia.pl
SUMMARY:Spotkania klubu strzeleckiego
DESCRIPTION:
URL:https://ksproelia.pl/event/spotkania-klubu-strzeleckiego-3/2025-02-27/
LOCATION:Strzelnica FSO\, ul. Jagiellońska 88/10\, Warszawa\, 00-992\, Poland
END:VEVENT
BEGIN:VEVENT
DTSTART;TZID=Europe/Warsaw:20250225T180000
DTEND;TZID=Europe/Warsaw:20250225T210000
DTSTAMP:20260420T085650
CREATED:20250113T111248Z
LAST-MODIFIED:20250113T111248Z
UID:10001686-1740506400-1740517200@ksproelia.pl
SUMMARY:Spotkania klubu strzeleckiego
DESCRIPTION:
URL:https://ksproelia.pl/event/spotkania-klubu-strzeleckiego-3/2025-02-25/
LOCATION:Strzelnica FSO\, ul. Jagiellońska 88/10\, Warszawa\, 00-992\, Poland
END:VEVENT
BEGIN:VEVENT
DTSTART;TZID=Europe/Warsaw:20250223T110000
DTEND;TZID=Europe/Warsaw:20250223T160000
DTSTAMP:20260420T085650
CREATED:20250103T132636Z
LAST-MODIFIED:20250103T132636Z
UID:10000496-1740308400-1740326400@ksproelia.pl
SUMMARY:Zawody Otwarte KS PROELIA
DESCRIPTION:
URL:https://ksproelia.pl/event/zawody-otwarte-ks-proelia-25/2025-02-23/
LOCATION:Strzelnica FSO\, ul. Jagiellońska 88/10\, Warszawa\, 00-992\, Poland
CATEGORIES:Zawody strzeleckie
END:VEVENT
BEGIN:VEVENT
DTSTART;VALUE=DATE:20250222
DTEND;VALUE=DATE:20250223
DTSTAMP:20260420T085650
CREATED:20240309T104454Z
LAST-MODIFIED:20250103T140049Z
UID:10000539-1740182400-1740268799@ksproelia.pl
SUMMARY:Egzamin na Patent
DESCRIPTION:
URL:https://ksproelia.pl/event/egzamin-na-patent-2025/2025-02-22/
LOCATION:Strzelnica FSO\, ul. Jagiellońska 88/10\, Warszawa\, 00-992\, Poland
CATEGORIES:Egzaminy na patent strzelecki
END:VEVENT
BEGIN:VEVENT
DTSTART;TZID=Europe/Warsaw:20250220T180000
DTEND;TZID=Europe/Warsaw:20250220T210000
DTSTAMP:20260420T085650
CREATED:20250113T111248Z
LAST-MODIFIED:20250113T111248Z
UID:10001685-1740074400-1740085200@ksproelia.pl
SUMMARY:Spotkania klubu strzeleckiego
DESCRIPTION:
URL:https://ksproelia.pl/event/spotkania-klubu-strzeleckiego-3/2025-02-20/
LOCATION:Strzelnica FSO\, ul. Jagiellońska 88/10\, Warszawa\, 00-992\, Poland
END:VEVENT
BEGIN:VEVENT
DTSTART;TZID=Europe/Warsaw:20250218T180000
DTEND;TZID=Europe/Warsaw:20250218T210000
DTSTAMP:20260420T085650
CREATED:20250113T111248Z
LAST-MODIFIED:20250113T111248Z
UID:10001684-1739901600-1739912400@ksproelia.pl
SUMMARY:Spotkania klubu strzeleckiego
DESCRIPTION:
URL:https://ksproelia.pl/event/spotkania-klubu-strzeleckiego-3/2025-02-18/
LOCATION:Strzelnica FSO\, ul. Jagiellońska 88/10\, Warszawa\, 00-992\, Poland
END:VEVENT
END:VCALENDAR