BEGIN:VCALENDAR
VERSION:2.0
PRODID:-//Proelia - ECPv6.5.0//NONSGML v1.0//EN
CALSCALE:GREGORIAN
METHOD:PUBLISH
X-ORIGINAL-URL:https://ksproelia.pl
X-WR-CALDESC:Wydarzenia dla Proelia
REFRESH-INTERVAL;VALUE=DURATION:PT1H
X-Robots-Tag:noindex
X-PUBLISHED-TTL:PT1H
BEGIN:VTIMEZONE
TZID:Europe/Warsaw
BEGIN:DAYLIGHT
TZOFFSETFROM:+0100
TZOFFSETTO:+0200
TZNAME:CEST
DTSTART:20240331T010000
END:DAYLIGHT
BEGIN:STANDARD
TZOFFSETFROM:+0200
TZOFFSETTO:+0100
TZNAME:CET
DTSTART:20241027T010000
END:STANDARD
END:VTIMEZONE
BEGIN:VEVENT
DTSTART;TZID=Europe/Warsaw:20241222T110000
DTEND;TZID=Europe/Warsaw:20241222T160000
DTSTAMP:20260422T143132
CREATED:20240309T123011Z
LAST-MODIFIED:20240409T210334Z
UID:10000051-1734865200-1734883200@ksproelia.pl
SUMMARY:Zawody Otwarte KS PROELIA
DESCRIPTION:
URL:https://ksproelia.pl/event/zawody-otwarte-ks-proelia-23/
LOCATION:Strzelnica FSO\, ul. Jagiellońska 88/10\, Warszawa\, 00-992\, Poland
CATEGORIES:Zawody strzeleckie
END:VEVENT
BEGIN:VEVENT
DTSTART;TZID=Europe/Warsaw:20241219T180000
DTEND;TZID=Europe/Warsaw:20241219T210000
DTSTAMP:20260422T143132
CREATED:20240528T061340Z
LAST-MODIFIED:20240528T061340Z
UID:10000211-1734631200-1734642000@ksproelia.pl
SUMMARY:Spotkania klubu strzeleckiego
DESCRIPTION:
URL:https://ksproelia.pl/event/spotkania-klubu-strzeleckiego-2-2/2024-12-19/
LOCATION:Strzelnica FSO\, ul. Jagiellońska 88/10\, Warszawa\, 00-992\, Poland
END:VEVENT
BEGIN:VEVENT
DTSTART;TZID=Europe/Warsaw:20241217T180000
DTEND;TZID=Europe/Warsaw:20241217T210000
DTSTAMP:20260422T143132
CREATED:20240403T084938Z
LAST-MODIFIED:20240409T205128Z
UID:10000171-1734458400-1734469200@ksproelia.pl
SUMMARY:Spotkania klubu strzeleckiego
DESCRIPTION:
URL:https://ksproelia.pl/event/spotkania-klubu-strzeleckiego/2024-12-17/
LOCATION:Strzelnica FSO\, ul. Jagiellońska 88/10\, Warszawa\, 00-992\, Poland
END:VEVENT
BEGIN:VEVENT
DTSTART;TZID=Europe/Warsaw:20241212T180000
DTEND;TZID=Europe/Warsaw:20241212T210000
DTSTAMP:20260422T143132
CREATED:20240528T061340Z
LAST-MODIFIED:20240528T061340Z
UID:10000210-1734026400-1734037200@ksproelia.pl
SUMMARY:Spotkania klubu strzeleckiego
DESCRIPTION:
URL:https://ksproelia.pl/event/spotkania-klubu-strzeleckiego-2-2/2024-12-12/
LOCATION:Strzelnica FSO\, ul. Jagiellońska 88/10\, Warszawa\, 00-992\, Poland
END:VEVENT
BEGIN:VEVENT
DTSTART;TZID=Europe/Warsaw:20241210T180000
DTEND;TZID=Europe/Warsaw:20241210T210000
DTSTAMP:20260422T143132
CREATED:20240403T084938Z
LAST-MODIFIED:20240409T205128Z
UID:10000170-1733853600-1733864400@ksproelia.pl
SUMMARY:Spotkania klubu strzeleckiego
DESCRIPTION:
URL:https://ksproelia.pl/event/spotkania-klubu-strzeleckiego/2024-12-10/
LOCATION:Strzelnica FSO\, ul. Jagiellońska 88/10\, Warszawa\, 00-992\, Poland
END:VEVENT
BEGIN:VEVENT
DTSTART;TZID=Europe/Warsaw:20241208T110000
DTEND;TZID=Europe/Warsaw:20241208T160000
DTSTAMP:20260422T143132
CREATED:20240309T122937Z
LAST-MODIFIED:20240409T210324Z
UID:10000049-1733655600-1733673600@ksproelia.pl
SUMMARY:Zawody Otwarte KS PROELIA
DESCRIPTION:
URL:https://ksproelia.pl/event/zawody-otwarte-ks-proelia-22/
LOCATION:Strzelnica FSO\, ul. Jagiellońska 88/10\, Warszawa\, 00-992\, Poland
CATEGORIES:Zawody strzeleckie
END:VEVENT
BEGIN:VEVENT
DTSTART;TZID=Europe/Warsaw:20241205T180000
DTEND;TZID=Europe/Warsaw:20241205T210000
DTSTAMP:20260422T143132
CREATED:20240528T061340Z
LAST-MODIFIED:20240528T061340Z
UID:10000209-1733421600-1733432400@ksproelia.pl
SUMMARY:Spotkania klubu strzeleckiego
DESCRIPTION:
URL:https://ksproelia.pl/event/spotkania-klubu-strzeleckiego-2-2/2024-12-05/
LOCATION:Strzelnica FSO\, ul. Jagiellońska 88/10\, Warszawa\, 00-992\, Poland
END:VEVENT
BEGIN:VEVENT
DTSTART;TZID=Europe/Warsaw:20241203T180000
DTEND;TZID=Europe/Warsaw:20241203T210000
DTSTAMP:20260422T143132
CREATED:20240403T084938Z
LAST-MODIFIED:20240409T205128Z
UID:10000169-1733248800-1733259600@ksproelia.pl
SUMMARY:Spotkania klubu strzeleckiego
DESCRIPTION:
URL:https://ksproelia.pl/event/spotkania-klubu-strzeleckiego/2024-12-03/
LOCATION:Strzelnica FSO\, ul. Jagiellońska 88/10\, Warszawa\, 00-992\, Poland
END:VEVENT
BEGIN:VEVENT
DTSTART;TZID=Europe/Warsaw:20241201T110000
DTEND;TZID=Europe/Warsaw:20241201T160000
DTSTAMP:20260422T143132
CREATED:20240309T122920Z
LAST-MODIFIED:20240409T210312Z
UID:10000048-1733050800-1733068800@ksproelia.pl
SUMMARY:Zawody Otwarte KS PROELIA
DESCRIPTION:
URL:https://ksproelia.pl/event/zawody-otwarte-ks-proelia-21/
LOCATION:Strzelnica FSO\, ul. Jagiellońska 88/10\, Warszawa\, 00-992\, Poland
CATEGORIES:Zawody strzeleckie
END:VEVENT
BEGIN:VEVENT
DTSTART;VALUE=DATE:20241130
DTEND;VALUE=DATE:20241201
DTSTAMP:20260422T143132
CREATED:20240309T104312Z
LAST-MODIFIED:20240309T104412Z
UID:10000022-1732924800-1733011199@ksproelia.pl
SUMMARY:Egzamin na Patent
DESCRIPTION:
URL:https://ksproelia.pl/event/egzamin-na-patent-listopad/
LOCATION:Strzelnica FSO\, ul. Jagiellońska 88/10\, Warszawa\, 00-992\, Poland
CATEGORIES:Egzaminy na patent strzelecki
END:VEVENT
BEGIN:VEVENT
DTSTART;TZID=Europe/Warsaw:20241128T180000
DTEND;TZID=Europe/Warsaw:20241128T210000
DTSTAMP:20260422T143132
CREATED:20240528T061340Z
LAST-MODIFIED:20240528T061340Z
UID:10000208-1732816800-1732827600@ksproelia.pl
SUMMARY:Spotkania klubu strzeleckiego
DESCRIPTION:
URL:https://ksproelia.pl/event/spotkania-klubu-strzeleckiego-2-2/2024-11-28/
LOCATION:Strzelnica FSO\, ul. Jagiellońska 88/10\, Warszawa\, 00-992\, Poland
END:VEVENT
BEGIN:VEVENT
DTSTART;TZID=Europe/Warsaw:20241126T180000
DTEND;TZID=Europe/Warsaw:20241126T210000
DTSTAMP:20260422T143132
CREATED:20240403T084938Z
LAST-MODIFIED:20240409T205128Z
UID:10000168-1732644000-1732654800@ksproelia.pl
SUMMARY:Spotkania klubu strzeleckiego
DESCRIPTION:
URL:https://ksproelia.pl/event/spotkania-klubu-strzeleckiego/2024-11-26/
LOCATION:Strzelnica FSO\, ul. Jagiellońska 88/10\, Warszawa\, 00-992\, Poland
END:VEVENT
BEGIN:VEVENT
DTSTART;TZID=Europe/Warsaw:20241124T110000
DTEND;TZID=Europe/Warsaw:20241124T160000
DTSTAMP:20260422T143132
CREATED:20240309T122859Z
LAST-MODIFIED:20240409T210301Z
UID:10000047-1732446000-1732464000@ksproelia.pl
SUMMARY:Zawody Otwarte KS PROELIA
DESCRIPTION:
URL:https://ksproelia.pl/event/zawody-otwarte-ks-proelia-20/
LOCATION:Strzelnica FSO\, ul. Jagiellońska 88/10\, Warszawa\, 00-992\, Poland
CATEGORIES:Zawody strzeleckie
END:VEVENT
BEGIN:VEVENT
DTSTART;TZID=Europe/Warsaw:20241121T180000
DTEND;TZID=Europe/Warsaw:20241121T210000
DTSTAMP:20260422T143132
CREATED:20240528T061340Z
LAST-MODIFIED:20240528T061340Z
UID:10000207-1732212000-1732222800@ksproelia.pl
SUMMARY:Spotkania klubu strzeleckiego
DESCRIPTION:
URL:https://ksproelia.pl/event/spotkania-klubu-strzeleckiego-2-2/2024-11-21/
LOCATION:Strzelnica FSO\, ul. Jagiellońska 88/10\, Warszawa\, 00-992\, Poland
END:VEVENT
BEGIN:VEVENT
DTSTART;TZID=Europe/Warsaw:20241119T180000
DTEND;TZID=Europe/Warsaw:20241119T210000
DTSTAMP:20260422T143132
CREATED:20240403T084938Z
LAST-MODIFIED:20240409T205128Z
UID:10000167-1732039200-1732050000@ksproelia.pl
SUMMARY:Spotkania klubu strzeleckiego
DESCRIPTION:
URL:https://ksproelia.pl/event/spotkania-klubu-strzeleckiego/2024-11-19/
LOCATION:Strzelnica FSO\, ul. Jagiellońska 88/10\, Warszawa\, 00-992\, Poland
END:VEVENT
BEGIN:VEVENT
DTSTART;TZID=Europe/Warsaw:20241117T110000
DTEND;TZID=Europe/Warsaw:20241117T160000
DTSTAMP:20260422T143132
CREATED:20240309T122842Z
LAST-MODIFIED:20240409T210251Z
UID:10000046-1731841200-1731859200@ksproelia.pl
SUMMARY:Zawody Otwarte KS PROELIA
DESCRIPTION:
URL:https://ksproelia.pl/event/zawody-otwarte-ks-proelia-19/
LOCATION:Strzelnica FSO\, ul. Jagiellońska 88/10\, Warszawa\, 00-992\, Poland
CATEGORIES:Zawody strzeleckie
END:VEVENT
BEGIN:VEVENT
DTSTART;TZID=Europe/Warsaw:20241116T090000
DTEND;TZID=Europe/Warsaw:20241117T160000
DTSTAMP:20260422T143132
CREATED:20240309T100523Z
LAST-MODIFIED:20240409T210828Z
UID:10000011-1731747600-1731859200@ksproelia.pl
SUMMARY:Kurs „Prowadzący Strzelanie”
DESCRIPTION:
URL:https://ksproelia.pl/event/kurs-prowadzacy-strzelanie-listopad/
LOCATION:Strzelnica FSO\, ul. Jagiellońska 88/10\, Warszawa\, 00-992\, Poland
CATEGORIES:Kursy prowadzącego strzelnie
END:VEVENT
BEGIN:VEVENT
DTSTART;TZID=Europe/Warsaw:20241114T180000
DTEND;TZID=Europe/Warsaw:20241114T210000
DTSTAMP:20260422T143132
CREATED:20240528T061340Z
LAST-MODIFIED:20240528T061340Z
UID:10000206-1731607200-1731618000@ksproelia.pl
SUMMARY:Spotkania klubu strzeleckiego
DESCRIPTION:
URL:https://ksproelia.pl/event/spotkania-klubu-strzeleckiego-2-2/2024-11-14/
LOCATION:Strzelnica FSO\, ul. Jagiellońska 88/10\, Warszawa\, 00-992\, Poland
END:VEVENT
BEGIN:VEVENT
DTSTART;TZID=Europe/Warsaw:20241112T180000
DTEND;TZID=Europe/Warsaw:20241112T210000
DTSTAMP:20260422T143132
CREATED:20240403T084938Z
LAST-MODIFIED:20240409T205128Z
UID:10000166-1731434400-1731445200@ksproelia.pl
SUMMARY:Spotkania klubu strzeleckiego
DESCRIPTION:
URL:https://ksproelia.pl/event/spotkania-klubu-strzeleckiego/2024-11-12/
LOCATION:Strzelnica FSO\, ul. Jagiellońska 88/10\, Warszawa\, 00-992\, Poland
END:VEVENT
BEGIN:VEVENT
DTSTART;TZID=Europe/Warsaw:20241110T110000
DTEND;TZID=Europe/Warsaw:20241110T160000
DTSTAMP:20260422T143132
CREATED:20240309T122824Z
LAST-MODIFIED:20240409T210236Z
UID:10000045-1731236400-1731254400@ksproelia.pl
SUMMARY:Zawody Otwarte KS PROELIA
DESCRIPTION:
URL:https://ksproelia.pl/event/zawody-otwarte-ks-proelia-18/
LOCATION:Strzelnica FSO\, ul. Jagiellońska 88/10\, Warszawa\, 00-992\, Poland
CATEGORIES:Zawody strzeleckie
END:VEVENT
BEGIN:VEVENT
DTSTART;TZID=Europe/Warsaw:20241107T180000
DTEND;TZID=Europe/Warsaw:20241107T210000
DTSTAMP:20260422T143132
CREATED:20240528T061340Z
LAST-MODIFIED:20240528T061340Z
UID:10000205-1731002400-1731013200@ksproelia.pl
SUMMARY:Spotkania klubu strzeleckiego
DESCRIPTION:
URL:https://ksproelia.pl/event/spotkania-klubu-strzeleckiego-2-2/2024-11-07/
LOCATION:Strzelnica FSO\, ul. Jagiellońska 88/10\, Warszawa\, 00-992\, Poland
END:VEVENT
BEGIN:VEVENT
DTSTART;TZID=Europe/Warsaw:20241105T180000
DTEND;TZID=Europe/Warsaw:20241105T210000
DTSTAMP:20260422T143132
CREATED:20240403T084938Z
LAST-MODIFIED:20240409T205128Z
UID:10000165-1730829600-1730840400@ksproelia.pl
SUMMARY:Spotkania klubu strzeleckiego
DESCRIPTION:
URL:https://ksproelia.pl/event/spotkania-klubu-strzeleckiego/2024-11-05/
LOCATION:Strzelnica FSO\, ul. Jagiellońska 88/10\, Warszawa\, 00-992\, Poland
END:VEVENT
BEGIN:VEVENT
DTSTART;TZID=Europe/Warsaw:20241103T110000
DTEND;TZID=Europe/Warsaw:20241103T160000
DTSTAMP:20260422T143132
CREATED:20240309T122808Z
LAST-MODIFIED:20240409T210142Z
UID:10000044-1730631600-1730649600@ksproelia.pl
SUMMARY:Zawody Otwarte KS PROELIA
DESCRIPTION:
URL:https://ksproelia.pl/event/zawody-otwarte-ks-proelia-17/
LOCATION:Strzelnica FSO\, ul. Jagiellońska 88/10\, Warszawa\, 00-992\, Poland
CATEGORIES:Zawody strzeleckie
END:VEVENT
BEGIN:VEVENT
DTSTART;TZID=Europe/Warsaw:20241031T180000
DTEND;TZID=Europe/Warsaw:20241031T210000
DTSTAMP:20260422T143132
CREATED:20240528T061340Z
LAST-MODIFIED:20240528T061340Z
UID:10000204-1730397600-1730408400@ksproelia.pl
SUMMARY:Spotkania klubu strzeleckiego
DESCRIPTION:
URL:https://ksproelia.pl/event/spotkania-klubu-strzeleckiego-2-2/2024-10-31/
LOCATION:Strzelnica FSO\, ul. Jagiellońska 88/10\, Warszawa\, 00-992\, Poland
END:VEVENT
BEGIN:VEVENT
DTSTART;TZID=Europe/Warsaw:20241029T180000
DTEND;TZID=Europe/Warsaw:20241029T210000
DTSTAMP:20260422T143132
CREATED:20240403T084938Z
LAST-MODIFIED:20240409T205128Z
UID:10000164-1730224800-1730235600@ksproelia.pl
SUMMARY:Spotkania klubu strzeleckiego
DESCRIPTION:
URL:https://ksproelia.pl/event/spotkania-klubu-strzeleckiego/2024-10-29/
LOCATION:Strzelnica FSO\, ul. Jagiellońska 88/10\, Warszawa\, 00-992\, Poland
END:VEVENT
BEGIN:VEVENT
DTSTART;TZID=Europe/Warsaw:20241027T110000
DTEND;TZID=Europe/Warsaw:20241027T160000
DTSTAMP:20260422T143132
CREATED:20240309T122446Z
LAST-MODIFIED:20240409T210104Z
UID:10000043-1730026800-1730044800@ksproelia.pl
SUMMARY:Zawody Otwarte KS PROELIA
DESCRIPTION:
URL:https://ksproelia.pl/event/zawody-otwarte-ks-proelia-16/
LOCATION:Strzelnica FSO\, ul. Jagiellońska 88/10\, Warszawa\, 00-992\, Poland
CATEGORIES:Zawody strzeleckie
END:VEVENT
BEGIN:VEVENT
DTSTART;VALUE=DATE:20241026
DTEND;VALUE=DATE:20241027
DTSTAMP:20260422T143132
CREATED:20240309T104027Z
LAST-MODIFIED:20240309T104253Z
UID:10000021-1729900800-1729987199@ksproelia.pl
SUMMARY:Egzamin na Patent
DESCRIPTION:
URL:https://ksproelia.pl/event/egzamin-na-patent-pazdziernik/
LOCATION:Strzelnica FSO\, ul. Jagiellońska 88/10\, Warszawa\, 00-992\, Poland
CATEGORIES:Egzaminy na patent strzelecki
END:VEVENT
BEGIN:VEVENT
DTSTART;TZID=Europe/Warsaw:20241024T180000
DTEND;TZID=Europe/Warsaw:20241024T210000
DTSTAMP:20260422T143132
CREATED:20240528T061340Z
LAST-MODIFIED:20240528T061340Z
UID:10000203-1729792800-1729803600@ksproelia.pl
SUMMARY:Spotkania klubu strzeleckiego
DESCRIPTION:
URL:https://ksproelia.pl/event/spotkania-klubu-strzeleckiego-2-2/2024-10-24/
LOCATION:Strzelnica FSO\, ul. Jagiellońska 88/10\, Warszawa\, 00-992\, Poland
END:VEVENT
BEGIN:VEVENT
DTSTART;TZID=Europe/Warsaw:20241022T180000
DTEND;TZID=Europe/Warsaw:20241022T210000
DTSTAMP:20260422T143132
CREATED:20240403T084938Z
LAST-MODIFIED:20240409T205128Z
UID:10000163-1729620000-1729630800@ksproelia.pl
SUMMARY:Spotkania klubu strzeleckiego
DESCRIPTION:
URL:https://ksproelia.pl/event/spotkania-klubu-strzeleckiego/2024-10-22/
LOCATION:Strzelnica FSO\, ul. Jagiellońska 88/10\, Warszawa\, 00-992\, Poland
END:VEVENT
BEGIN:VEVENT
DTSTART;TZID=Europe/Warsaw:20241020T110000
DTEND;TZID=Europe/Warsaw:20241020T160000
DTSTAMP:20260422T143132
CREATED:20240309T122429Z
LAST-MODIFIED:20240409T210004Z
UID:10000042-1729422000-1729440000@ksproelia.pl
SUMMARY:Zawody Otwarte KS PROELIA
DESCRIPTION:
URL:https://ksproelia.pl/event/zawody-otwarte-ks-proelia-15/
LOCATION:Strzelnica FSO\, ul. Jagiellońska 88/10\, Warszawa\, 00-992\, Poland
CATEGORIES:Zawody strzeleckie
END:VEVENT
END:VCALENDAR