BEGIN:VCALENDAR
VERSION:2.0
PRODID:-//Proelia - ECPv6.5.0//NONSGML v1.0//EN
CALSCALE:GREGORIAN
METHOD:PUBLISH
X-ORIGINAL-URL:https://ksproelia.pl
X-WR-CALDESC:Wydarzenia dla Proelia
REFRESH-INTERVAL;VALUE=DURATION:PT1H
X-Robots-Tag:noindex
X-PUBLISHED-TTL:PT1H
BEGIN:VTIMEZONE
TZID:Europe/Warsaw
BEGIN:DAYLIGHT
TZOFFSETFROM:+0100
TZOFFSETTO:+0200
TZNAME:CEST
DTSTART:20260329T010000
END:DAYLIGHT
BEGIN:STANDARD
TZOFFSETFROM:+0200
TZOFFSETTO:+0100
TZNAME:CET
DTSTART:20261025T010000
END:STANDARD
END:VTIMEZONE
BEGIN:VEVENT
DTSTART;TZID=Europe/Warsaw:20260521T180000
DTEND;TZID=Europe/Warsaw:20260521T210000
DTSTAMP:20260419T153001
CREATED:20250618T091531Z
LAST-MODIFIED:20250618T091710Z
UID:10001893-1779386400-1779397200@ksproelia.pl
SUMMARY:Spotkania klubu strzeleckiego
DESCRIPTION:
URL:https://ksproelia.pl/event/spotkania-klubu-strzeleckiego-3-2-3/2026-05-21/
LOCATION:Strzelnica FSO\, ul. Jagiellońska 88/10\, Warszawa\, 00-992\, Poland
END:VEVENT
BEGIN:VEVENT
DTSTART;TZID=Europe/Warsaw:20260526T180000
DTEND;TZID=Europe/Warsaw:20260526T210000
DTSTAMP:20260419T153001
CREATED:20251223T094719Z
LAST-MODIFIED:20251223T094719Z
UID:10001836-1779818400-1779829200@ksproelia.pl
SUMMARY:Spotkania klubu strzeleckiego
DESCRIPTION:
URL:https://ksproelia.pl/event/spotkania-klubu-strzeleckiego-3-2-2-2-2/2026-05-26/
LOCATION:Strzelnica FSO\, ul. Jagiellońska 88/10\, Warszawa\, 00-992\, Poland
END:VEVENT
BEGIN:VEVENT
DTSTART;TZID=Europe/Warsaw:20260528T180000
DTEND;TZID=Europe/Warsaw:20260528T210000
DTSTAMP:20260419T153001
CREATED:20250618T091531Z
LAST-MODIFIED:20250618T091710Z
UID:10001894-1779991200-1780002000@ksproelia.pl
SUMMARY:Spotkania klubu strzeleckiego
DESCRIPTION:
URL:https://ksproelia.pl/event/spotkania-klubu-strzeleckiego-3-2-3/2026-05-28/
LOCATION:Strzelnica FSO\, ul. Jagiellońska 88/10\, Warszawa\, 00-992\, Poland
END:VEVENT
BEGIN:VEVENT
DTSTART;TZID=Europe/Warsaw:20260531T100000
DTEND;TZID=Europe/Warsaw:20260531T160000
DTSTAMP:20260419T153001
CREATED:20260107T180829Z
LAST-MODIFIED:20260413T125639Z
UID:10002222-1780221600-1780243200@ksproelia.pl
SUMMARY:Zawody Otwarte KS PROELIA
DESCRIPTION:Zapisy od godz. 10:00 do godz. 15:00\nZawody od godz. 11:00 do godz. 16:00.
URL:https://ksproelia.pl/event/zawody-otwarte-ks-proelia-34/2026-05-31/
LOCATION:Strzelnica FSO\, ul. Jagiellońska 88/10\, Warszawa\, 00-992\, Poland
CATEGORIES:Zawody strzeleckie
END:VEVENT
BEGIN:VEVENT
DTSTART;TZID=Europe/Warsaw:20260602T180000
DTEND;TZID=Europe/Warsaw:20260602T210000
DTSTAMP:20260419T153001
CREATED:20251223T094719Z
LAST-MODIFIED:20251223T094719Z
UID:10001837-1780423200-1780434000@ksproelia.pl
SUMMARY:Spotkania klubu strzeleckiego
DESCRIPTION:
URL:https://ksproelia.pl/event/spotkania-klubu-strzeleckiego-3-2-2-2-2/2026-06-02/
LOCATION:Strzelnica FSO\, ul. Jagiellońska 88/10\, Warszawa\, 00-992\, Poland
END:VEVENT
BEGIN:VEVENT
DTSTART;TZID=Europe/Warsaw:20260604T180000
DTEND;TZID=Europe/Warsaw:20260604T210000
DTSTAMP:20260419T153001
CREATED:20250618T091531Z
LAST-MODIFIED:20250618T091710Z
UID:10001895-1780596000-1780606800@ksproelia.pl
SUMMARY:Spotkania klubu strzeleckiego
DESCRIPTION:
URL:https://ksproelia.pl/event/spotkania-klubu-strzeleckiego-3-2-3/2026-06-04/
LOCATION:Strzelnica FSO\, ul. Jagiellońska 88/10\, Warszawa\, 00-992\, Poland
END:VEVENT
BEGIN:VEVENT
DTSTART;TZID=Europe/Warsaw:20260609T180000
DTEND;TZID=Europe/Warsaw:20260609T210000
DTSTAMP:20260419T153001
CREATED:20251223T094719Z
LAST-MODIFIED:20251223T094719Z
UID:10001838-1781028000-1781038800@ksproelia.pl
SUMMARY:Spotkania klubu strzeleckiego
DESCRIPTION:
URL:https://ksproelia.pl/event/spotkania-klubu-strzeleckiego-3-2-2-2-2/2026-06-09/
LOCATION:Strzelnica FSO\, ul. Jagiellońska 88/10\, Warszawa\, 00-992\, Poland
END:VEVENT
BEGIN:VEVENT
DTSTART;TZID=Europe/Warsaw:20260611T180000
DTEND;TZID=Europe/Warsaw:20260611T210000
DTSTAMP:20260419T153001
CREATED:20250618T091531Z
LAST-MODIFIED:20250618T091710Z
UID:10001896-1781200800-1781211600@ksproelia.pl
SUMMARY:Spotkania klubu strzeleckiego
DESCRIPTION:
URL:https://ksproelia.pl/event/spotkania-klubu-strzeleckiego-3-2-3/2026-06-11/
LOCATION:Strzelnica FSO\, ul. Jagiellońska 88/10\, Warszawa\, 00-992\, Poland
END:VEVENT
BEGIN:VEVENT
DTSTART;TZID=Europe/Warsaw:20260614T100000
DTEND;TZID=Europe/Warsaw:20260614T160000
DTSTAMP:20260419T153001
CREATED:20260107T180829Z
LAST-MODIFIED:20260413T125639Z
UID:10002223-1781431200-1781452800@ksproelia.pl
SUMMARY:Zawody Otwarte KS PROELIA
DESCRIPTION:Zapisy od godz. 10:00 do godz. 15:00\nZawody od godz. 11:00 do godz. 16:00.
URL:https://ksproelia.pl/event/zawody-otwarte-ks-proelia-34/2026-06-14/
LOCATION:Strzelnica FSO\, ul. Jagiellońska 88/10\, Warszawa\, 00-992\, Poland
CATEGORIES:Zawody strzeleckie
END:VEVENT
BEGIN:VEVENT
DTSTART;TZID=Europe/Warsaw:20260616T180000
DTEND;TZID=Europe/Warsaw:20260616T210000
DTSTAMP:20260419T153001
CREATED:20251223T094719Z
LAST-MODIFIED:20251223T094719Z
UID:10001839-1781632800-1781643600@ksproelia.pl
SUMMARY:Spotkania klubu strzeleckiego
DESCRIPTION:
URL:https://ksproelia.pl/event/spotkania-klubu-strzeleckiego-3-2-2-2-2/2026-06-16/
LOCATION:Strzelnica FSO\, ul. Jagiellońska 88/10\, Warszawa\, 00-992\, Poland
END:VEVENT
BEGIN:VEVENT
DTSTART;TZID=Europe/Warsaw:20260618T180000
DTEND;TZID=Europe/Warsaw:20260618T210000
DTSTAMP:20260419T153001
CREATED:20250618T091531Z
LAST-MODIFIED:20250618T091710Z
UID:10001897-1781805600-1781816400@ksproelia.pl
SUMMARY:Spotkania klubu strzeleckiego
DESCRIPTION:
URL:https://ksproelia.pl/event/spotkania-klubu-strzeleckiego-3-2-3/2026-06-18/
LOCATION:Strzelnica FSO\, ul. Jagiellońska 88/10\, Warszawa\, 00-992\, Poland
END:VEVENT
BEGIN:VEVENT
DTSTART;TZID=Europe/Warsaw:20260621T100000
DTEND;TZID=Europe/Warsaw:20260621T160000
DTSTAMP:20260419T153001
CREATED:20260107T182005Z
LAST-MODIFIED:20260413T125504Z
UID:10002199-1782036000-1782057600@ksproelia.pl
SUMMARY:Zawody Strzeleckie o Puchar Prezesa KS PROELIA
DESCRIPTION:Zapisy od godz. 10:00 do godz. 14:30\nZawody od godz. 11:00 do godz. 15.00\nRozdanie medali o godzinie 16:00
URL:https://ksproelia.pl/event/zawody-strzeleckie-o-puchar-prezesa-ks-proelia-7/
LOCATION:Strzelnica FSO\, ul. Jagiellońska 88/10\, Warszawa\, 00-992\, Poland
CATEGORIES:Zawody strzeleckie
ATTACH;FMTTYPE=image/png:https://ksproelia.pl/wp-content/uploads/2024/03/proelia_122025.png
END:VEVENT
BEGIN:VEVENT
DTSTART;TZID=Europe/Warsaw:20260623T180000
DTEND;TZID=Europe/Warsaw:20260623T210000
DTSTAMP:20260419T153001
CREATED:20251223T094719Z
LAST-MODIFIED:20251223T094719Z
UID:10001840-1782237600-1782248400@ksproelia.pl
SUMMARY:Spotkania klubu strzeleckiego
DESCRIPTION:
URL:https://ksproelia.pl/event/spotkania-klubu-strzeleckiego-3-2-2-2-2/2026-06-23/
LOCATION:Strzelnica FSO\, ul. Jagiellońska 88/10\, Warszawa\, 00-992\, Poland
END:VEVENT
BEGIN:VEVENT
DTSTART;TZID=Europe/Warsaw:20260625T180000
DTEND;TZID=Europe/Warsaw:20260625T210000
DTSTAMP:20260419T153001
CREATED:20250618T091531Z
LAST-MODIFIED:20250618T091710Z
UID:10001898-1782410400-1782421200@ksproelia.pl
SUMMARY:Spotkania klubu strzeleckiego
DESCRIPTION:
URL:https://ksproelia.pl/event/spotkania-klubu-strzeleckiego-3-2-3/2026-06-25/
LOCATION:Strzelnica FSO\, ul. Jagiellońska 88/10\, Warszawa\, 00-992\, Poland
END:VEVENT
BEGIN:VEVENT
DTSTART;TZID=Europe/Warsaw:20260702T180000
DTEND;TZID=Europe/Warsaw:20260702T210000
DTSTAMP:20260419T153001
CREATED:20250618T091531Z
LAST-MODIFIED:20250618T091710Z
UID:10001899-1783015200-1783026000@ksproelia.pl
SUMMARY:Spotkania klubu strzeleckiego
DESCRIPTION:
URL:https://ksproelia.pl/event/spotkania-klubu-strzeleckiego-3-2-3/2026-07-02/
LOCATION:Strzelnica FSO\, ul. Jagiellońska 88/10\, Warszawa\, 00-992\, Poland
END:VEVENT
BEGIN:VEVENT
DTSTART;TZID=Europe/Warsaw:20260709T180000
DTEND;TZID=Europe/Warsaw:20260709T210000
DTSTAMP:20260419T153001
CREATED:20250618T091531Z
LAST-MODIFIED:20250618T091710Z
UID:10001900-1783620000-1783630800@ksproelia.pl
SUMMARY:Spotkania klubu strzeleckiego
DESCRIPTION:
URL:https://ksproelia.pl/event/spotkania-klubu-strzeleckiego-3-2-3/2026-07-09/
LOCATION:Strzelnica FSO\, ul. Jagiellońska 88/10\, Warszawa\, 00-992\, Poland
END:VEVENT
BEGIN:VEVENT
DTSTART;TZID=Europe/Warsaw:20260716T180000
DTEND;TZID=Europe/Warsaw:20260716T210000
DTSTAMP:20260419T153001
CREATED:20250618T091531Z
LAST-MODIFIED:20250618T091710Z
UID:10001901-1784224800-1784235600@ksproelia.pl
SUMMARY:Spotkania klubu strzeleckiego
DESCRIPTION:
URL:https://ksproelia.pl/event/spotkania-klubu-strzeleckiego-3-2-3/2026-07-16/
LOCATION:Strzelnica FSO\, ul. Jagiellońska 88/10\, Warszawa\, 00-992\, Poland
END:VEVENT
BEGIN:VEVENT
DTSTART;TZID=Europe/Warsaw:20260723T180000
DTEND;TZID=Europe/Warsaw:20260723T210000
DTSTAMP:20260419T153001
CREATED:20250618T091531Z
LAST-MODIFIED:20250618T091710Z
UID:10001902-1784829600-1784840400@ksproelia.pl
SUMMARY:Spotkania klubu strzeleckiego
DESCRIPTION:
URL:https://ksproelia.pl/event/spotkania-klubu-strzeleckiego-3-2-3/2026-07-23/
LOCATION:Strzelnica FSO\, ul. Jagiellońska 88/10\, Warszawa\, 00-992\, Poland
END:VEVENT
BEGIN:VEVENT
DTSTART;TZID=Europe/Warsaw:20260726T100000
DTEND;TZID=Europe/Warsaw:20260726T160000
DTSTAMP:20260419T153001
CREATED:20260107T181012Z
LAST-MODIFIED:20260413T125703Z
UID:10002206-1785060000-1785081600@ksproelia.pl
SUMMARY:Zawody Otwarte KS PROELIA
DESCRIPTION:Zapisy od godz. 10:00 do godz. 15:00\nZawody od godz. 11:00 do godz. 16:00.
URL:https://ksproelia.pl/event/zawody-otwarte-ks-proelia-35/2026-07-26/
LOCATION:Strzelnica FSO\, ul. Jagiellońska 88/10\, Warszawa\, 00-992\, Poland
CATEGORIES:Zawody strzeleckie
END:VEVENT
BEGIN:VEVENT
DTSTART;TZID=Europe/Warsaw:20260730T180000
DTEND;TZID=Europe/Warsaw:20260730T210000
DTSTAMP:20260419T153001
CREATED:20250618T091531Z
LAST-MODIFIED:20250618T091710Z
UID:10001903-1785434400-1785445200@ksproelia.pl
SUMMARY:Spotkania klubu strzeleckiego
DESCRIPTION:
URL:https://ksproelia.pl/event/spotkania-klubu-strzeleckiego-3-2-3/2026-07-30/
LOCATION:Strzelnica FSO\, ul. Jagiellońska 88/10\, Warszawa\, 00-992\, Poland
END:VEVENT
BEGIN:VEVENT
DTSTART;TZID=Europe/Warsaw:20260806T180000
DTEND;TZID=Europe/Warsaw:20260806T210000
DTSTAMP:20260419T153001
CREATED:20250618T091531Z
LAST-MODIFIED:20250618T091710Z
UID:10001904-1786039200-1786050000@ksproelia.pl
SUMMARY:Spotkania klubu strzeleckiego
DESCRIPTION:
URL:https://ksproelia.pl/event/spotkania-klubu-strzeleckiego-3-2-3/2026-08-06/
LOCATION:Strzelnica FSO\, ul. Jagiellońska 88/10\, Warszawa\, 00-992\, Poland
END:VEVENT
BEGIN:VEVENT
DTSTART;TZID=Europe/Warsaw:20260809T100000
DTEND;TZID=Europe/Warsaw:20260809T160000
DTSTAMP:20260419T153001
CREATED:20260107T181012Z
LAST-MODIFIED:20260413T125703Z
UID:10002207-1786269600-1786291200@ksproelia.pl
SUMMARY:Zawody Otwarte KS PROELIA
DESCRIPTION:Zapisy od godz. 10:00 do godz. 15:00\nZawody od godz. 11:00 do godz. 16:00.
URL:https://ksproelia.pl/event/zawody-otwarte-ks-proelia-35/2026-08-09/
LOCATION:Strzelnica FSO\, ul. Jagiellońska 88/10\, Warszawa\, 00-992\, Poland
CATEGORIES:Zawody strzeleckie
END:VEVENT
BEGIN:VEVENT
DTSTART;TZID=Europe/Warsaw:20260813T180000
DTEND;TZID=Europe/Warsaw:20260813T210000
DTSTAMP:20260419T153001
CREATED:20250618T091531Z
LAST-MODIFIED:20250618T091710Z
UID:10001905-1786644000-1786654800@ksproelia.pl
SUMMARY:Spotkania klubu strzeleckiego
DESCRIPTION:
URL:https://ksproelia.pl/event/spotkania-klubu-strzeleckiego-3-2-3/2026-08-13/
LOCATION:Strzelnica FSO\, ul. Jagiellońska 88/10\, Warszawa\, 00-992\, Poland
END:VEVENT
BEGIN:VEVENT
DTSTART;TZID=Europe/Warsaw:20260820T180000
DTEND;TZID=Europe/Warsaw:20260820T210000
DTSTAMP:20260419T153001
CREATED:20250618T091531Z
LAST-MODIFIED:20250618T091710Z
UID:10001906-1787248800-1787259600@ksproelia.pl
SUMMARY:Spotkania klubu strzeleckiego
DESCRIPTION:
URL:https://ksproelia.pl/event/spotkania-klubu-strzeleckiego-3-2-3/2026-08-20/
LOCATION:Strzelnica FSO\, ul. Jagiellońska 88/10\, Warszawa\, 00-992\, Poland
END:VEVENT
BEGIN:VEVENT
DTSTART;TZID=Europe/Warsaw:20260827T180000
DTEND;TZID=Europe/Warsaw:20260827T210000
DTSTAMP:20260419T153001
CREATED:20250618T091531Z
LAST-MODIFIED:20250618T091710Z
UID:10001907-1787853600-1787864400@ksproelia.pl
SUMMARY:Spotkania klubu strzeleckiego
DESCRIPTION:
URL:https://ksproelia.pl/event/spotkania-klubu-strzeleckiego-3-2-3/2026-08-27/
LOCATION:Strzelnica FSO\, ul. Jagiellońska 88/10\, Warszawa\, 00-992\, Poland
END:VEVENT
BEGIN:VEVENT
DTSTART;TZID=Europe/Warsaw:20260830T100000
DTEND;TZID=Europe/Warsaw:20260830T160000
DTSTAMP:20260419T153001
CREATED:20260107T182034Z
LAST-MODIFIED:20260413T125524Z
UID:10002200-1788084000-1788105600@ksproelia.pl
SUMMARY:Zawody Strzeleckie o Puchar Prezesa KS PROELIA
DESCRIPTION:Zapisy od godz. 10:00 do godz. 14:30\nZawody od godz. 11:00 do godz. 15.00\nRozdanie medali o godzinie 16:00
URL:https://ksproelia.pl/event/zawody-strzeleckie-o-puchar-prezesa-ks-proelia-8/
LOCATION:Strzelnica FSO\, ul. Jagiellońska 88/10\, Warszawa\, 00-992\, Poland
CATEGORIES:Zawody strzeleckie
ATTACH;FMTTYPE=image/png:https://ksproelia.pl/wp-content/uploads/2024/03/proelia_122025.png
END:VEVENT
BEGIN:VEVENT
DTSTART;TZID=Europe/Warsaw:20260903T180000
DTEND;TZID=Europe/Warsaw:20260903T210000
DTSTAMP:20260419T153001
CREATED:20250618T091531Z
LAST-MODIFIED:20250618T091710Z
UID:10001908-1788458400-1788469200@ksproelia.pl
SUMMARY:Spotkania klubu strzeleckiego
DESCRIPTION:
URL:https://ksproelia.pl/event/spotkania-klubu-strzeleckiego-3-2-3/2026-09-03/
LOCATION:Strzelnica FSO\, ul. Jagiellońska 88/10\, Warszawa\, 00-992\, Poland
END:VEVENT
BEGIN:VEVENT
DTSTART;TZID=Europe/Warsaw:20260910T180000
DTEND;TZID=Europe/Warsaw:20260910T210000
DTSTAMP:20260419T153001
CREATED:20250618T091531Z
LAST-MODIFIED:20250618T091710Z
UID:10001909-1789063200-1789074000@ksproelia.pl
SUMMARY:Spotkania klubu strzeleckiego
DESCRIPTION:
URL:https://ksproelia.pl/event/spotkania-klubu-strzeleckiego-3-2-3/2026-09-10/
LOCATION:Strzelnica FSO\, ul. Jagiellońska 88/10\, Warszawa\, 00-992\, Poland
END:VEVENT
BEGIN:VEVENT
DTSTART;TZID=Europe/Warsaw:20260913T100000
DTEND;TZID=Europe/Warsaw:20260913T160000
DTSTAMP:20260419T153001
CREATED:20260107T181146Z
LAST-MODIFIED:20260413T125723Z
UID:10002208-1789293600-1789315200@ksproelia.pl
SUMMARY:Zawody Otwarte KS PROELIA
DESCRIPTION:Zapisy od godz. 10:00 do godz. 15:00\nZawody od godz. 11:00 do godz. 16:00.
URL:https://ksproelia.pl/event/zawody-otwarte-ks-proelia-36/2026-09-13/
LOCATION:Strzelnica FSO\, ul. Jagiellońska 88/10\, Warszawa\, 00-992\, Poland
CATEGORIES:Zawody strzeleckie
END:VEVENT
BEGIN:VEVENT
DTSTART;TZID=Europe/Warsaw:20260917T180000
DTEND;TZID=Europe/Warsaw:20260917T210000
DTSTAMP:20260419T153001
CREATED:20250618T091531Z
LAST-MODIFIED:20250618T091710Z
UID:10001910-1789668000-1789678800@ksproelia.pl
SUMMARY:Spotkania klubu strzeleckiego
DESCRIPTION:
URL:https://ksproelia.pl/event/spotkania-klubu-strzeleckiego-3-2-3/2026-09-17/
LOCATION:Strzelnica FSO\, ul. Jagiellońska 88/10\, Warszawa\, 00-992\, Poland
END:VEVENT
END:VCALENDAR