BEGIN:VCALENDAR
VERSION:2.0
PRODID:-//Proelia - ECPv6.5.0//NONSGML v1.0//EN
CALSCALE:GREGORIAN
METHOD:PUBLISH
X-ORIGINAL-URL:https://ksproelia.pl
X-WR-CALDESC:Wydarzenia dla Proelia
REFRESH-INTERVAL;VALUE=DURATION:PT1H
X-Robots-Tag:noindex
X-PUBLISHED-TTL:PT1H
BEGIN:VTIMEZONE
TZID:Europe/Warsaw
BEGIN:DAYLIGHT
TZOFFSETFROM:+0100
TZOFFSETTO:+0200
TZNAME:CEST
DTSTART:20240331T010000
END:DAYLIGHT
BEGIN:STANDARD
TZOFFSETFROM:+0200
TZOFFSETTO:+0100
TZNAME:CET
DTSTART:20241027T010000
END:STANDARD
END:VTIMEZONE
BEGIN:VEVENT
DTSTART;TZID=Europe/Warsaw:20240630T110000
DTEND;TZID=Europe/Warsaw:20240630T160000
DTSTAMP:20260424T162811
CREATED:20240309T122218Z
LAST-MODIFIED:20240409T211421Z
UID:10000036-1719745200-1719763200@ksproelia.pl
SUMMARY:II Zawody Strzeleckie o Puchar Prezesa KS PROELIA
DESCRIPTION:11:00-15:00 \n16:00 rozdanie medali
URL:https://ksproelia.pl/event/zawody-strzeleckie-o-puchar-prezesa-ks-proelia-2/
LOCATION:Strzelnica FSO\, ul. Jagiellońska 88/10\, Warszawa\, 00-992\, Poland
CATEGORIES:Zawody strzeleckie
END:VEVENT
BEGIN:VEVENT
DTSTART;VALUE=DATE:20240629
DTEND;VALUE=DATE:20240630
DTSTAMP:20260424T162811
CREATED:20240309T103649Z
LAST-MODIFIED:20240309T103700Z
UID:10000017-1719619200-1719705599@ksproelia.pl
SUMMARY:Egzamin na Patent
DESCRIPTION:
URL:https://ksproelia.pl/event/egzamin-na-patent-czerwiec/
LOCATION:Strzelnica FSO\, ul. Jagiellońska 88/10\, Warszawa\, 00-992\, Poland
CATEGORIES:Egzaminy na patent strzelecki
END:VEVENT
BEGIN:VEVENT
DTSTART;TZID=Europe/Warsaw:20240627T180000
DTEND;TZID=Europe/Warsaw:20240627T210000
DTSTAMP:20260424T162811
CREATED:20240528T061340Z
LAST-MODIFIED:20240528T061340Z
UID:10000186-1719511200-1719522000@ksproelia.pl
SUMMARY:Spotkania klubu strzeleckiego
DESCRIPTION:
URL:https://ksproelia.pl/event/spotkania-klubu-strzeleckiego-2-2/2024-06-27/
LOCATION:Strzelnica FSO\, ul. Jagiellońska 88/10\, Warszawa\, 00-992\, Poland
END:VEVENT
BEGIN:VEVENT
DTSTART;TZID=Europe/Warsaw:20240625T180000
DTEND;TZID=Europe/Warsaw:20240625T210000
DTSTAMP:20260424T162811
CREATED:20240403T084938Z
LAST-MODIFIED:20240409T205128Z
UID:10000146-1719338400-1719349200@ksproelia.pl
SUMMARY:Spotkania klubu strzeleckiego
DESCRIPTION:
URL:https://ksproelia.pl/event/spotkania-klubu-strzeleckiego/2024-06-25/
LOCATION:Strzelnica FSO\, ul. Jagiellońska 88/10\, Warszawa\, 00-992\, Poland
END:VEVENT
BEGIN:VEVENT
DTSTART;TZID=Europe/Warsaw:20240622T090000
DTEND;TZID=Europe/Warsaw:20240623T160000
DTSTAMP:20260424T162811
CREATED:20240309T100001Z
LAST-MODIFIED:20240527T171724Z
UID:10000008-1719046800-1719158400@ksproelia.pl
SUMMARY:Kurs „Prowadzący Strzelanie”
DESCRIPTION:
URL:https://ksproelia.pl/event/kurs-prowadzacy-strzelanie-czerwiec/
LOCATION:Strzelnica FSO\, ul. Jagiellońska 88/10\, Warszawa\, 00-992\, Poland
CATEGORIES:Kursy prowadzącego strzelnie
END:VEVENT
BEGIN:VEVENT
DTSTART;TZID=Europe/Warsaw:20240620T180000
DTEND;TZID=Europe/Warsaw:20240620T210000
DTSTAMP:20260424T162811
CREATED:20240528T061340Z
LAST-MODIFIED:20240528T061340Z
UID:10000185-1718906400-1718917200@ksproelia.pl
SUMMARY:Spotkania klubu strzeleckiego
DESCRIPTION:
URL:https://ksproelia.pl/event/spotkania-klubu-strzeleckiego-2-2/2024-06-20/
LOCATION:Strzelnica FSO\, ul. Jagiellońska 88/10\, Warszawa\, 00-992\, Poland
END:VEVENT
BEGIN:VEVENT
DTSTART;TZID=Europe/Warsaw:20240618T180000
DTEND;TZID=Europe/Warsaw:20240618T210000
DTSTAMP:20260424T162811
CREATED:20240403T084938Z
LAST-MODIFIED:20240409T205128Z
UID:10000145-1718733600-1718744400@ksproelia.pl
SUMMARY:Spotkania klubu strzeleckiego
DESCRIPTION:
URL:https://ksproelia.pl/event/spotkania-klubu-strzeleckiego/2024-06-18/
LOCATION:Strzelnica FSO\, ul. Jagiellońska 88/10\, Warszawa\, 00-992\, Poland
END:VEVENT
BEGIN:VEVENT
DTSTART;TZID=Europe/Warsaw:20240613T180000
DTEND;TZID=Europe/Warsaw:20240613T210000
DTSTAMP:20260424T162811
CREATED:20240528T061340Z
LAST-MODIFIED:20240528T061340Z
UID:10000184-1718301600-1718312400@ksproelia.pl
SUMMARY:Spotkania klubu strzeleckiego
DESCRIPTION:
URL:https://ksproelia.pl/event/spotkania-klubu-strzeleckiego-2-2/2024-06-13/
LOCATION:Strzelnica FSO\, ul. Jagiellońska 88/10\, Warszawa\, 00-992\, Poland
END:VEVENT
BEGIN:VEVENT
DTSTART;TZID=Europe/Warsaw:20240611T180000
DTEND;TZID=Europe/Warsaw:20240611T210000
DTSTAMP:20260424T162811
CREATED:20240403T084938Z
LAST-MODIFIED:20240409T205128Z
UID:10000144-1718128800-1718139600@ksproelia.pl
SUMMARY:Spotkania klubu strzeleckiego
DESCRIPTION:
URL:https://ksproelia.pl/event/spotkania-klubu-strzeleckiego/2024-06-11/
LOCATION:Strzelnica FSO\, ul. Jagiellońska 88/10\, Warszawa\, 00-992\, Poland
END:VEVENT
BEGIN:VEVENT
DTSTART;TZID=Europe/Warsaw:20240609T110000
DTEND;TZID=Europe/Warsaw:20240609T160000
DTSTAMP:20260424T162811
CREATED:20240309T122158Z
LAST-MODIFIED:20240409T205653Z
UID:10000035-1717930800-1717948800@ksproelia.pl
SUMMARY:Zawody Otwarte KS PROELIA
DESCRIPTION:
URL:https://ksproelia.pl/event/zawody-otwarte-ks-proelia-10/
LOCATION:Strzelnica FSO\, ul. Jagiellońska 88/10\, Warszawa\, 00-992\, Poland
CATEGORIES:Zawody strzeleckie
END:VEVENT
BEGIN:VEVENT
DTSTART;TZID=Europe/Warsaw:20240606T180000
DTEND;TZID=Europe/Warsaw:20240606T210000
DTSTAMP:20260424T162811
CREATED:20240528T061340Z
LAST-MODIFIED:20240528T061340Z
UID:10000182-1717696800-1717707600@ksproelia.pl
SUMMARY:Spotkania klubu strzeleckiego
DESCRIPTION:
URL:https://ksproelia.pl/event/spotkania-klubu-strzeleckiego-2-2/2024-06-06/
LOCATION:Strzelnica FSO\, ul. Jagiellońska 88/10\, Warszawa\, 00-992\, Poland
END:VEVENT
BEGIN:VEVENT
DTSTART;TZID=Europe/Warsaw:20240604T180000
DTEND;TZID=Europe/Warsaw:20240604T210000
DTSTAMP:20260424T162811
CREATED:20240403T084938Z
LAST-MODIFIED:20240409T205128Z
UID:10000143-1717524000-1717534800@ksproelia.pl
SUMMARY:Spotkania klubu strzeleckiego
DESCRIPTION:
URL:https://ksproelia.pl/event/spotkania-klubu-strzeleckiego/2024-06-04/
LOCATION:Strzelnica FSO\, ul. Jagiellońska 88/10\, Warszawa\, 00-992\, Poland
END:VEVENT
BEGIN:VEVENT
DTSTART;TZID=Europe/Warsaw:20240528T180000
DTEND;TZID=Europe/Warsaw:20240528T210000
DTSTAMP:20260424T162811
CREATED:20240403T084938Z
LAST-MODIFIED:20240409T205128Z
UID:10000142-1716919200-1716930000@ksproelia.pl
SUMMARY:Spotkania klubu strzeleckiego
DESCRIPTION:
URL:https://ksproelia.pl/event/spotkania-klubu-strzeleckiego/2024-05-28/
LOCATION:Strzelnica FSO\, ul. Jagiellońska 88/10\, Warszawa\, 00-992\, Poland
END:VEVENT
BEGIN:VEVENT
DTSTART;TZID=Europe/Warsaw:20240526T110000
DTEND;TZID=Europe/Warsaw:20240526T160000
DTSTAMP:20260424T162811
CREATED:20240309T122138Z
LAST-MODIFIED:20240409T205615Z
UID:10000034-1716721200-1716739200@ksproelia.pl
SUMMARY:Zawody Otwarte KS PROELIA
DESCRIPTION:
URL:https://ksproelia.pl/event/zawody-otwarte-ks-proelia-9/
LOCATION:Strzelnica FSO\, ul. Jagiellońska 88/10\, Warszawa\, 00-992\, Poland
CATEGORIES:Zawody strzeleckie
END:VEVENT
BEGIN:VEVENT
DTSTART;VALUE=DATE:20240525
DTEND;VALUE=DATE:20240526
DTSTAMP:20260424T162811
CREATED:20240309T103620Z
LAST-MODIFIED:20240319T171321Z
UID:10000016-1716595200-1716681599@ksproelia.pl
SUMMARY:Egzamin na Patent
DESCRIPTION:
URL:https://ksproelia.pl/event/egzamin-na-patent-maj/
LOCATION:Strzelnica FSO\, ul. Jagiellońska 88/10\, Warszawa\, 00-992\, Poland
CATEGORIES:Egzaminy na patent strzelecki
END:VEVENT
BEGIN:VEVENT
DTSTART;TZID=Europe/Warsaw:20240521T180000
DTEND;TZID=Europe/Warsaw:20240521T210000
DTSTAMP:20260424T162811
CREATED:20240403T084938Z
LAST-MODIFIED:20240409T205128Z
UID:10000141-1716314400-1716325200@ksproelia.pl
SUMMARY:Spotkania klubu strzeleckiego
DESCRIPTION:
URL:https://ksproelia.pl/event/spotkania-klubu-strzeleckiego/2024-05-21/
LOCATION:Strzelnica FSO\, ul. Jagiellońska 88/10\, Warszawa\, 00-992\, Poland
END:VEVENT
BEGIN:VEVENT
DTSTART;TZID=Europe/Warsaw:20240518T090000
DTEND;TZID=Europe/Warsaw:20240519T160000
DTSTAMP:20260424T162811
CREATED:20240309T095918Z
LAST-MODIFIED:20240409T210716Z
UID:10000007-1716022800-1716134400@ksproelia.pl
SUMMARY:Kurs „Prowadzący Strzelanie”
DESCRIPTION:
URL:https://ksproelia.pl/event/kurs-prowadzacy-strzelanie-maj/
LOCATION:Strzelnica FSO\, ul. Jagiellońska 88/10\, Warszawa\, 00-992\, Poland
CATEGORIES:Kursy prowadzącego strzelnie
END:VEVENT
BEGIN:VEVENT
DTSTART;TZID=Europe/Warsaw:20240516T180000
DTEND;TZID=Europe/Warsaw:20240516T210000
DTSTAMP:20260424T162811
CREATED:20240403T085639Z
LAST-MODIFIED:20240528T061215Z
UID:10000180-1715882400-1715893200@ksproelia.pl
SUMMARY:Spotkania klubu strzeleckiego
DESCRIPTION:
URL:https://ksproelia.pl/event/spotkania-klubu-strzeleckiego-2/2024-05-16/
LOCATION:Strzelnica FSO\, ul. Jagiellońska 88/10\, Warszawa\, 00-992\, Poland
END:VEVENT
BEGIN:VEVENT
DTSTART;TZID=Europe/Warsaw:20240514T180000
DTEND;TZID=Europe/Warsaw:20240514T210000
DTSTAMP:20260424T162811
CREATED:20240403T084938Z
LAST-MODIFIED:20240409T205128Z
UID:10000140-1715709600-1715720400@ksproelia.pl
SUMMARY:Spotkania klubu strzeleckiego
DESCRIPTION:
URL:https://ksproelia.pl/event/spotkania-klubu-strzeleckiego/2024-05-14/
LOCATION:Strzelnica FSO\, ul. Jagiellońska 88/10\, Warszawa\, 00-992\, Poland
END:VEVENT
BEGIN:VEVENT
DTSTART;TZID=Europe/Warsaw:20240512T110000
DTEND;TZID=Europe/Warsaw:20240512T160000
DTSTAMP:20260424T162811
CREATED:20240309T121922Z
LAST-MODIFIED:20240409T205602Z
UID:10000033-1715511600-1715529600@ksproelia.pl
SUMMARY:Zawody Otwarte KS PROELIA
DESCRIPTION:
URL:https://ksproelia.pl/event/zawody-otwarte-ks-proelia-8/
LOCATION:Strzelnica FSO\, ul. Jagiellońska 88/10\, Warszawa\, 00-992\, Poland
CATEGORIES:Zawody strzeleckie
END:VEVENT
BEGIN:VEVENT
DTSTART;TZID=Europe/Warsaw:20240509T180000
DTEND;TZID=Europe/Warsaw:20240509T210000
DTSTAMP:20260424T162811
CREATED:20240403T085639Z
LAST-MODIFIED:20240528T061215Z
UID:10000179-1715277600-1715288400@ksproelia.pl
SUMMARY:Spotkania klubu strzeleckiego
DESCRIPTION:
URL:https://ksproelia.pl/event/spotkania-klubu-strzeleckiego-2/2024-05-09/
LOCATION:Strzelnica FSO\, ul. Jagiellońska 88/10\, Warszawa\, 00-992\, Poland
END:VEVENT
BEGIN:VEVENT
DTSTART;TZID=Europe/Warsaw:20240507T180000
DTEND;TZID=Europe/Warsaw:20240507T210000
DTSTAMP:20260424T162811
CREATED:20240403T084938Z
LAST-MODIFIED:20240409T205128Z
UID:10000139-1715104800-1715115600@ksproelia.pl
SUMMARY:Spotkania klubu strzeleckiego
DESCRIPTION:
URL:https://ksproelia.pl/event/spotkania-klubu-strzeleckiego/2024-05-07/
LOCATION:Strzelnica FSO\, ul. Jagiellońska 88/10\, Warszawa\, 00-992\, Poland
END:VEVENT
BEGIN:VEVENT
DTSTART;TZID=Europe/Warsaw:20240430T180000
DTEND;TZID=Europe/Warsaw:20240430T210000
DTSTAMP:20260424T162811
CREATED:20240403T084938Z
LAST-MODIFIED:20240409T205128Z
UID:10000138-1714500000-1714510800@ksproelia.pl
SUMMARY:Spotkania klubu strzeleckiego
DESCRIPTION:
URL:https://ksproelia.pl/event/spotkania-klubu-strzeleckiego/2024-04-30/
LOCATION:Strzelnica FSO\, ul. Jagiellońska 88/10\, Warszawa\, 00-992\, Poland
END:VEVENT
BEGIN:VEVENT
DTSTART;TZID=Europe/Warsaw:20240428T110000
DTEND;TZID=Europe/Warsaw:20240428T160000
DTSTAMP:20260424T162811
CREATED:20240309T121903Z
LAST-MODIFIED:20240409T205551Z
UID:10000032-1714302000-1714320000@ksproelia.pl
SUMMARY:Zawody Otwarte KS PROELIA
DESCRIPTION:
URL:https://ksproelia.pl/event/zawody-otwarte-ks-proelia-7/
LOCATION:Strzelnica FSO\, ul. Jagiellońska 88/10\, Warszawa\, 00-992\, Poland
CATEGORIES:Zawody strzeleckie
END:VEVENT
BEGIN:VEVENT
DTSTART;TZID=Europe/Warsaw:20240425T180000
DTEND;TZID=Europe/Warsaw:20240425T210000
DTSTAMP:20260424T162811
CREATED:20240403T085639Z
LAST-MODIFIED:20240528T061215Z
UID:10000177-1714068000-1714078800@ksproelia.pl
SUMMARY:Spotkania klubu strzeleckiego
DESCRIPTION:
URL:https://ksproelia.pl/event/spotkania-klubu-strzeleckiego-2/2024-04-25/
LOCATION:Strzelnica FSO\, ul. Jagiellońska 88/10\, Warszawa\, 00-992\, Poland
END:VEVENT
BEGIN:VEVENT
DTSTART;TZID=Europe/Warsaw:20240423T180000
DTEND;TZID=Europe/Warsaw:20240423T210000
DTSTAMP:20260424T162811
CREATED:20240403T084938Z
LAST-MODIFIED:20240409T205128Z
UID:10000137-1713895200-1713906000@ksproelia.pl
SUMMARY:Spotkania klubu strzeleckiego
DESCRIPTION:
URL:https://ksproelia.pl/event/spotkania-klubu-strzeleckiego/2024-04-23/
LOCATION:Strzelnica FSO\, ul. Jagiellońska 88/10\, Warszawa\, 00-992\, Poland
END:VEVENT
BEGIN:VEVENT
DTSTART;VALUE=DATE:20240420
DTEND;VALUE=DATE:20240421
DTSTAMP:20260424T162811
CREATED:20240309T103052Z
LAST-MODIFIED:20240403T084743Z
UID:10000015-1713571200-1713657599@ksproelia.pl
SUMMARY:Egzamin na Patent
DESCRIPTION:Egzamin na patent – wyjątkowo nie na 9:00 tylko na 15:00
URL:https://ksproelia.pl/event/egzamin-na-patent-kwiecien/
LOCATION:Strzelnica FSO\, ul. Jagiellońska 88/10\, Warszawa\, 00-992\, Poland
CATEGORIES:Egzaminy na patent strzelecki
END:VEVENT
BEGIN:VEVENT
DTSTART;TZID=Europe/Warsaw:20240418T180000
DTEND;TZID=Europe/Warsaw:20240418T210000
DTSTAMP:20260424T162811
CREATED:20240403T085639Z
LAST-MODIFIED:20240528T061215Z
UID:10000176-1713463200-1713474000@ksproelia.pl
SUMMARY:Spotkania klubu strzeleckiego
DESCRIPTION:
URL:https://ksproelia.pl/event/spotkania-klubu-strzeleckiego-2/2024-04-18/
LOCATION:Strzelnica FSO\, ul. Jagiellońska 88/10\, Warszawa\, 00-992\, Poland
END:VEVENT
BEGIN:VEVENT
DTSTART;TZID=Europe/Warsaw:20240416T180000
DTEND;TZID=Europe/Warsaw:20240416T210000
DTSTAMP:20260424T162811
CREATED:20240403T084938Z
LAST-MODIFIED:20240409T205128Z
UID:10000136-1713290400-1713301200@ksproelia.pl
SUMMARY:Spotkania klubu strzeleckiego
DESCRIPTION:
URL:https://ksproelia.pl/event/spotkania-klubu-strzeleckiego/2024-04-16/
LOCATION:Strzelnica FSO\, ul. Jagiellońska 88/10\, Warszawa\, 00-992\, Poland
END:VEVENT
BEGIN:VEVENT
DTSTART;TZID=Europe/Warsaw:20240414T110000
DTEND;TZID=Europe/Warsaw:20240414T160000
DTSTAMP:20260424T162811
CREATED:20240309T121825Z
LAST-MODIFIED:20240409T205541Z
UID:10000031-1713092400-1713110400@ksproelia.pl
SUMMARY:Zawody Otwarte KS PROELIA
DESCRIPTION:
URL:https://ksproelia.pl/event/zawody-otwarte-ks-proelia-6/
LOCATION:Strzelnica FSO\, ul. Jagiellońska 88/10\, Warszawa\, 00-992\, Poland
CATEGORIES:Zawody strzeleckie
END:VEVENT
END:VCALENDAR