BEGIN:VCALENDAR
VERSION:2.0
PRODID:-//Proelia - ECPv6.5.0//NONSGML v1.0//EN
CALSCALE:GREGORIAN
METHOD:PUBLISH
X-ORIGINAL-URL:https://ksproelia.pl
X-WR-CALDESC:Wydarzenia dla Proelia
REFRESH-INTERVAL;VALUE=DURATION:PT1H
X-Robots-Tag:noindex
X-PUBLISHED-TTL:PT1H
BEGIN:VTIMEZONE
TZID:Europe/Warsaw
BEGIN:DAYLIGHT
TZOFFSETFROM:+0100
TZOFFSETTO:+0200
TZNAME:CEST
DTSTART:20250330T010000
END:DAYLIGHT
BEGIN:STANDARD
TZOFFSETFROM:+0200
TZOFFSETTO:+0100
TZNAME:CET
DTSTART:20251026T010000
END:STANDARD
BEGIN:DAYLIGHT
TZOFFSETFROM:+0100
TZOFFSETTO:+0200
TZNAME:CEST
DTSTART:20260329T010000
END:DAYLIGHT
BEGIN:STANDARD
TZOFFSETFROM:+0200
TZOFFSETTO:+0100
TZNAME:CET
DTSTART:20261025T010000
END:STANDARD
END:VTIMEZONE
BEGIN:VEVENT
DTSTART;TZID=Europe/Warsaw:20260210T180000
DTEND;TZID=Europe/Warsaw:20260210T210000
DTSTAMP:20260419T182539
CREATED:20251223T094719Z
LAST-MODIFIED:20251223T094719Z
UID:10001821-1770746400-1770757200@ksproelia.pl
SUMMARY:Spotkania klubu strzeleckiego
DESCRIPTION:
URL:https://ksproelia.pl/event/spotkania-klubu-strzeleckiego-3-2-2-2-2/2026-02-10/
LOCATION:Strzelnica FSO\, ul. Jagiellońska 88/10\, Warszawa\, 00-992\, Poland
END:VEVENT
BEGIN:VEVENT
DTSTART;TZID=Europe/Warsaw:20260205T180000
DTEND;TZID=Europe/Warsaw:20260205T210000
DTSTAMP:20260419T182539
CREATED:20250618T091531Z
LAST-MODIFIED:20250618T091710Z
UID:10001878-1770314400-1770325200@ksproelia.pl
SUMMARY:Spotkania klubu strzeleckiego
DESCRIPTION:
URL:https://ksproelia.pl/event/spotkania-klubu-strzeleckiego-3-2-3/2026-02-05/
LOCATION:Strzelnica FSO\, ul. Jagiellońska 88/10\, Warszawa\, 00-992\, Poland
END:VEVENT
BEGIN:VEVENT
DTSTART;TZID=Europe/Warsaw:20260203T180000
DTEND;TZID=Europe/Warsaw:20260203T210000
DTSTAMP:20260419T182540
CREATED:20251223T094719Z
LAST-MODIFIED:20251223T094719Z
UID:10001820-1770141600-1770152400@ksproelia.pl
SUMMARY:Spotkania klubu strzeleckiego
DESCRIPTION:
URL:https://ksproelia.pl/event/spotkania-klubu-strzeleckiego-3-2-2-2-2/2026-02-03/
LOCATION:Strzelnica FSO\, ul. Jagiellońska 88/10\, Warszawa\, 00-992\, Poland
END:VEVENT
BEGIN:VEVENT
DTSTART;TZID=Europe/Warsaw:20260129T180000
DTEND;TZID=Europe/Warsaw:20260129T210000
DTSTAMP:20260419T182540
CREATED:20250618T091531Z
LAST-MODIFIED:20250618T091710Z
UID:10001877-1769709600-1769720400@ksproelia.pl
SUMMARY:Spotkania klubu strzeleckiego
DESCRIPTION:
URL:https://ksproelia.pl/event/spotkania-klubu-strzeleckiego-3-2-3/2026-01-29/
LOCATION:Strzelnica FSO\, ul. Jagiellońska 88/10\, Warszawa\, 00-992\, Poland
END:VEVENT
BEGIN:VEVENT
DTSTART;TZID=Europe/Warsaw:20260127T180000
DTEND;TZID=Europe/Warsaw:20260127T210000
DTSTAMP:20260419T182540
CREATED:20251223T094719Z
LAST-MODIFIED:20251223T094719Z
UID:10001819-1769536800-1769547600@ksproelia.pl
SUMMARY:Spotkania klubu strzeleckiego
DESCRIPTION:
URL:https://ksproelia.pl/event/spotkania-klubu-strzeleckiego-3-2-2-2-2/2026-01-27/
LOCATION:Strzelnica FSO\, ul. Jagiellońska 88/10\, Warszawa\, 00-992\, Poland
END:VEVENT
BEGIN:VEVENT
DTSTART;TZID=Europe/Warsaw:20260125T100000
DTEND;TZID=Europe/Warsaw:20260125T160000
DTSTAMP:20260419T182540
CREATED:20260107T180351Z
LAST-MODIFIED:20260124T091332Z
UID:10002203-1769335200-1769356800@ksproelia.pl
SUMMARY:Zawody Otwarte KS PROELIA
DESCRIPTION:
URL:https://ksproelia.pl/event/zawody-otwarte-ks-proelia-32/
LOCATION:Strzelnica FSO\, ul. Jagiellońska 88/10\, Warszawa\, 00-992\, Poland
CATEGORIES:Zawody strzeleckie
END:VEVENT
BEGIN:VEVENT
DTSTART;TZID=Europe/Warsaw:20260122T180000
DTEND;TZID=Europe/Warsaw:20260122T210000
DTSTAMP:20260419T182540
CREATED:20250618T091531Z
LAST-MODIFIED:20250618T091710Z
UID:10001876-1769104800-1769115600@ksproelia.pl
SUMMARY:Spotkania klubu strzeleckiego
DESCRIPTION:
URL:https://ksproelia.pl/event/spotkania-klubu-strzeleckiego-3-2-3/2026-01-22/
LOCATION:Strzelnica FSO\, ul. Jagiellońska 88/10\, Warszawa\, 00-992\, Poland
END:VEVENT
BEGIN:VEVENT
DTSTART;TZID=Europe/Warsaw:20260120T180000
DTEND;TZID=Europe/Warsaw:20260120T210000
DTSTAMP:20260419T182540
CREATED:20251223T094719Z
LAST-MODIFIED:20251223T094719Z
UID:10001818-1768932000-1768942800@ksproelia.pl
SUMMARY:Spotkania klubu strzeleckiego
DESCRIPTION:
URL:https://ksproelia.pl/event/spotkania-klubu-strzeleckiego-3-2-2-2-2/2026-01-20/
LOCATION:Strzelnica FSO\, ul. Jagiellońska 88/10\, Warszawa\, 00-992\, Poland
END:VEVENT
BEGIN:VEVENT
DTSTART;TZID=Europe/Warsaw:20260115T180000
DTEND;TZID=Europe/Warsaw:20260115T210000
DTSTAMP:20260419T182540
CREATED:20250618T091531Z
LAST-MODIFIED:20250618T091710Z
UID:10001875-1768500000-1768510800@ksproelia.pl
SUMMARY:Spotkania klubu strzeleckiego
DESCRIPTION:
URL:https://ksproelia.pl/event/spotkania-klubu-strzeleckiego-3-2-3/2026-01-15/
LOCATION:Strzelnica FSO\, ul. Jagiellońska 88/10\, Warszawa\, 00-992\, Poland
END:VEVENT
BEGIN:VEVENT
DTSTART;TZID=Europe/Warsaw:20260113T180000
DTEND;TZID=Europe/Warsaw:20260113T210000
DTSTAMP:20260419T182540
CREATED:20251223T094719Z
LAST-MODIFIED:20251223T094719Z
UID:10001817-1768327200-1768338000@ksproelia.pl
SUMMARY:Spotkania klubu strzeleckiego
DESCRIPTION:
URL:https://ksproelia.pl/event/spotkania-klubu-strzeleckiego-3-2-2-2-2/2026-01-13/
LOCATION:Strzelnica FSO\, ul. Jagiellońska 88/10\, Warszawa\, 00-992\, Poland
END:VEVENT
BEGIN:VEVENT
DTSTART;TZID=Europe/Warsaw:20260108T180000
DTEND;TZID=Europe/Warsaw:20260108T210000
DTSTAMP:20260419T182540
CREATED:20250618T091531Z
LAST-MODIFIED:20250618T091710Z
UID:10001874-1767895200-1767906000@ksproelia.pl
SUMMARY:Spotkania klubu strzeleckiego
DESCRIPTION:
URL:https://ksproelia.pl/event/spotkania-klubu-strzeleckiego-3-2-3/2026-01-08/
LOCATION:Strzelnica FSO\, ul. Jagiellońska 88/10\, Warszawa\, 00-992\, Poland
END:VEVENT
BEGIN:VEVENT
DTSTART;TZID=Europe/Warsaw:20260106T180000
DTEND;TZID=Europe/Warsaw:20260106T210000
DTSTAMP:20260419T182540
CREATED:20251223T094719Z
LAST-MODIFIED:20251223T094719Z
UID:10001816-1767722400-1767733200@ksproelia.pl
SUMMARY:Spotkania klubu strzeleckiego
DESCRIPTION:
URL:https://ksproelia.pl/event/spotkania-klubu-strzeleckiego-3-2-2-2-2/2026-01-06/
LOCATION:Strzelnica FSO\, ul. Jagiellońska 88/10\, Warszawa\, 00-992\, Poland
END:VEVENT
BEGIN:VEVENT
DTSTART;TZID=Europe/Warsaw:20260101T180000
DTEND;TZID=Europe/Warsaw:20260101T210000
DTSTAMP:20260419T182540
CREATED:20250618T091531Z
LAST-MODIFIED:20250618T091710Z
UID:10001873-1767290400-1767301200@ksproelia.pl
SUMMARY:Spotkania klubu strzeleckiego
DESCRIPTION:
URL:https://ksproelia.pl/event/spotkania-klubu-strzeleckiego-3-2-3/2026-01-01/
LOCATION:Strzelnica FSO\, ul. Jagiellońska 88/10\, Warszawa\, 00-992\, Poland
END:VEVENT
BEGIN:VEVENT
DTSTART;TZID=Europe/Warsaw:20251230T180000
DTEND;TZID=Europe/Warsaw:20251230T210000
DTSTAMP:20260419T182540
CREATED:20251223T094719Z
LAST-MODIFIED:20251223T094719Z
UID:10001815-1767117600-1767128400@ksproelia.pl
SUMMARY:Spotkania klubu strzeleckiego
DESCRIPTION:
URL:https://ksproelia.pl/event/spotkania-klubu-strzeleckiego-3-2-2-2-2/2025-12-30/
LOCATION:Strzelnica FSO\, ul. Jagiellońska 88/10\, Warszawa\, 00-992\, Poland
END:VEVENT
BEGIN:VEVENT
DTSTART;TZID=Europe/Warsaw:20251228T110000
DTEND;TZID=Europe/Warsaw:20251228T160000
DTSTAMP:20260419T182540
CREATED:20250103T133735Z
LAST-MODIFIED:20250103T133735Z
UID:10000533-1766919600-1766937600@ksproelia.pl
SUMMARY:Zawody Otwarte KS PROELIA
DESCRIPTION:
URL:https://ksproelia.pl/event/zawody-otwarte-ks-proelia-31/
LOCATION:Strzelnica FSO\, ul. Jagiellońska 88/10\, Warszawa\, 00-992\, Poland
CATEGORIES:Zawody strzeleckie
END:VEVENT
BEGIN:VEVENT
DTSTART;TZID=Europe/Warsaw:20251221T100000
DTEND;TZID=Europe/Warsaw:20251221T150000
DTSTAMP:20260419T182540
CREATED:20251212T093120Z
LAST-MODIFIED:20251212T093120Z
UID:10000537-1766311200-1766329200@ksproelia.pl
SUMMARY:Zawody Strzeleckie o Puchar Prezesa KS PROELIA
DESCRIPTION:
URL:https://ksproelia.pl/event/zawody-strzeleckie-o-puchar-prezesa-ks-proelia-4-2/
LOCATION:Strzelnica FSO\, ul. Jagiellońska 88/10\, Warszawa\, 00-992\, Poland
CATEGORIES:Zawody strzeleckie
ATTACH;FMTTYPE=image/png:https://ksproelia.pl/wp-content/uploads/2024/03/proelia_122025.png
END:VEVENT
BEGIN:VEVENT
DTSTART;TZID=Europe/Warsaw:20251218T180000
DTEND;TZID=Europe/Warsaw:20251218T210000
DTSTAMP:20260419T182540
CREATED:20250618T091531Z
LAST-MODIFIED:20250618T091710Z
UID:10001871-1766080800-1766091600@ksproelia.pl
SUMMARY:Spotkania klubu strzeleckiego
DESCRIPTION:
URL:https://ksproelia.pl/event/spotkania-klubu-strzeleckiego-3-2-3/2025-12-18/
LOCATION:Strzelnica FSO\, ul. Jagiellońska 88/10\, Warszawa\, 00-992\, Poland
END:VEVENT
BEGIN:VEVENT
DTSTART;TZID=Europe/Warsaw:20251216T180000
DTEND;TZID=Europe/Warsaw:20251216T210000
DTSTAMP:20260419T182540
CREATED:20250506T175619Z
LAST-MODIFIED:20251031T142917Z
UID:10001813-1765908000-1765918800@ksproelia.pl
SUMMARY:Spotkania klubu strzeleckiego
DESCRIPTION:
URL:https://ksproelia.pl/event/spotkania-klubu-strzeleckiego-3-2-2-2/2025-12-16/
LOCATION:Strzelnica FSO\, ul. Jagiellońska 88/10\, Warszawa\, 00-992\, Poland
END:VEVENT
BEGIN:VEVENT
DTSTART;TZID=Europe/Warsaw:20251214T110000
DTEND;TZID=Europe/Warsaw:20251214T160000
DTSTAMP:20260419T182540
CREATED:20250103T133629Z
LAST-MODIFIED:20250103T133629Z
UID:10000532-1765710000-1765728000@ksproelia.pl
SUMMARY:Zawody Otwarte KS PROELIA
DESCRIPTION:
URL:https://ksproelia.pl/event/zawody-otwarte-ks-proelia-30/2025-12-14/
LOCATION:Strzelnica FSO\, ul. Jagiellońska 88/10\, Warszawa\, 00-992\, Poland
CATEGORIES:Zawody strzeleckie
END:VEVENT
BEGIN:VEVENT
DTSTART;TZID=Europe/Warsaw:20251211T180000
DTEND;TZID=Europe/Warsaw:20251211T210000
DTSTAMP:20260419T182540
CREATED:20250618T091531Z
LAST-MODIFIED:20250618T091710Z
UID:10001870-1765476000-1765486800@ksproelia.pl
SUMMARY:Spotkania klubu strzeleckiego
DESCRIPTION:
URL:https://ksproelia.pl/event/spotkania-klubu-strzeleckiego-3-2-3/2025-12-11/
LOCATION:Strzelnica FSO\, ul. Jagiellońska 88/10\, Warszawa\, 00-992\, Poland
END:VEVENT
BEGIN:VEVENT
DTSTART;TZID=Europe/Warsaw:20251209T180000
DTEND;TZID=Europe/Warsaw:20251209T210000
DTSTAMP:20260419T182540
CREATED:20250506T175619Z
LAST-MODIFIED:20251031T142917Z
UID:10001812-1765303200-1765314000@ksproelia.pl
SUMMARY:Spotkania klubu strzeleckiego
DESCRIPTION:
URL:https://ksproelia.pl/event/spotkania-klubu-strzeleckiego-3-2-2-2/2025-12-09/
LOCATION:Strzelnica FSO\, ul. Jagiellońska 88/10\, Warszawa\, 00-992\, Poland
END:VEVENT
BEGIN:VEVENT
DTSTART;TZID=Europe/Warsaw:20251207T110000
DTEND;TZID=Europe/Warsaw:20251207T160000
DTSTAMP:20260419T182540
CREATED:20250103T133629Z
LAST-MODIFIED:20250103T133629Z
UID:10000531-1765105200-1765123200@ksproelia.pl
SUMMARY:Zawody Otwarte KS PROELIA
DESCRIPTION:
URL:https://ksproelia.pl/event/zawody-otwarte-ks-proelia-30/2025-12-07/
LOCATION:Strzelnica FSO\, ul. Jagiellońska 88/10\, Warszawa\, 00-992\, Poland
CATEGORIES:Zawody strzeleckie
END:VEVENT
BEGIN:VEVENT
DTSTART;TZID=Europe/Warsaw:20251204T180000
DTEND;TZID=Europe/Warsaw:20251204T210000
DTSTAMP:20260419T182540
CREATED:20250618T091531Z
LAST-MODIFIED:20250618T091710Z
UID:10001869-1764871200-1764882000@ksproelia.pl
SUMMARY:Spotkania klubu strzeleckiego
DESCRIPTION:
URL:https://ksproelia.pl/event/spotkania-klubu-strzeleckiego-3-2-3/2025-12-04/
LOCATION:Strzelnica FSO\, ul. Jagiellońska 88/10\, Warszawa\, 00-992\, Poland
END:VEVENT
BEGIN:VEVENT
DTSTART;TZID=Europe/Warsaw:20251202T180000
DTEND;TZID=Europe/Warsaw:20251202T210000
DTSTAMP:20260419T182540
CREATED:20250506T175619Z
LAST-MODIFIED:20251031T142917Z
UID:10001811-1764698400-1764709200@ksproelia.pl
SUMMARY:Spotkania klubu strzeleckiego
DESCRIPTION:
URL:https://ksproelia.pl/event/spotkania-klubu-strzeleckiego-3-2-2-2/2025-12-02/
LOCATION:Strzelnica FSO\, ul. Jagiellońska 88/10\, Warszawa\, 00-992\, Poland
END:VEVENT
BEGIN:VEVENT
DTSTART;TZID=Europe/Warsaw:20251130T110000
DTEND;TZID=Europe/Warsaw:20251130T160000
DTSTAMP:20260419T182540
CREATED:20250103T133629Z
LAST-MODIFIED:20250103T133629Z
UID:10000530-1764500400-1764518400@ksproelia.pl
SUMMARY:Zawody Otwarte KS PROELIA
DESCRIPTION:
URL:https://ksproelia.pl/event/zawody-otwarte-ks-proelia-30/2025-11-30/
LOCATION:Strzelnica FSO\, ul. Jagiellońska 88/10\, Warszawa\, 00-992\, Poland
CATEGORIES:Zawody strzeleckie
END:VEVENT
BEGIN:VEVENT
DTSTART;VALUE=DATE:20251129
DTEND;VALUE=DATE:20251130
DTSTAMP:20260419T182540
CREATED:20250103T135449Z
LAST-MODIFIED:20250930T103738Z
UID:10000580-1764374400-1764460799@ksproelia.pl
SUMMARY:Egzamin na Patent
DESCRIPTION:
URL:https://ksproelia.pl/event/egzamin-na-patent/2025-11-29/
LOCATION:Strzelnica FSO\, ul. Jagiellońska 88/10\, Warszawa\, 00-992\, Poland
CATEGORIES:Egzaminy na patent strzelecki
END:VEVENT
BEGIN:VEVENT
DTSTART;TZID=Europe/Warsaw:20251127T180000
DTEND;TZID=Europe/Warsaw:20251127T210000
DTSTAMP:20260419T182540
CREATED:20250618T091531Z
LAST-MODIFIED:20250618T091710Z
UID:10001868-1764266400-1764277200@ksproelia.pl
SUMMARY:Spotkania klubu strzeleckiego
DESCRIPTION:
URL:https://ksproelia.pl/event/spotkania-klubu-strzeleckiego-3-2-3/2025-11-27/
LOCATION:Strzelnica FSO\, ul. Jagiellońska 88/10\, Warszawa\, 00-992\, Poland
END:VEVENT
BEGIN:VEVENT
DTSTART;TZID=Europe/Warsaw:20251125T180000
DTEND;TZID=Europe/Warsaw:20251125T210000
DTSTAMP:20260419T182540
CREATED:20250506T175619Z
LAST-MODIFIED:20251031T142917Z
UID:10001810-1764093600-1764104400@ksproelia.pl
SUMMARY:Spotkania klubu strzeleckiego
DESCRIPTION:
URL:https://ksproelia.pl/event/spotkania-klubu-strzeleckiego-3-2-2-2/2025-11-25/
LOCATION:Strzelnica FSO\, ul. Jagiellońska 88/10\, Warszawa\, 00-992\, Poland
END:VEVENT
BEGIN:VEVENT
DTSTART;TZID=Europe/Warsaw:20251123T110000
DTEND;TZID=Europe/Warsaw:20251123T160000
DTSTAMP:20260419T182540
CREATED:20250103T133629Z
LAST-MODIFIED:20250103T133629Z
UID:10000529-1763895600-1763913600@ksproelia.pl
SUMMARY:Zawody Otwarte KS PROELIA
DESCRIPTION:
URL:https://ksproelia.pl/event/zawody-otwarte-ks-proelia-30/2025-11-23/
LOCATION:Strzelnica FSO\, ul. Jagiellońska 88/10\, Warszawa\, 00-992\, Poland
CATEGORIES:Zawody strzeleckie
END:VEVENT
BEGIN:VEVENT
DTSTART;VALUE=DATE:20251122
DTEND;VALUE=DATE:20251124
DTSTAMP:20260419T182540
CREATED:20251031T143102Z
LAST-MODIFIED:20251031T143102Z
UID:10002108-1763769600-1763942399@ksproelia.pl
SUMMARY:Kurs Prowadzącego Strzelanie
DESCRIPTION:
URL:https://ksproelia.pl/event/kurs-prowadzacego-strzelanie-4/
LOCATION:Strzelnica FSO\, ul. Jagiellońska 88/10\, Warszawa\, 00-992\, Poland
END:VEVENT
END:VCALENDAR