BEGIN:VCALENDAR
VERSION:2.0
PRODID:-//Proelia - ECPv6.5.0//NONSGML v1.0//EN
CALSCALE:GREGORIAN
METHOD:PUBLISH
X-ORIGINAL-URL:https://ksproelia.pl
X-WR-CALDESC:Wydarzenia dla Proelia
REFRESH-INTERVAL;VALUE=DURATION:PT1H
X-Robots-Tag:noindex
X-PUBLISHED-TTL:PT1H
BEGIN:VTIMEZONE
TZID:Europe/Warsaw
BEGIN:DAYLIGHT
TZOFFSETFROM:+0100
TZOFFSETTO:+0200
TZNAME:CEST
DTSTART:20260329T010000
END:DAYLIGHT
BEGIN:STANDARD
TZOFFSETFROM:+0200
TZOFFSETTO:+0100
TZNAME:CET
DTSTART:20261025T010000
END:STANDARD
END:VTIMEZONE
BEGIN:VEVENT
DTSTART;TZID=Europe/Warsaw:20260827T180000
DTEND;TZID=Europe/Warsaw:20260827T210000
DTSTAMP:20260419T181818
CREATED:20250618T091531Z
LAST-MODIFIED:20250618T091710Z
UID:10001907-1787853600-1787864400@ksproelia.pl
SUMMARY:Spotkania klubu strzeleckiego
DESCRIPTION:
URL:https://ksproelia.pl/event/spotkania-klubu-strzeleckiego-3-2-3/2026-08-27/
LOCATION:Strzelnica FSO\, ul. Jagiellońska 88/10\, Warszawa\, 00-992\, Poland
END:VEVENT
BEGIN:VEVENT
DTSTART;TZID=Europe/Warsaw:20260830T100000
DTEND;TZID=Europe/Warsaw:20260830T160000
DTSTAMP:20260419T181818
CREATED:20260107T182034Z
LAST-MODIFIED:20260413T125524Z
UID:10002200-1788084000-1788105600@ksproelia.pl
SUMMARY:Zawody Strzeleckie o Puchar Prezesa KS PROELIA
DESCRIPTION:Zapisy od godz. 10:00 do godz. 14:30\nZawody od godz. 11:00 do godz. 15.00\nRozdanie medali o godzinie 16:00
URL:https://ksproelia.pl/event/zawody-strzeleckie-o-puchar-prezesa-ks-proelia-8/
LOCATION:Strzelnica FSO\, ul. Jagiellońska 88/10\, Warszawa\, 00-992\, Poland
CATEGORIES:Zawody strzeleckie
ATTACH;FMTTYPE=image/png:https://ksproelia.pl/wp-content/uploads/2024/03/proelia_122025.png
END:VEVENT
BEGIN:VEVENT
DTSTART;TZID=Europe/Warsaw:20260903T180000
DTEND;TZID=Europe/Warsaw:20260903T210000
DTSTAMP:20260419T181818
CREATED:20250618T091531Z
LAST-MODIFIED:20250618T091710Z
UID:10001908-1788458400-1788469200@ksproelia.pl
SUMMARY:Spotkania klubu strzeleckiego
DESCRIPTION:
URL:https://ksproelia.pl/event/spotkania-klubu-strzeleckiego-3-2-3/2026-09-03/
LOCATION:Strzelnica FSO\, ul. Jagiellońska 88/10\, Warszawa\, 00-992\, Poland
END:VEVENT
BEGIN:VEVENT
DTSTART;TZID=Europe/Warsaw:20260910T180000
DTEND;TZID=Europe/Warsaw:20260910T210000
DTSTAMP:20260419T181818
CREATED:20250618T091531Z
LAST-MODIFIED:20250618T091710Z
UID:10001909-1789063200-1789074000@ksproelia.pl
SUMMARY:Spotkania klubu strzeleckiego
DESCRIPTION:
URL:https://ksproelia.pl/event/spotkania-klubu-strzeleckiego-3-2-3/2026-09-10/
LOCATION:Strzelnica FSO\, ul. Jagiellońska 88/10\, Warszawa\, 00-992\, Poland
END:VEVENT
BEGIN:VEVENT
DTSTART;TZID=Europe/Warsaw:20260913T100000
DTEND;TZID=Europe/Warsaw:20260913T160000
DTSTAMP:20260419T181818
CREATED:20260107T181146Z
LAST-MODIFIED:20260413T125723Z
UID:10002208-1789293600-1789315200@ksproelia.pl
SUMMARY:Zawody Otwarte KS PROELIA
DESCRIPTION:Zapisy od godz. 10:00 do godz. 15:00\nZawody od godz. 11:00 do godz. 16:00.
URL:https://ksproelia.pl/event/zawody-otwarte-ks-proelia-36/2026-09-13/
LOCATION:Strzelnica FSO\, ul. Jagiellońska 88/10\, Warszawa\, 00-992\, Poland
CATEGORIES:Zawody strzeleckie
END:VEVENT
BEGIN:VEVENT
DTSTART;TZID=Europe/Warsaw:20260917T180000
DTEND;TZID=Europe/Warsaw:20260917T210000
DTSTAMP:20260419T181818
CREATED:20250618T091531Z
LAST-MODIFIED:20250618T091710Z
UID:10001910-1789668000-1789678800@ksproelia.pl
SUMMARY:Spotkania klubu strzeleckiego
DESCRIPTION:
URL:https://ksproelia.pl/event/spotkania-klubu-strzeleckiego-3-2-3/2026-09-17/
LOCATION:Strzelnica FSO\, ul. Jagiellońska 88/10\, Warszawa\, 00-992\, Poland
END:VEVENT
BEGIN:VEVENT
DTSTART;TZID=Europe/Warsaw:20260920T100000
DTEND;TZID=Europe/Warsaw:20260920T160000
DTSTAMP:20260419T181818
CREATED:20260107T181146Z
LAST-MODIFIED:20260413T125723Z
UID:10002209-1789898400-1789920000@ksproelia.pl
SUMMARY:Zawody Otwarte KS PROELIA
DESCRIPTION:Zapisy od godz. 10:00 do godz. 15:00\nZawody od godz. 11:00 do godz. 16:00.
URL:https://ksproelia.pl/event/zawody-otwarte-ks-proelia-36/2026-09-20/
LOCATION:Strzelnica FSO\, ul. Jagiellońska 88/10\, Warszawa\, 00-992\, Poland
CATEGORIES:Zawody strzeleckie
END:VEVENT
BEGIN:VEVENT
DTSTART;TZID=Europe/Warsaw:20260924T180000
DTEND;TZID=Europe/Warsaw:20260924T210000
DTSTAMP:20260419T181818
CREATED:20250618T091531Z
LAST-MODIFIED:20250618T091710Z
UID:10001911-1790272800-1790283600@ksproelia.pl
SUMMARY:Spotkania klubu strzeleckiego
DESCRIPTION:
URL:https://ksproelia.pl/event/spotkania-klubu-strzeleckiego-3-2-3/2026-09-24/
LOCATION:Strzelnica FSO\, ul. Jagiellońska 88/10\, Warszawa\, 00-992\, Poland
END:VEVENT
BEGIN:VEVENT
DTSTART;TZID=Europe/Warsaw:20260927T100000
DTEND;TZID=Europe/Warsaw:20260927T160000
DTSTAMP:20260419T181818
CREATED:20260107T181146Z
LAST-MODIFIED:20260413T125723Z
UID:10002210-1790503200-1790524800@ksproelia.pl
SUMMARY:Zawody Otwarte KS PROELIA
DESCRIPTION:Zapisy od godz. 10:00 do godz. 15:00\nZawody od godz. 11:00 do godz. 16:00.
URL:https://ksproelia.pl/event/zawody-otwarte-ks-proelia-36/2026-09-27/
LOCATION:Strzelnica FSO\, ul. Jagiellońska 88/10\, Warszawa\, 00-992\, Poland
CATEGORIES:Zawody strzeleckie
END:VEVENT
BEGIN:VEVENT
DTSTART;TZID=Europe/Warsaw:20261001T180000
DTEND;TZID=Europe/Warsaw:20261001T210000
DTSTAMP:20260419T181818
CREATED:20250618T091531Z
LAST-MODIFIED:20250618T091710Z
UID:10001912-1790877600-1790888400@ksproelia.pl
SUMMARY:Spotkania klubu strzeleckiego
DESCRIPTION:
URL:https://ksproelia.pl/event/spotkania-klubu-strzeleckiego-3-2-3/2026-10-01/
LOCATION:Strzelnica FSO\, ul. Jagiellońska 88/10\, Warszawa\, 00-992\, Poland
END:VEVENT
BEGIN:VEVENT
DTSTART;TZID=Europe/Warsaw:20261004T100000
DTEND;TZID=Europe/Warsaw:20261004T160000
DTSTAMP:20260419T181818
CREATED:20260107T181146Z
LAST-MODIFIED:20260413T125723Z
UID:10002211-1791108000-1791129600@ksproelia.pl
SUMMARY:Zawody Otwarte KS PROELIA
DESCRIPTION:Zapisy od godz. 10:00 do godz. 15:00\nZawody od godz. 11:00 do godz. 16:00.
URL:https://ksproelia.pl/event/zawody-otwarte-ks-proelia-36/2026-10-04/
LOCATION:Strzelnica FSO\, ul. Jagiellońska 88/10\, Warszawa\, 00-992\, Poland
CATEGORIES:Zawody strzeleckie
END:VEVENT
BEGIN:VEVENT
DTSTART;TZID=Europe/Warsaw:20261008T180000
DTEND;TZID=Europe/Warsaw:20261008T210000
DTSTAMP:20260419T181818
CREATED:20250618T091531Z
LAST-MODIFIED:20250618T091710Z
UID:10001913-1791482400-1791493200@ksproelia.pl
SUMMARY:Spotkania klubu strzeleckiego
DESCRIPTION:
URL:https://ksproelia.pl/event/spotkania-klubu-strzeleckiego-3-2-3/2026-10-08/
LOCATION:Strzelnica FSO\, ul. Jagiellońska 88/10\, Warszawa\, 00-992\, Poland
END:VEVENT
BEGIN:VEVENT
DTSTART;TZID=Europe/Warsaw:20261011T100000
DTEND;TZID=Europe/Warsaw:20261011T160000
DTSTAMP:20260419T181818
CREATED:20260107T181146Z
LAST-MODIFIED:20260413T125723Z
UID:10002212-1791712800-1791734400@ksproelia.pl
SUMMARY:Zawody Otwarte KS PROELIA
DESCRIPTION:Zapisy od godz. 10:00 do godz. 15:00\nZawody od godz. 11:00 do godz. 16:00.
URL:https://ksproelia.pl/event/zawody-otwarte-ks-proelia-36/2026-10-11/
LOCATION:Strzelnica FSO\, ul. Jagiellońska 88/10\, Warszawa\, 00-992\, Poland
CATEGORIES:Zawody strzeleckie
END:VEVENT
BEGIN:VEVENT
DTSTART;TZID=Europe/Warsaw:20261015T180000
DTEND;TZID=Europe/Warsaw:20261015T210000
DTSTAMP:20260419T181818
CREATED:20250618T091531Z
LAST-MODIFIED:20250618T091710Z
UID:10001914-1792087200-1792098000@ksproelia.pl
SUMMARY:Spotkania klubu strzeleckiego
DESCRIPTION:
URL:https://ksproelia.pl/event/spotkania-klubu-strzeleckiego-3-2-3/2026-10-15/
LOCATION:Strzelnica FSO\, ul. Jagiellońska 88/10\, Warszawa\, 00-992\, Poland
END:VEVENT
BEGIN:VEVENT
DTSTART;TZID=Europe/Warsaw:20261018T100000
DTEND;TZID=Europe/Warsaw:20261018T160000
DTSTAMP:20260419T181818
CREATED:20260107T181146Z
LAST-MODIFIED:20260413T125723Z
UID:10002213-1792317600-1792339200@ksproelia.pl
SUMMARY:Zawody Otwarte KS PROELIA
DESCRIPTION:Zapisy od godz. 10:00 do godz. 15:00\nZawody od godz. 11:00 do godz. 16:00.
URL:https://ksproelia.pl/event/zawody-otwarte-ks-proelia-36/2026-10-18/
LOCATION:Strzelnica FSO\, ul. Jagiellońska 88/10\, Warszawa\, 00-992\, Poland
CATEGORIES:Zawody strzeleckie
END:VEVENT
BEGIN:VEVENT
DTSTART;TZID=Europe/Warsaw:20261022T180000
DTEND;TZID=Europe/Warsaw:20261022T210000
DTSTAMP:20260419T181818
CREATED:20250618T091531Z
LAST-MODIFIED:20250618T091710Z
UID:10001915-1792692000-1792702800@ksproelia.pl
SUMMARY:Spotkania klubu strzeleckiego
DESCRIPTION:
URL:https://ksproelia.pl/event/spotkania-klubu-strzeleckiego-3-2-3/2026-10-22/
LOCATION:Strzelnica FSO\, ul. Jagiellońska 88/10\, Warszawa\, 00-992\, Poland
END:VEVENT
BEGIN:VEVENT
DTSTART;TZID=Europe/Warsaw:20261025T100000
DTEND;TZID=Europe/Warsaw:20261025T160000
DTSTAMP:20260419T181818
CREATED:20260107T182057Z
LAST-MODIFIED:20260413T125539Z
UID:10002201-1792922400-1792944000@ksproelia.pl
SUMMARY:Zawody Strzeleckie o Puchar Prezesa KS PROELIA
DESCRIPTION:Zapisy od godz. 10:00 do godz. 14:30\nZawody od godz. 11:00 do godz. 15.00\nRozdanie medali o godzinie 16:00
URL:https://ksproelia.pl/event/zawody-strzeleckie-o-puchar-prezesa-ks-proelia-9/
LOCATION:Strzelnica FSO\, ul. Jagiellońska 88/10\, Warszawa\, 00-992\, Poland
CATEGORIES:Zawody strzeleckie
ATTACH;FMTTYPE=image/png:https://ksproelia.pl/wp-content/uploads/2024/03/proelia_122025.png
END:VEVENT
BEGIN:VEVENT
DTSTART;TZID=Europe/Warsaw:20261029T180000
DTEND;TZID=Europe/Warsaw:20261029T210000
DTSTAMP:20260419T181818
CREATED:20250618T091531Z
LAST-MODIFIED:20250618T091710Z
UID:10001916-1793296800-1793307600@ksproelia.pl
SUMMARY:Spotkania klubu strzeleckiego
DESCRIPTION:
URL:https://ksproelia.pl/event/spotkania-klubu-strzeleckiego-3-2-3/2026-10-29/
LOCATION:Strzelnica FSO\, ul. Jagiellońska 88/10\, Warszawa\, 00-992\, Poland
END:VEVENT
BEGIN:VEVENT
DTSTART;TZID=Europe/Warsaw:20261105T180000
DTEND;TZID=Europe/Warsaw:20261105T210000
DTSTAMP:20260419T181818
CREATED:20250618T091531Z
LAST-MODIFIED:20250618T091710Z
UID:10001917-1793901600-1793912400@ksproelia.pl
SUMMARY:Spotkania klubu strzeleckiego
DESCRIPTION:
URL:https://ksproelia.pl/event/spotkania-klubu-strzeleckiego-3-2-3/2026-11-05/
LOCATION:Strzelnica FSO\, ul. Jagiellońska 88/10\, Warszawa\, 00-992\, Poland
END:VEVENT
BEGIN:VEVENT
DTSTART;TZID=Europe/Warsaw:20261108T100000
DTEND;TZID=Europe/Warsaw:20261108T160000
DTSTAMP:20260419T181818
CREATED:20260107T181314Z
LAST-MODIFIED:20260413T125742Z
UID:10002214-1794132000-1794153600@ksproelia.pl
SUMMARY:Zawody Otwarte KS PROELIA
DESCRIPTION:Zapisy od godz. 10:00 do godz. 15:00\nZawody od godz. 11:00 do godz. 16:00.
URL:https://ksproelia.pl/event/zawody-otwarte-ks-proelia-37/2026-11-08/
LOCATION:Strzelnica FSO\, ul. Jagiellońska 88/10\, Warszawa\, 00-992\, Poland
CATEGORIES:Zawody strzeleckie
END:VEVENT
BEGIN:VEVENT
DTSTART;TZID=Europe/Warsaw:20261112T180000
DTEND;TZID=Europe/Warsaw:20261112T210000
DTSTAMP:20260419T181818
CREATED:20250618T091531Z
LAST-MODIFIED:20250618T091710Z
UID:10001918-1794506400-1794517200@ksproelia.pl
SUMMARY:Spotkania klubu strzeleckiego
DESCRIPTION:
URL:https://ksproelia.pl/event/spotkania-klubu-strzeleckiego-3-2-3/2026-11-12/
LOCATION:Strzelnica FSO\, ul. Jagiellońska 88/10\, Warszawa\, 00-992\, Poland
END:VEVENT
BEGIN:VEVENT
DTSTART;TZID=Europe/Warsaw:20261115T100000
DTEND;TZID=Europe/Warsaw:20261115T160000
DTSTAMP:20260419T181818
CREATED:20260107T181314Z
LAST-MODIFIED:20260413T125742Z
UID:10002215-1794736800-1794758400@ksproelia.pl
SUMMARY:Zawody Otwarte KS PROELIA
DESCRIPTION:Zapisy od godz. 10:00 do godz. 15:00\nZawody od godz. 11:00 do godz. 16:00.
URL:https://ksproelia.pl/event/zawody-otwarte-ks-proelia-37/2026-11-15/
LOCATION:Strzelnica FSO\, ul. Jagiellońska 88/10\, Warszawa\, 00-992\, Poland
CATEGORIES:Zawody strzeleckie
END:VEVENT
BEGIN:VEVENT
DTSTART;TZID=Europe/Warsaw:20261119T180000
DTEND;TZID=Europe/Warsaw:20261119T210000
DTSTAMP:20260419T181818
CREATED:20250618T091531Z
LAST-MODIFIED:20250618T091710Z
UID:10001919-1795111200-1795122000@ksproelia.pl
SUMMARY:Spotkania klubu strzeleckiego
DESCRIPTION:
URL:https://ksproelia.pl/event/spotkania-klubu-strzeleckiego-3-2-3/2026-11-19/
LOCATION:Strzelnica FSO\, ul. Jagiellońska 88/10\, Warszawa\, 00-992\, Poland
END:VEVENT
BEGIN:VEVENT
DTSTART;TZID=Europe/Warsaw:20261122T100000
DTEND;TZID=Europe/Warsaw:20261122T160000
DTSTAMP:20260419T181818
CREATED:20260107T181314Z
LAST-MODIFIED:20260413T125742Z
UID:10002216-1795341600-1795363200@ksproelia.pl
SUMMARY:Zawody Otwarte KS PROELIA
DESCRIPTION:Zapisy od godz. 10:00 do godz. 15:00\nZawody od godz. 11:00 do godz. 16:00.
URL:https://ksproelia.pl/event/zawody-otwarte-ks-proelia-37/2026-11-22/
LOCATION:Strzelnica FSO\, ul. Jagiellońska 88/10\, Warszawa\, 00-992\, Poland
CATEGORIES:Zawody strzeleckie
END:VEVENT
BEGIN:VEVENT
DTSTART;TZID=Europe/Warsaw:20261126T180000
DTEND;TZID=Europe/Warsaw:20261126T210000
DTSTAMP:20260419T181818
CREATED:20250618T091531Z
LAST-MODIFIED:20250618T091710Z
UID:10001920-1795716000-1795726800@ksproelia.pl
SUMMARY:Spotkania klubu strzeleckiego
DESCRIPTION:
URL:https://ksproelia.pl/event/spotkania-klubu-strzeleckiego-3-2-3/2026-11-26/
LOCATION:Strzelnica FSO\, ul. Jagiellońska 88/10\, Warszawa\, 00-992\, Poland
END:VEVENT
BEGIN:VEVENT
DTSTART;TZID=Europe/Warsaw:20261129T100000
DTEND;TZID=Europe/Warsaw:20261129T160000
DTSTAMP:20260419T181818
CREATED:20260107T181314Z
LAST-MODIFIED:20260413T125742Z
UID:10002217-1795946400-1795968000@ksproelia.pl
SUMMARY:Zawody Otwarte KS PROELIA
DESCRIPTION:Zapisy od godz. 10:00 do godz. 15:00\nZawody od godz. 11:00 do godz. 16:00.
URL:https://ksproelia.pl/event/zawody-otwarte-ks-proelia-37/2026-11-29/
LOCATION:Strzelnica FSO\, ul. Jagiellońska 88/10\, Warszawa\, 00-992\, Poland
CATEGORIES:Zawody strzeleckie
END:VEVENT
BEGIN:VEVENT
DTSTART;TZID=Europe/Warsaw:20261203T180000
DTEND;TZID=Europe/Warsaw:20261203T210000
DTSTAMP:20260419T181818
CREATED:20250618T091531Z
LAST-MODIFIED:20250618T091710Z
UID:10001921-1796320800-1796331600@ksproelia.pl
SUMMARY:Spotkania klubu strzeleckiego
DESCRIPTION:
URL:https://ksproelia.pl/event/spotkania-klubu-strzeleckiego-3-2-3/2026-12-03/
LOCATION:Strzelnica FSO\, ul. Jagiellońska 88/10\, Warszawa\, 00-992\, Poland
END:VEVENT
BEGIN:VEVENT
DTSTART;TZID=Europe/Warsaw:20261206T100000
DTEND;TZID=Europe/Warsaw:20261206T160000
DTSTAMP:20260419T181818
CREATED:20260107T181314Z
LAST-MODIFIED:20260413T125742Z
UID:10002218-1796551200-1796572800@ksproelia.pl
SUMMARY:Zawody Otwarte KS PROELIA
DESCRIPTION:Zapisy od godz. 10:00 do godz. 15:00\nZawody od godz. 11:00 do godz. 16:00.
URL:https://ksproelia.pl/event/zawody-otwarte-ks-proelia-37/2026-12-06/
LOCATION:Strzelnica FSO\, ul. Jagiellońska 88/10\, Warszawa\, 00-992\, Poland
CATEGORIES:Zawody strzeleckie
END:VEVENT
BEGIN:VEVENT
DTSTART;TZID=Europe/Warsaw:20261210T180000
DTEND;TZID=Europe/Warsaw:20261210T210000
DTSTAMP:20260419T181818
CREATED:20250618T091531Z
LAST-MODIFIED:20250618T091710Z
UID:10001922-1796925600-1796936400@ksproelia.pl
SUMMARY:Spotkania klubu strzeleckiego
DESCRIPTION:
URL:https://ksproelia.pl/event/spotkania-klubu-strzeleckiego-3-2-3/2026-12-10/
LOCATION:Strzelnica FSO\, ul. Jagiellońska 88/10\, Warszawa\, 00-992\, Poland
END:VEVENT
BEGIN:VEVENT
DTSTART;TZID=Europe/Warsaw:20261213T100000
DTEND;TZID=Europe/Warsaw:20261213T160000
DTSTAMP:20260419T181818
CREATED:20260107T181314Z
LAST-MODIFIED:20260413T125742Z
UID:10002219-1797156000-1797177600@ksproelia.pl
SUMMARY:Zawody Otwarte KS PROELIA
DESCRIPTION:Zapisy od godz. 10:00 do godz. 15:00\nZawody od godz. 11:00 do godz. 16:00.
URL:https://ksproelia.pl/event/zawody-otwarte-ks-proelia-37/2026-12-13/
LOCATION:Strzelnica FSO\, ul. Jagiellońska 88/10\, Warszawa\, 00-992\, Poland
CATEGORIES:Zawody strzeleckie
END:VEVENT
END:VCALENDAR