BEGIN:VCALENDAR
VERSION:2.0
PRODID:-//Proelia - ECPv6.5.0//NONSGML v1.0//EN
CALSCALE:GREGORIAN
METHOD:PUBLISH
X-ORIGINAL-URL:https://ksproelia.pl
X-WR-CALDESC:Wydarzenia dla Proelia
REFRESH-INTERVAL;VALUE=DURATION:PT1H
X-Robots-Tag:noindex
X-PUBLISHED-TTL:PT1H
BEGIN:VTIMEZONE
TZID:Europe/Warsaw
BEGIN:DAYLIGHT
TZOFFSETFROM:+0100
TZOFFSETTO:+0200
TZNAME:CEST
DTSTART:20250330T010000
END:DAYLIGHT
BEGIN:STANDARD
TZOFFSETFROM:+0200
TZOFFSETTO:+0100
TZNAME:CET
DTSTART:20251026T010000
END:STANDARD
END:VTIMEZONE
BEGIN:VEVENT
DTSTART;TZID=Europe/Warsaw:20251130T110000
DTEND;TZID=Europe/Warsaw:20251130T160000
DTSTAMP:20260419T213333
CREATED:20250103T133629Z
LAST-MODIFIED:20250103T133629Z
UID:10000530-1764500400-1764518400@ksproelia.pl
SUMMARY:Zawody Otwarte KS PROELIA
DESCRIPTION:
URL:https://ksproelia.pl/event/zawody-otwarte-ks-proelia-30/2025-11-30/
LOCATION:Strzelnica FSO\, ul. Jagiellońska 88/10\, Warszawa\, 00-992\, Poland
CATEGORIES:Zawody strzeleckie
END:VEVENT
BEGIN:VEVENT
DTSTART;VALUE=DATE:20251129
DTEND;VALUE=DATE:20251130
DTSTAMP:20260419T213333
CREATED:20250103T135449Z
LAST-MODIFIED:20250930T103738Z
UID:10000580-1764374400-1764460799@ksproelia.pl
SUMMARY:Egzamin na Patent
DESCRIPTION:
URL:https://ksproelia.pl/event/egzamin-na-patent/2025-11-29/
LOCATION:Strzelnica FSO\, ul. Jagiellońska 88/10\, Warszawa\, 00-992\, Poland
CATEGORIES:Egzaminy na patent strzelecki
END:VEVENT
BEGIN:VEVENT
DTSTART;TZID=Europe/Warsaw:20251127T180000
DTEND;TZID=Europe/Warsaw:20251127T210000
DTSTAMP:20260419T213333
CREATED:20250618T091531Z
LAST-MODIFIED:20250618T091710Z
UID:10001868-1764266400-1764277200@ksproelia.pl
SUMMARY:Spotkania klubu strzeleckiego
DESCRIPTION:
URL:https://ksproelia.pl/event/spotkania-klubu-strzeleckiego-3-2-3/2025-11-27/
LOCATION:Strzelnica FSO\, ul. Jagiellońska 88/10\, Warszawa\, 00-992\, Poland
END:VEVENT
BEGIN:VEVENT
DTSTART;TZID=Europe/Warsaw:20251125T180000
DTEND;TZID=Europe/Warsaw:20251125T210000
DTSTAMP:20260419T213333
CREATED:20250506T175619Z
LAST-MODIFIED:20251031T142917Z
UID:10001810-1764093600-1764104400@ksproelia.pl
SUMMARY:Spotkania klubu strzeleckiego
DESCRIPTION:
URL:https://ksproelia.pl/event/spotkania-klubu-strzeleckiego-3-2-2-2/2025-11-25/
LOCATION:Strzelnica FSO\, ul. Jagiellońska 88/10\, Warszawa\, 00-992\, Poland
END:VEVENT
BEGIN:VEVENT
DTSTART;TZID=Europe/Warsaw:20251123T110000
DTEND;TZID=Europe/Warsaw:20251123T160000
DTSTAMP:20260419T213333
CREATED:20250103T133629Z
LAST-MODIFIED:20250103T133629Z
UID:10000529-1763895600-1763913600@ksproelia.pl
SUMMARY:Zawody Otwarte KS PROELIA
DESCRIPTION:
URL:https://ksproelia.pl/event/zawody-otwarte-ks-proelia-30/2025-11-23/
LOCATION:Strzelnica FSO\, ul. Jagiellońska 88/10\, Warszawa\, 00-992\, Poland
CATEGORIES:Zawody strzeleckie
END:VEVENT
BEGIN:VEVENT
DTSTART;VALUE=DATE:20251122
DTEND;VALUE=DATE:20251124
DTSTAMP:20260419T213333
CREATED:20251031T143102Z
LAST-MODIFIED:20251031T143102Z
UID:10002108-1763769600-1763942399@ksproelia.pl
SUMMARY:Kurs Prowadzącego Strzelanie
DESCRIPTION:
URL:https://ksproelia.pl/event/kurs-prowadzacego-strzelanie-4/
LOCATION:Strzelnica FSO\, ul. Jagiellońska 88/10\, Warszawa\, 00-992\, Poland
END:VEVENT
BEGIN:VEVENT
DTSTART;TZID=Europe/Warsaw:20251120T180000
DTEND;TZID=Europe/Warsaw:20251120T210000
DTSTAMP:20260419T213333
CREATED:20250618T091531Z
LAST-MODIFIED:20250618T091710Z
UID:10001867-1763661600-1763672400@ksproelia.pl
SUMMARY:Spotkania klubu strzeleckiego
DESCRIPTION:
URL:https://ksproelia.pl/event/spotkania-klubu-strzeleckiego-3-2-3/2025-11-20/
LOCATION:Strzelnica FSO\, ul. Jagiellońska 88/10\, Warszawa\, 00-992\, Poland
END:VEVENT
BEGIN:VEVENT
DTSTART;TZID=Europe/Warsaw:20251118T180000
DTEND;TZID=Europe/Warsaw:20251118T210000
DTSTAMP:20260419T213333
CREATED:20250506T175619Z
LAST-MODIFIED:20251031T142917Z
UID:10001809-1763488800-1763499600@ksproelia.pl
SUMMARY:Spotkania klubu strzeleckiego
DESCRIPTION:
URL:https://ksproelia.pl/event/spotkania-klubu-strzeleckiego-3-2-2-2/2025-11-18/
LOCATION:Strzelnica FSO\, ul. Jagiellońska 88/10\, Warszawa\, 00-992\, Poland
END:VEVENT
BEGIN:VEVENT
DTSTART;TZID=Europe/Warsaw:20251116T110000
DTEND;TZID=Europe/Warsaw:20251116T160000
DTSTAMP:20260419T213333
CREATED:20250103T133629Z
LAST-MODIFIED:20250103T133629Z
UID:10000528-1763290800-1763308800@ksproelia.pl
SUMMARY:Zawody Otwarte KS PROELIA
DESCRIPTION:
URL:https://ksproelia.pl/event/zawody-otwarte-ks-proelia-30/2025-11-16/
LOCATION:Strzelnica FSO\, ul. Jagiellońska 88/10\, Warszawa\, 00-992\, Poland
CATEGORIES:Zawody strzeleckie
END:VEVENT
BEGIN:VEVENT
DTSTART;TZID=Europe/Warsaw:20251113T180000
DTEND;TZID=Europe/Warsaw:20251113T210000
DTSTAMP:20260419T213333
CREATED:20250618T091531Z
LAST-MODIFIED:20250618T091710Z
UID:10001866-1763056800-1763067600@ksproelia.pl
SUMMARY:Spotkania klubu strzeleckiego
DESCRIPTION:
URL:https://ksproelia.pl/event/spotkania-klubu-strzeleckiego-3-2-3/2025-11-13/
LOCATION:Strzelnica FSO\, ul. Jagiellońska 88/10\, Warszawa\, 00-992\, Poland
END:VEVENT
BEGIN:VEVENT
DTSTART;TZID=Europe/Warsaw:20251109T110000
DTEND;TZID=Europe/Warsaw:20251109T160000
DTSTAMP:20260419T213333
CREATED:20250103T133629Z
LAST-MODIFIED:20250103T133629Z
UID:10000527-1762686000-1762704000@ksproelia.pl
SUMMARY:Zawody Otwarte KS PROELIA
DESCRIPTION:
URL:https://ksproelia.pl/event/zawody-otwarte-ks-proelia-30/2025-11-09/
LOCATION:Strzelnica FSO\, ul. Jagiellońska 88/10\, Warszawa\, 00-992\, Poland
CATEGORIES:Zawody strzeleckie
END:VEVENT
BEGIN:VEVENT
DTSTART;TZID=Europe/Warsaw:20251106T180000
DTEND;TZID=Europe/Warsaw:20251106T210000
DTSTAMP:20260419T213333
CREATED:20250618T091531Z
LAST-MODIFIED:20250618T091710Z
UID:10001865-1762452000-1762462800@ksproelia.pl
SUMMARY:Spotkania klubu strzeleckiego
DESCRIPTION:
URL:https://ksproelia.pl/event/spotkania-klubu-strzeleckiego-3-2-3/2025-11-06/
LOCATION:Strzelnica FSO\, ul. Jagiellońska 88/10\, Warszawa\, 00-992\, Poland
END:VEVENT
BEGIN:VEVENT
DTSTART;TZID=Europe/Warsaw:20251104T180000
DTEND;TZID=Europe/Warsaw:20251104T210000
DTSTAMP:20260419T213333
CREATED:20250506T175619Z
LAST-MODIFIED:20251031T142917Z
UID:10001807-1762279200-1762290000@ksproelia.pl
SUMMARY:Spotkania klubu strzeleckiego
DESCRIPTION:
URL:https://ksproelia.pl/event/spotkania-klubu-strzeleckiego-3-2-2-2/2025-11-04/
LOCATION:Strzelnica FSO\, ul. Jagiellońska 88/10\, Warszawa\, 00-992\, Poland
END:VEVENT
BEGIN:VEVENT
DTSTART;TZID=Europe/Warsaw:20251102T110000
DTEND;TZID=Europe/Warsaw:20251102T160000
DTSTAMP:20260419T213333
CREATED:20250103T133629Z
LAST-MODIFIED:20250103T133629Z
UID:10000526-1762081200-1762099200@ksproelia.pl
SUMMARY:Zawody Otwarte KS PROELIA
DESCRIPTION:
URL:https://ksproelia.pl/event/zawody-otwarte-ks-proelia-30/2025-11-02/
LOCATION:Strzelnica FSO\, ul. Jagiellońska 88/10\, Warszawa\, 00-992\, Poland
CATEGORIES:Zawody strzeleckie
END:VEVENT
BEGIN:VEVENT
DTSTART;TZID=Europe/Warsaw:20251030T180000
DTEND;TZID=Europe/Warsaw:20251030T210000
DTSTAMP:20260419T213333
CREATED:20250618T091531Z
LAST-MODIFIED:20250618T091710Z
UID:10001864-1761847200-1761858000@ksproelia.pl
SUMMARY:Spotkania klubu strzeleckiego
DESCRIPTION:
URL:https://ksproelia.pl/event/spotkania-klubu-strzeleckiego-3-2-3/2025-10-30/
LOCATION:Strzelnica FSO\, ul. Jagiellońska 88/10\, Warszawa\, 00-992\, Poland
END:VEVENT
BEGIN:VEVENT
DTSTART;TZID=Europe/Warsaw:20251028T180000
DTEND;TZID=Europe/Warsaw:20251028T210000
DTSTAMP:20260419T213333
CREATED:20250506T175619Z
LAST-MODIFIED:20251031T142917Z
UID:10001806-1761674400-1761685200@ksproelia.pl
SUMMARY:Spotkania klubu strzeleckiego
DESCRIPTION:
URL:https://ksproelia.pl/event/spotkania-klubu-strzeleckiego-3-2-2-2/2025-10-28/
LOCATION:Strzelnica FSO\, ul. Jagiellońska 88/10\, Warszawa\, 00-992\, Poland
END:VEVENT
BEGIN:VEVENT
DTSTART;TZID=Europe/Warsaw:20251026T110000
DTEND;TZID=Europe/Warsaw:20251026T160000
DTSTAMP:20260419T213333
CREATED:20250103T133629Z
LAST-MODIFIED:20250103T133629Z
UID:10000525-1761476400-1761494400@ksproelia.pl
SUMMARY:Zawody Otwarte KS PROELIA
DESCRIPTION:
URL:https://ksproelia.pl/event/zawody-otwarte-ks-proelia-30/2025-10-26/
LOCATION:Strzelnica FSO\, ul. Jagiellońska 88/10\, Warszawa\, 00-992\, Poland
CATEGORIES:Zawody strzeleckie
END:VEVENT
BEGIN:VEVENT
DTSTART;TZID=Europe/Warsaw:20251023T180000
DTEND;TZID=Europe/Warsaw:20251023T210000
DTSTAMP:20260419T213333
CREATED:20250618T091531Z
LAST-MODIFIED:20250618T091710Z
UID:10001863-1761242400-1761253200@ksproelia.pl
SUMMARY:Spotkania klubu strzeleckiego
DESCRIPTION:
URL:https://ksproelia.pl/event/spotkania-klubu-strzeleckiego-3-2-3/2025-10-23/
LOCATION:Strzelnica FSO\, ul. Jagiellońska 88/10\, Warszawa\, 00-992\, Poland
END:VEVENT
BEGIN:VEVENT
DTSTART;TZID=Europe/Warsaw:20251021T180000
DTEND;TZID=Europe/Warsaw:20251021T210000
DTSTAMP:20260419T213333
CREATED:20250506T175619Z
LAST-MODIFIED:20251031T142917Z
UID:10001805-1761069600-1761080400@ksproelia.pl
SUMMARY:Spotkania klubu strzeleckiego
DESCRIPTION:
URL:https://ksproelia.pl/event/spotkania-klubu-strzeleckiego-3-2-2-2/2025-10-21/
LOCATION:Strzelnica FSO\, ul. Jagiellońska 88/10\, Warszawa\, 00-992\, Poland
END:VEVENT
BEGIN:VEVENT
DTSTART;TZID=Europe/Warsaw:20251019T110000
DTEND;TZID=Europe/Warsaw:20251019T160000
DTSTAMP:20260419T213333
CREATED:20250103T133629Z
LAST-MODIFIED:20250103T133629Z
UID:10000524-1760871600-1760889600@ksproelia.pl
SUMMARY:Zawody Otwarte KS PROELIA
DESCRIPTION:
URL:https://ksproelia.pl/event/zawody-otwarte-ks-proelia-30/2025-10-19/
LOCATION:Strzelnica FSO\, ul. Jagiellońska 88/10\, Warszawa\, 00-992\, Poland
CATEGORIES:Zawody strzeleckie
END:VEVENT
BEGIN:VEVENT
DTSTART;TZID=Europe/Warsaw:20251016T180000
DTEND;TZID=Europe/Warsaw:20251016T210000
DTSTAMP:20260419T213333
CREATED:20250618T091531Z
LAST-MODIFIED:20250618T091710Z
UID:10001862-1760637600-1760648400@ksproelia.pl
SUMMARY:Spotkania klubu strzeleckiego
DESCRIPTION:
URL:https://ksproelia.pl/event/spotkania-klubu-strzeleckiego-3-2-3/2025-10-16/
LOCATION:Strzelnica FSO\, ul. Jagiellońska 88/10\, Warszawa\, 00-992\, Poland
END:VEVENT
BEGIN:VEVENT
DTSTART;TZID=Europe/Warsaw:20251014T180000
DTEND;TZID=Europe/Warsaw:20251014T210000
DTSTAMP:20260419T213333
CREATED:20250506T175619Z
LAST-MODIFIED:20251031T142917Z
UID:10001804-1760464800-1760475600@ksproelia.pl
SUMMARY:Spotkania klubu strzeleckiego
DESCRIPTION:
URL:https://ksproelia.pl/event/spotkania-klubu-strzeleckiego-3-2-2-2/2025-10-14/
LOCATION:Strzelnica FSO\, ul. Jagiellońska 88/10\, Warszawa\, 00-992\, Poland
END:VEVENT
BEGIN:VEVENT
DTSTART;TZID=Europe/Warsaw:20251012T110000
DTEND;TZID=Europe/Warsaw:20251012T160000
DTSTAMP:20260419T213333
CREATED:20250103T133629Z
LAST-MODIFIED:20250103T133629Z
UID:10000523-1760266800-1760284800@ksproelia.pl
SUMMARY:Zawody Otwarte KS PROELIA
DESCRIPTION:
URL:https://ksproelia.pl/event/zawody-otwarte-ks-proelia-30/2025-10-12/
LOCATION:Strzelnica FSO\, ul. Jagiellońska 88/10\, Warszawa\, 00-992\, Poland
CATEGORIES:Zawody strzeleckie
END:VEVENT
BEGIN:VEVENT
DTSTART;TZID=Europe/Warsaw:20251009T180000
DTEND;TZID=Europe/Warsaw:20251009T210000
DTSTAMP:20260419T213333
CREATED:20250618T091531Z
LAST-MODIFIED:20250618T091710Z
UID:10001861-1760032800-1760043600@ksproelia.pl
SUMMARY:Spotkania klubu strzeleckiego
DESCRIPTION:
URL:https://ksproelia.pl/event/spotkania-klubu-strzeleckiego-3-2-3/2025-10-09/
LOCATION:Strzelnica FSO\, ul. Jagiellońska 88/10\, Warszawa\, 00-992\, Poland
END:VEVENT
BEGIN:VEVENT
DTSTART;TZID=Europe/Warsaw:20251007T180000
DTEND;TZID=Europe/Warsaw:20251007T210000
DTSTAMP:20260419T213333
CREATED:20250506T175619Z
LAST-MODIFIED:20251031T142917Z
UID:10001803-1759860000-1759870800@ksproelia.pl
SUMMARY:Spotkania klubu strzeleckiego
DESCRIPTION:
URL:https://ksproelia.pl/event/spotkania-klubu-strzeleckiego-3-2-2-2/2025-10-07/
LOCATION:Strzelnica FSO\, ul. Jagiellońska 88/10\, Warszawa\, 00-992\, Poland
END:VEVENT
BEGIN:VEVENT
DTSTART;TZID=Europe/Warsaw:20251002T180000
DTEND;TZID=Europe/Warsaw:20251002T210000
DTSTAMP:20260419T213333
CREATED:20250618T091531Z
LAST-MODIFIED:20250618T091710Z
UID:10001860-1759428000-1759438800@ksproelia.pl
SUMMARY:Spotkania klubu strzeleckiego
DESCRIPTION:
URL:https://ksproelia.pl/event/spotkania-klubu-strzeleckiego-3-2-3/2025-10-02/
LOCATION:Strzelnica FSO\, ul. Jagiellońska 88/10\, Warszawa\, 00-992\, Poland
END:VEVENT
BEGIN:VEVENT
DTSTART;TZID=Europe/Warsaw:20250930T180000
DTEND;TZID=Europe/Warsaw:20250930T210000
DTSTAMP:20260419T213333
CREATED:20250506T175619Z
LAST-MODIFIED:20251031T142917Z
UID:10001802-1759255200-1759266000@ksproelia.pl
SUMMARY:Spotkania klubu strzeleckiego
DESCRIPTION:
URL:https://ksproelia.pl/event/spotkania-klubu-strzeleckiego-3-2-2-2/2025-09-30/
LOCATION:Strzelnica FSO\, ul. Jagiellońska 88/10\, Warszawa\, 00-992\, Poland
END:VEVENT
BEGIN:VEVENT
DTSTART;TZID=Europe/Warsaw:20250928T100000
DTEND;TZID=Europe/Warsaw:20250928T150000
DTSTAMP:20260419T213333
CREATED:20240309T122956Z
LAST-MODIFIED:20250103T134016Z
UID:10000536-1759053600-1759071600@ksproelia.pl
SUMMARY:Zawody Strzeleckie o Puchar Prezesa KS PROELIA
DESCRIPTION:
URL:https://ksproelia.pl/event/zawody-strzeleckie-o-puchar-prezesa-ks-proelia-4/2025-09-28/
LOCATION:Strzelnica FSO\, ul. Jagiellońska 88/10\, Warszawa\, 00-992\, Poland
CATEGORIES:Zawody strzeleckie
END:VEVENT
BEGIN:VEVENT
DTSTART;VALUE=DATE:20250927
DTEND;VALUE=DATE:20250928
DTSTAMP:20260419T213333
CREATED:20250103T135449Z
LAST-MODIFIED:20250930T103738Z
UID:10000578-1758931200-1759017599@ksproelia.pl
SUMMARY:Egzamin na Patent
DESCRIPTION:
URL:https://ksproelia.pl/event/egzamin-na-patent/2025-09-27/
LOCATION:Strzelnica FSO\, ul. Jagiellońska 88/10\, Warszawa\, 00-992\, Poland
CATEGORIES:Egzaminy na patent strzelecki
END:VEVENT
BEGIN:VEVENT
DTSTART;TZID=Europe/Warsaw:20250925T180000
DTEND;TZID=Europe/Warsaw:20250925T210000
DTSTAMP:20260419T213333
CREATED:20250618T091531Z
LAST-MODIFIED:20250618T091710Z
UID:10001859-1758823200-1758834000@ksproelia.pl
SUMMARY:Spotkania klubu strzeleckiego
DESCRIPTION:
URL:https://ksproelia.pl/event/spotkania-klubu-strzeleckiego-3-2-3/2025-09-25/
LOCATION:Strzelnica FSO\, ul. Jagiellońska 88/10\, Warszawa\, 00-992\, Poland
END:VEVENT
END:VCALENDAR