BEGIN:VCALENDAR
VERSION:2.0
PRODID:-//Proelia - ECPv6.5.0//NONSGML v1.0//EN
CALSCALE:GREGORIAN
METHOD:PUBLISH
X-ORIGINAL-URL:https://ksproelia.pl
X-WR-CALDESC:Wydarzenia dla Proelia
REFRESH-INTERVAL;VALUE=DURATION:PT1H
X-Robots-Tag:noindex
X-PUBLISHED-TTL:PT1H
BEGIN:VTIMEZONE
TZID:Europe/Warsaw
BEGIN:DAYLIGHT
TZOFFSETFROM:+0100
TZOFFSETTO:+0200
TZNAME:CEST
DTSTART:20250330T010000
END:DAYLIGHT
BEGIN:STANDARD
TZOFFSETFROM:+0200
TZOFFSETTO:+0100
TZNAME:CET
DTSTART:20251026T010000
END:STANDARD
END:VTIMEZONE
BEGIN:VEVENT
DTSTART;TZID=Europe/Warsaw:20250904T180000
DTEND;TZID=Europe/Warsaw:20250904T210000
DTSTAMP:20260420T022153
CREATED:20250618T091531Z
LAST-MODIFIED:20250618T091710Z
UID:10001856-1757008800-1757019600@ksproelia.pl
SUMMARY:Spotkania klubu strzeleckiego
DESCRIPTION:
URL:https://ksproelia.pl/event/spotkania-klubu-strzeleckiego-3-2-3/2025-09-04/
LOCATION:Strzelnica FSO\, ul. Jagiellońska 88/10\, Warszawa\, 00-992\, Poland
END:VEVENT
BEGIN:VEVENT
DTSTART;TZID=Europe/Warsaw:20250902T180000
DTEND;TZID=Europe/Warsaw:20250902T210000
DTSTAMP:20260420T022153
CREATED:20250506T175619Z
LAST-MODIFIED:20251031T142917Z
UID:10001798-1756836000-1756846800@ksproelia.pl
SUMMARY:Spotkania klubu strzeleckiego
DESCRIPTION:
URL:https://ksproelia.pl/event/spotkania-klubu-strzeleckiego-3-2-2-2/2025-09-02/
LOCATION:Strzelnica FSO\, ul. Jagiellońska 88/10\, Warszawa\, 00-992\, Poland
END:VEVENT
BEGIN:VEVENT
DTSTART;TZID=Europe/Warsaw:20250831T110000
DTEND;TZID=Europe/Warsaw:20250831T160000
DTSTAMP:20260420T022153
CREATED:20250103T133447Z
LAST-MODIFIED:20250103T133447Z
UID:10000516-1756638000-1756656000@ksproelia.pl
SUMMARY:Zawody Otwarte KS PROELIA
DESCRIPTION:
URL:https://ksproelia.pl/event/zawody-otwarte-ks-proelia-28/
LOCATION:Strzelnica FSO\, ul. Jagiellońska 88/10\, Warszawa\, 00-992\, Poland
CATEGORIES:Zawody strzeleckie
END:VEVENT
BEGIN:VEVENT
DTSTART;VALUE=DATE:20250830
DTEND;VALUE=DATE:20250831
DTSTAMP:20260420T022153
CREATED:20250103T135449Z
LAST-MODIFIED:20250930T103738Z
UID:10000577-1756512000-1756598399@ksproelia.pl
SUMMARY:Egzamin na Patent
DESCRIPTION:
URL:https://ksproelia.pl/event/egzamin-na-patent/2025-08-30/
LOCATION:Strzelnica FSO\, ul. Jagiellońska 88/10\, Warszawa\, 00-992\, Poland
CATEGORIES:Egzaminy na patent strzelecki
END:VEVENT
BEGIN:VEVENT
DTSTART;TZID=Europe/Warsaw:20250828T180000
DTEND;TZID=Europe/Warsaw:20250828T210000
DTSTAMP:20260420T022153
CREATED:20250618T091531Z
LAST-MODIFIED:20250618T091710Z
UID:10001855-1756404000-1756414800@ksproelia.pl
SUMMARY:Spotkania klubu strzeleckiego
DESCRIPTION:
URL:https://ksproelia.pl/event/spotkania-klubu-strzeleckiego-3-2-3/2025-08-28/
LOCATION:Strzelnica FSO\, ul. Jagiellońska 88/10\, Warszawa\, 00-992\, Poland
END:VEVENT
BEGIN:VEVENT
DTSTART;TZID=Europe/Warsaw:20250826T180000
DTEND;TZID=Europe/Warsaw:20250826T210000
DTSTAMP:20260420T022153
CREATED:20250506T175619Z
LAST-MODIFIED:20251031T142917Z
UID:10001797-1756231200-1756242000@ksproelia.pl
SUMMARY:Spotkania klubu strzeleckiego
DESCRIPTION:
URL:https://ksproelia.pl/event/spotkania-klubu-strzeleckiego-3-2-2-2/2025-08-26/
LOCATION:Strzelnica FSO\, ul. Jagiellońska 88/10\, Warszawa\, 00-992\, Poland
END:VEVENT
BEGIN:VEVENT
DTSTART;TZID=Europe/Warsaw:20250821T180000
DTEND;TZID=Europe/Warsaw:20250821T210000
DTSTAMP:20260420T022153
CREATED:20250618T091531Z
LAST-MODIFIED:20250618T091710Z
UID:10001854-1755799200-1755810000@ksproelia.pl
SUMMARY:Spotkania klubu strzeleckiego
DESCRIPTION:
URL:https://ksproelia.pl/event/spotkania-klubu-strzeleckiego-3-2-3/2025-08-21/
LOCATION:Strzelnica FSO\, ul. Jagiellońska 88/10\, Warszawa\, 00-992\, Poland
END:VEVENT
BEGIN:VEVENT
DTSTART;TZID=Europe/Warsaw:20250819T180000
DTEND;TZID=Europe/Warsaw:20250819T210000
DTSTAMP:20260420T022153
CREATED:20250506T175619Z
LAST-MODIFIED:20251031T142917Z
UID:10001796-1755626400-1755637200@ksproelia.pl
SUMMARY:Spotkania klubu strzeleckiego
DESCRIPTION:
URL:https://ksproelia.pl/event/spotkania-klubu-strzeleckiego-3-2-2-2/2025-08-19/
LOCATION:Strzelnica FSO\, ul. Jagiellońska 88/10\, Warszawa\, 00-992\, Poland
END:VEVENT
BEGIN:VEVENT
DTSTART;TZID=Europe/Warsaw:20250814T180000
DTEND;TZID=Europe/Warsaw:20250814T210000
DTSTAMP:20260420T022153
CREATED:20250618T091531Z
LAST-MODIFIED:20250618T091710Z
UID:10001853-1755194400-1755205200@ksproelia.pl
SUMMARY:Spotkania klubu strzeleckiego
DESCRIPTION:
URL:https://ksproelia.pl/event/spotkania-klubu-strzeleckiego-3-2-3/2025-08-14/
LOCATION:Strzelnica FSO\, ul. Jagiellońska 88/10\, Warszawa\, 00-992\, Poland
END:VEVENT
BEGIN:VEVENT
DTSTART;TZID=Europe/Warsaw:20250812T180000
DTEND;TZID=Europe/Warsaw:20250812T210000
DTSTAMP:20260420T022153
CREATED:20250506T175619Z
LAST-MODIFIED:20251031T142917Z
UID:10001795-1755021600-1755032400@ksproelia.pl
SUMMARY:Spotkania klubu strzeleckiego
DESCRIPTION:
URL:https://ksproelia.pl/event/spotkania-klubu-strzeleckiego-3-2-2-2/2025-08-12/
LOCATION:Strzelnica FSO\, ul. Jagiellońska 88/10\, Warszawa\, 00-992\, Poland
END:VEVENT
BEGIN:VEVENT
DTSTART;TZID=Europe/Warsaw:20250807T180000
DTEND;TZID=Europe/Warsaw:20250807T210000
DTSTAMP:20260420T022153
CREATED:20250618T091531Z
LAST-MODIFIED:20250618T091710Z
UID:10001852-1754589600-1754600400@ksproelia.pl
SUMMARY:Spotkania klubu strzeleckiego
DESCRIPTION:
URL:https://ksproelia.pl/event/spotkania-klubu-strzeleckiego-3-2-3/2025-08-07/
LOCATION:Strzelnica FSO\, ul. Jagiellońska 88/10\, Warszawa\, 00-992\, Poland
END:VEVENT
BEGIN:VEVENT
DTSTART;TZID=Europe/Warsaw:20250805T180000
DTEND;TZID=Europe/Warsaw:20250805T210000
DTSTAMP:20260420T022153
CREATED:20250506T175619Z
LAST-MODIFIED:20251031T142917Z
UID:10001794-1754416800-1754427600@ksproelia.pl
SUMMARY:Spotkania klubu strzeleckiego
DESCRIPTION:
URL:https://ksproelia.pl/event/spotkania-klubu-strzeleckiego-3-2-2-2/2025-08-05/
LOCATION:Strzelnica FSO\, ul. Jagiellońska 88/10\, Warszawa\, 00-992\, Poland
END:VEVENT
BEGIN:VEVENT
DTSTART;TZID=Europe/Warsaw:20250731T180000
DTEND;TZID=Europe/Warsaw:20250731T210000
DTSTAMP:20260420T022153
CREATED:20250618T091531Z
LAST-MODIFIED:20250618T091710Z
UID:10001851-1753984800-1753995600@ksproelia.pl
SUMMARY:Spotkania klubu strzeleckiego
DESCRIPTION:
URL:https://ksproelia.pl/event/spotkania-klubu-strzeleckiego-3-2-3/2025-07-31/
LOCATION:Strzelnica FSO\, ul. Jagiellońska 88/10\, Warszawa\, 00-992\, Poland
END:VEVENT
BEGIN:VEVENT
DTSTART;TZID=Europe/Warsaw:20250729T180000
DTEND;TZID=Europe/Warsaw:20250729T210000
DTSTAMP:20260420T022153
CREATED:20250506T175619Z
LAST-MODIFIED:20251031T142917Z
UID:10001793-1753812000-1753822800@ksproelia.pl
SUMMARY:Spotkania klubu strzeleckiego
DESCRIPTION:
URL:https://ksproelia.pl/event/spotkania-klubu-strzeleckiego-3-2-2-2/2025-07-29/
LOCATION:Strzelnica FSO\, ul. Jagiellońska 88/10\, Warszawa\, 00-992\, Poland
END:VEVENT
BEGIN:VEVENT
DTSTART;TZID=Europe/Warsaw:20250727T110000
DTEND;TZID=Europe/Warsaw:20250727T160000
DTSTAMP:20260420T022153
CREATED:20250103T133419Z
LAST-MODIFIED:20250103T133419Z
UID:10000515-1753614000-1753632000@ksproelia.pl
SUMMARY:Zawody Otwarte KS PROELIA
DESCRIPTION:
URL:https://ksproelia.pl/event/zawody-otwarte-ks-proelia-27/
LOCATION:Strzelnica FSO\, ul. Jagiellońska 88/10\, Warszawa\, 00-992\, Poland
CATEGORIES:Zawody strzeleckie
END:VEVENT
BEGIN:VEVENT
DTSTART;VALUE=DATE:20250726
DTEND;VALUE=DATE:20250727
DTSTAMP:20260420T022153
CREATED:20250725T070747Z
LAST-MODIFIED:20250725T070748Z
UID:10000576-1753488000-1753574399@ksproelia.pl
SUMMARY:Egzamin na Patent - ODWOŁANY
DESCRIPTION:
URL:https://ksproelia.pl/event/egzamin-na-patent-3/
LOCATION:Strzelnica FSO\, ul. Jagiellońska 88/10\, Warszawa\, 00-992\, Poland
CATEGORIES:Egzaminy na patent strzelecki
END:VEVENT
BEGIN:VEVENT
DTSTART;VALUE=DATE:20250726
DTEND;VALUE=DATE:20250727
DTSTAMP:20260420T022153
CREATED:20250103T135449Z
LAST-MODIFIED:20250930T103738Z
UID:10002107-1753488000-1753574399@ksproelia.pl
SUMMARY:Egzamin na Patent
DESCRIPTION:
URL:https://ksproelia.pl/event/egzamin-na-patent/2025-07-26/
LOCATION:Strzelnica FSO\, ul. Jagiellońska 88/10\, Warszawa\, 00-992\, Poland
CATEGORIES:Egzaminy na patent strzelecki
END:VEVENT
BEGIN:VEVENT
DTSTART;TZID=Europe/Warsaw:20250724T180000
DTEND;TZID=Europe/Warsaw:20250724T210000
DTSTAMP:20260420T022153
CREATED:20250618T091531Z
LAST-MODIFIED:20250618T091710Z
UID:10001850-1753380000-1753390800@ksproelia.pl
SUMMARY:Spotkania klubu strzeleckiego
DESCRIPTION:
URL:https://ksproelia.pl/event/spotkania-klubu-strzeleckiego-3-2-3/2025-07-24/
LOCATION:Strzelnica FSO\, ul. Jagiellońska 88/10\, Warszawa\, 00-992\, Poland
END:VEVENT
BEGIN:VEVENT
DTSTART;TZID=Europe/Warsaw:20250722T180000
DTEND;TZID=Europe/Warsaw:20250722T210000
DTSTAMP:20260420T022153
CREATED:20250506T175619Z
LAST-MODIFIED:20251031T142917Z
UID:10001792-1753207200-1753218000@ksproelia.pl
SUMMARY:Spotkania klubu strzeleckiego
DESCRIPTION:
URL:https://ksproelia.pl/event/spotkania-klubu-strzeleckiego-3-2-2-2/2025-07-22/
LOCATION:Strzelnica FSO\, ul. Jagiellońska 88/10\, Warszawa\, 00-992\, Poland
END:VEVENT
BEGIN:VEVENT
DTSTART;VALUE=DATE:20250719
DTEND;VALUE=DATE:20250721
DTSTAMP:20260420T022153
CREATED:20250625T043638Z
LAST-MODIFIED:20250625T043638Z
UID:10002106-1752883200-1753055999@ksproelia.pl
SUMMARY:Kurs Prowadzącego Strzelanie
DESCRIPTION:
URL:https://ksproelia.pl/event/kurs-prowadzacego-strzelanie-3/
LOCATION:Strzelnica FSO\, ul. Jagiellońska 88/10\, Warszawa\, 00-992\, Poland
END:VEVENT
BEGIN:VEVENT
DTSTART;TZID=Europe/Warsaw:20250717T180000
DTEND;TZID=Europe/Warsaw:20250717T210000
DTSTAMP:20260420T022153
CREATED:20250618T091531Z
LAST-MODIFIED:20250618T091710Z
UID:10001849-1752775200-1752786000@ksproelia.pl
SUMMARY:Spotkania klubu strzeleckiego
DESCRIPTION:
URL:https://ksproelia.pl/event/spotkania-klubu-strzeleckiego-3-2-3/2025-07-17/
LOCATION:Strzelnica FSO\, ul. Jagiellońska 88/10\, Warszawa\, 00-992\, Poland
END:VEVENT
BEGIN:VEVENT
DTSTART;TZID=Europe/Warsaw:20250715T180000
DTEND;TZID=Europe/Warsaw:20250715T210000
DTSTAMP:20260420T022153
CREATED:20250506T175619Z
LAST-MODIFIED:20251031T142917Z
UID:10001791-1752602400-1752613200@ksproelia.pl
SUMMARY:Spotkania klubu strzeleckiego
DESCRIPTION:
URL:https://ksproelia.pl/event/spotkania-klubu-strzeleckiego-3-2-2-2/2025-07-15/
LOCATION:Strzelnica FSO\, ul. Jagiellońska 88/10\, Warszawa\, 00-992\, Poland
END:VEVENT
BEGIN:VEVENT
DTSTART;TZID=Europe/Warsaw:20250710T180000
DTEND;TZID=Europe/Warsaw:20250710T210000
DTSTAMP:20260420T022153
CREATED:20250618T091531Z
LAST-MODIFIED:20250618T091710Z
UID:10001848-1752170400-1752181200@ksproelia.pl
SUMMARY:Spotkania klubu strzeleckiego
DESCRIPTION:
URL:https://ksproelia.pl/event/spotkania-klubu-strzeleckiego-3-2-3/2025-07-10/
LOCATION:Strzelnica FSO\, ul. Jagiellońska 88/10\, Warszawa\, 00-992\, Poland
END:VEVENT
BEGIN:VEVENT
DTSTART;TZID=Europe/Warsaw:20250708T180000
DTEND;TZID=Europe/Warsaw:20250708T210000
DTSTAMP:20260420T022153
CREATED:20250506T175619Z
LAST-MODIFIED:20251031T142917Z
UID:10001790-1751997600-1752008400@ksproelia.pl
SUMMARY:Spotkania klubu strzeleckiego
DESCRIPTION:
URL:https://ksproelia.pl/event/spotkania-klubu-strzeleckiego-3-2-2-2/2025-07-08/
LOCATION:Strzelnica FSO\, ul. Jagiellońska 88/10\, Warszawa\, 00-992\, Poland
END:VEVENT
BEGIN:VEVENT
DTSTART;TZID=Europe/Warsaw:20250703T180000
DTEND;TZID=Europe/Warsaw:20250703T210000
DTSTAMP:20260420T022153
CREATED:20250618T091531Z
LAST-MODIFIED:20250618T091710Z
UID:10001847-1751565600-1751576400@ksproelia.pl
SUMMARY:Spotkania klubu strzeleckiego
DESCRIPTION:
URL:https://ksproelia.pl/event/spotkania-klubu-strzeleckiego-3-2-3/2025-07-03/
LOCATION:Strzelnica FSO\, ul. Jagiellońska 88/10\, Warszawa\, 00-992\, Poland
END:VEVENT
BEGIN:VEVENT
DTSTART;TZID=Europe/Warsaw:20250701T180000
DTEND;TZID=Europe/Warsaw:20250701T210000
DTSTAMP:20260420T022153
CREATED:20250506T175619Z
LAST-MODIFIED:20251031T142917Z
UID:10001789-1751392800-1751403600@ksproelia.pl
SUMMARY:Spotkania klubu strzeleckiego
DESCRIPTION:
URL:https://ksproelia.pl/event/spotkania-klubu-strzeleckiego-3-2-2-2/2025-07-01/
LOCATION:Strzelnica FSO\, ul. Jagiellońska 88/10\, Warszawa\, 00-992\, Poland
END:VEVENT
BEGIN:VEVENT
DTSTART;TZID=Europe/Warsaw:20250629T100000
DTEND;TZID=Europe/Warsaw:20250629T150000
DTSTAMP:20260420T022153
CREATED:20240309T122956Z
LAST-MODIFIED:20250103T134016Z
UID:10000535-1751191200-1751209200@ksproelia.pl
SUMMARY:Zawody Strzeleckie o Puchar Prezesa KS PROELIA
DESCRIPTION:
URL:https://ksproelia.pl/event/zawody-strzeleckie-o-puchar-prezesa-ks-proelia-4/2025-06-29/
LOCATION:Strzelnica FSO\, ul. Jagiellońska 88/10\, Warszawa\, 00-992\, Poland
CATEGORIES:Zawody strzeleckie
END:VEVENT
BEGIN:VEVENT
DTSTART;VALUE=DATE:20250628
DTEND;VALUE=DATE:20250629
DTSTAMP:20260420T022153
CREATED:20250103T135449Z
LAST-MODIFIED:20250930T103738Z
UID:10000575-1751068800-1751155199@ksproelia.pl
SUMMARY:Egzamin na Patent
DESCRIPTION:
URL:https://ksproelia.pl/event/egzamin-na-patent/2025-06-28/
LOCATION:Strzelnica FSO\, ul. Jagiellońska 88/10\, Warszawa\, 00-992\, Poland
CATEGORIES:Egzaminy na patent strzelecki
END:VEVENT
BEGIN:VEVENT
DTSTART;TZID=Europe/Warsaw:20250626T180000
DTEND;TZID=Europe/Warsaw:20250626T210000
DTSTAMP:20260420T022153
CREATED:20250618T091531Z
LAST-MODIFIED:20250618T091710Z
UID:10001846-1750960800-1750971600@ksproelia.pl
SUMMARY:Spotkania klubu strzeleckiego
DESCRIPTION:
URL:https://ksproelia.pl/event/spotkania-klubu-strzeleckiego-3-2-3/2025-06-26/
LOCATION:Strzelnica FSO\, ul. Jagiellońska 88/10\, Warszawa\, 00-992\, Poland
END:VEVENT
BEGIN:VEVENT
DTSTART;TZID=Europe/Warsaw:20250624T180000
DTEND;TZID=Europe/Warsaw:20250624T210000
DTSTAMP:20260420T022153
CREATED:20250506T175619Z
LAST-MODIFIED:20251031T142917Z
UID:10001788-1750788000-1750798800@ksproelia.pl
SUMMARY:Spotkania klubu strzeleckiego
DESCRIPTION:
URL:https://ksproelia.pl/event/spotkania-klubu-strzeleckiego-3-2-2-2/2025-06-24/
LOCATION:Strzelnica FSO\, ul. Jagiellońska 88/10\, Warszawa\, 00-992\, Poland
END:VEVENT
END:VCALENDAR